BEGIN:VCALENDAR
VERSION:2.0
PRODID:-//Ινστιτούτο Νίκος Πουλαντζάς - ECPv6.15.4//NONSGML v1.0//EN
CALSCALE:GREGORIAN
METHOD:PUBLISH
X-WR-CALNAME:Ινστιτούτο Νίκος Πουλαντζάς
X-ORIGINAL-URL:https://poulantzas.gr
X-WR-CALDESC:Events for Ινστιτούτο Νίκος Πουλαντζάς
REFRESH-INTERVAL;VALUE=DURATION:PT1H
X-Robots-Tag:noindex
X-PUBLISHED-TTL:PT1H
BEGIN:VTIMEZONE
TZID:Europe/Athens
BEGIN:DAYLIGHT
TZOFFSETFROM:+0200
TZOFFSETTO:+0300
TZNAME:EEST
DTSTART:20230326T010000
END:DAYLIGHT
BEGIN:STANDARD
TZOFFSETFROM:+0300
TZOFFSETTO:+0200
TZNAME:EET
DTSTART:20231029T010000
END:STANDARD
END:VTIMEZONE
BEGIN:VEVENT
DTSTART;TZID=Europe/Athens:20231127T183000
DTEND;TZID=Europe/Athens:20231127T210000
DTSTAMP:20260422T235340
CREATED:20231121T160427Z
LAST-MODIFIED:20250908T115916Z
UID:8875-1701109800-1701118800@poulantzas.gr
SUMMARY:Αντιδιανοουμενισμός ή το μίσος για την επιστήμη & τη θεωρία: Πολιτικές & κοινωνικές προεκτάσεις
DESCRIPTION:Το Ινστιτούτο Νίκος Πουλαντζάς διοργανώνει εκδήλωση/συζήτηση με θέμα “Αντιδιανοουμενισμός ή το μίσος για την επιστήμη και τη θεωρία: Πολιτικές και κοινωνικές προεκτάσεις” τη Δευτέρα 27 Νοεμβρίου 2023 και ώρα 18.30 στον Πολυχώρο Σπούτνικ (Κεραμεικού 46 & Μυλλέρου\, Μεταξουργείο). \nΣτην εκδήλωση\, με την οποία εγκαινιάζεται σειρά εκδηλώσεων με τίτλο “Πλευρές της σύγχρονης πολιτικής και κοινωνικής κρίσης”\, θα μιλήσουν οι:\n– Γρηγόρης Γεροτζιάφας | διευθυντής του Ερευνητικού Τμήματος «Cancer\, Vessels\, Biology and Therapeutics» INSERM U938\, καθηγητής Αιματολογίας στο Πανεπιστημιακό Ινστιτούτο Ογκολογίας του Πανεπιστημίου της Σορβόννης\,\n– Κώστας Δουζίνας | καθηγητής Νομικής και Πολιτικής Φιλοσοφίας στο Κολέγιο Birkbeck του Πανεπιστημίου του Λονδίνου\, πρόεδρος του Ινστιτούτου Νίκος Πουλαντζάς\,\n– Δανάη Κολτσίδα | νομικός και πολιτική επιστήμονας\, διευθύντρια του Ινστιτούτου Νίκος Πουλαντζάς\, αντιπρόεδρος του δικτύου transform! Europe και\n– Άρης Στυλιανού | καθηγητής Πολιτικής Φιλοσοφίας στο Τμήμα Πολιτικών Επιστημών του Αριστοτελείου Πανεπιστημίου Θεσσαλονίκης. \nΗ εκδήλωση θα μεταδοθεί και μέσω του καναλιού του ΙΝΠ στο YouTube (https://www.youtube.com/@user-tu5dl6oj2f).
URL:https://poulantzas.gr/event/antidianooumenismos-i-to-misos-gia-tin-epistimi-ti-theoria-politikes-koinonikes-proektaseis/
ATTACH;FMTTYPE=image/png:https://poulantzas.gr/wp-content/uploads/2023/11/story-1-1.png
END:VEVENT
BEGIN:VEVENT
DTSTART;TZID=Europe/Athens:20231129T183000
DTEND;TZID=Europe/Athens:20231129T210000
DTSTAMP:20260422T235340
CREATED:20231116T135830Z
LAST-MODIFIED:20250908T115835Z
UID:8867-1701282600-1701291600@poulantzas.gr
SUMMARY:Παρουσίαση του βιβλίου του Δ. Παπανικολόπουλου "Οι Millenials στον δρόμο. Ο ρόλος των γενεών στα κινήματα της σύγχρονης Ελλάδας"
DESCRIPTION:Το Ινστιτούτο Νίκος Πουλαντζάς και οι εκδόσεις Θεμέλιο σας προσκαλούν στην παρουσίαση του βιβλίου του Δημήτρη Παπανικολόπουλου \nΟι Millenials στον δρόμο. Ο ρόλος των γενεών στα κινήματα της σύγχρονης Ελλάδας \n  \nΓια το βιβλίο θα μιλήσουν οι: \n\nΜάρω Παντελίδου-Μαλούτα\, ομότιμη καθηγήτρια Πολιτικής Επιστήμης\, ΕΚΠΑ και\nΚώστας Γούσης\, συντονιστής του ερευνητικού προγράμματος του ινστιτούτου Eteron “Youth – Voice On”.\n\n\nΤην εκδήλωση θα συντονίσει ο Χρήστος Αβραμίδης\, δημοσιογράφος και υποψήφιος διδάκτορας Πολιτικής Επιστήμης στο Πάντειο Πανεπιστήμιο. \n  \nΠερισσότερα για το βιβλίο: \nΤο βιβλίο του Δημήτρη Παπανικολόπουλου Οι Millenials στον δρόμο. Ο ρόλος των γενεών στα σύγχρονα κινήματα (ΙΝΠ/Θεμέλιο\, 2023) φιλοδοξεί να συμβάλει στη συζήτηση για το ρόλο των γενεών στην πολιτική και\, πιο συγκεκριμένα\, στην κινηματική δράση. Πώς αλληλεπιδρούν οι ιστορικές συνθήκες\, τα κοινωνικά κινήματα και οι γενιές; Και πώς τεκμηριώνεται και ερμηνεύεται ο πρωταγωνιστικός ρόλος των νέων στα κοινωνικά κινήματα;\n\nΜε αυτά τα ερωτήματα ξεκινά η μελέτη\, η οποία όμως εστιάζει στη γενιά των Millennials\, η οποία ηγήθηκε των αγώνων ενάντια στη νεοφιλελεύθερη επέλαση των δύο πρώτων δεκαετιών του 21ου αιώνα και τη συγκρίνει με τις προηγούμενες γενιές. Για το σκοπό αυτό\, εντοπίζονται και αναλύονται οι διαγενεακές διαφορές σε τέσσερις τομείς: Α) κοινωνικό προφίλ\, αιτήματα και τύπος στράτευσης\, Β) μορφές δράσης και χρήση ψηφιακών μέσων\, Γ) οργανωτικές πρακτικές\, ηγετικοί ρόλοι\, καταμερισμός εργασιών και αντιλήψεις περί συμμαχιών\, και Δ) πολιτική ατζέντα και γλώσσα.\n\nΤο βασικό ερώτημα\, επομένως\, με το οποίο αναμετράται η μελέτη είναι σε ποιο βαθμό οι Millennials άλλαξαν τα δεδομένα στο πεδίο των κοινωνικών κινημάτων στην Ελλάδα\, αλλά και πώς\, με τη σειρά της\, η κινηματική δράση επηρεάζει τη συγκρότηση και την πολιτικοποίησή των γενεών\, καθώς και τη ζωή και τις απόψεις των ατόμων.
URL:https://poulantzas.gr/event/parousiasi-tou-vivliou-tou-d-papanikolopoulou-oi-millenials-ston-dromo-o-rolos-ton-geneon-sta-kinimata-tis-sygchronis-elladas/
ATTACH;FMTTYPE=image/jpeg:https://poulantzas.gr/wp-content/uploads/2023/11/story-1.jpg
END:VEVENT
END:VCALENDAR