BEGIN:VCALENDAR
VERSION:2.0
PRODID:-//Ινστιτούτο Νίκος Πουλαντζάς - ECPv6.15.4//NONSGML v1.0//EN
CALSCALE:GREGORIAN
METHOD:PUBLISH
X-ORIGINAL-URL:https://poulantzas.gr
X-WR-CALDESC:Events for Ινστιτούτο Νίκος Πουλαντζάς
REFRESH-INTERVAL;VALUE=DURATION:PT1H
X-Robots-Tag:noindex
X-PUBLISHED-TTL:PT1H
BEGIN:VTIMEZONE
TZID:Europe/Athens
BEGIN:DAYLIGHT
TZOFFSETFROM:+0200
TZOFFSETTO:+0300
TZNAME:EEST
DTSTART:20230326T010000
END:DAYLIGHT
BEGIN:STANDARD
TZOFFSETFROM:+0300
TZOFFSETTO:+0200
TZNAME:EET
DTSTART:20231029T010000
END:STANDARD
END:VTIMEZONE
BEGIN:VEVENT
DTSTART;TZID=Europe/Athens:20230912T190000
DTEND;TZID=Europe/Athens:20230912T220000
DTSTAMP:20260423T024417
CREATED:20230905T130242Z
LAST-MODIFIED:20250908T120318Z
UID:8755-1694545200-1694556000@poulantzas.gr
SUMMARY:Παρουσίαση της έκθεσης του Ινστιτούτου Νίκος Πουλαντζάς | Σχεδιάζοντας για όλες: Η οπτική του φύλου στον χώρο της ελληνικής πόλης
DESCRIPTION:Το Ινστιτούτο Νίκος Πουλαντζάς παρουσιάζει την Τρίτη 12 Σεπτεμβρίου 2023 και ώρα 19.00 στον Σύλλογο Ελλήνων Αρχαιολόγων (Ερμού 134) την έκθεση Σχεδιάζοντας για όλες: Η οπτική του φύλου στον χώρο της ελληνικής πόλης\, την οποία συνέγραψαν οι Φοίβος Καλλίτσης\, Πολίνα Πρέντου και η ομάδα Urbana (Εύα Γρηγοριάδου\, Μαριτίνα Βλαχάκη\, Πηνελόπη Αλεξίου\, Δήμητρα Αξαρλή)\, με επιστημονική σύμβουλο την Ντίνα Βαΐου. \n  \nΟι κινητοποιήσεις των φεμινιστριών παγκοσμίως έχουν φέρει στη δημόσια συζήτηση μια σειρά από προβλήματα που αντιμετωπίζουν οι γυναίκες και έμφυλες υποκειμενικότητες και την ανάγκη για επίλυση τους. Έτσι\, αρκετά από τα αιτήματά τους\, όπως αυτά που αφορούν κατά κύριο λόγο την έμφυλη βία\, την άμισθη εργασία φροντίδας των γυναικών και την ισότητα στην αγορά εργασίας\, είναι πλέον ευρέως διαδεδομένα. Μια λιγότερο προβεβλημένη\, αντίθετα\, αν και προφανής\, πτυχή της καθημερινής ζωής που επηρεάζεται από το κοινωνικό φύλο είναι αυτή της ζωής στα αστικά κέντρα. Η έκθεση του ΙΝΠ καταγράφει τους τρόπους με τους οποίους οι πόλεις συχνά δυσκολεύουν την καθημερινή ζωή των γυναικών και των έμφυλων υποκειμενικοτήτων\, κυρίως λόγω του γεγονότος ότι ο σχεδιασμός έχει γίνει ερήμην τους και άρα χωρίς να λαμβάνονται υπόψη οι διαφορετικές ανάγκες τους. \nΜια πληθώρα παραδειγμάτων τεκμηριώνει το γεγονός ότι ο χώρος της πόλης δεν είναι ουδέτερος ως προς το φύλο\, και η έκθεση προτείνει τρόπους με τους οποίους οι πόλεις μπορούν να σχεδιαστούν -ξανά- για όλες\, όλους και όλα. Χαρακτηριστικό παράδειγμα\, που αναλύεται στην έκθεση\, αποτελεί ο σχεδιασμός των δρομολογίων της δημόσιας συγκοινωνίας\, ο οποίος παραγνωρίζει την εργασία φροντίδας και την οικιακή εργασία που προσφέρουν κυρίως οι γυναίκες και τις διαφορετικές ανάγκες μετακίνησης που προκύπτουν από αυτή. Οι γυναίκες αποτελούν την πλειοψηφία των επιβατών των ΜΜΜ\, όμως οι σύνθετες ανάγκες μετακίνησής τους λόγω του συνδυασμού της έμμισθης εργασίας στην αγορά και της άμισθης εργασίας φροντίδας δεν τις εξυπηρετούν. \nΌπως σημειώνεται στην περίληψη της έκθεσης: \nΤα τελευταία είκοσι χρόνια δίνεται διεθνώς όλο και μεγαλύτερη έμφαση σε ζητήματα έμφυλης ισότητας\, το οποίο αποτελεί σημαντικό\, αν και όχι αρκετό\, βήμα προόδου. Με αφορμή την ένταξη της ισότητας των φύλων στους Στόχους Βιώσιμης Ανάπτυξης των Ηνωμένων Εθνών\, διεθνείς οργανισμοί έχουν υποστηρίξει τη διαμόρφωση στρατηγικών σε διάφορους τομείς για την σταδιακή εδραίωση των ανθρωπίνων δικαιωμάτων και της ισότητας των φύλων για όλες τις γυναίκες και τα κορίτσια. Σε αυτό το πλαίσιο\, οι πόλεις αποτελούν τόπους που προσφέρουν ευκαιρίες για την ενδυνάμωση των γυναικών μέσω της εργασίας\, της εκπαίδευσης και των δυνατοτήτων δικτύωσης. \nΟ κυρίαρχος λόγος για το φύλο\, είτε εστιάζει στο δίπολο άνδρα/γυναίκα είτε επεκτείνεται σε άλλες ταυτότητες φύλου\, έχει προκαλέσει ευρύτερες συζητήσεις και δράσεις προς την κατεύθυνση της ισότητας. Ωστόσο\, παρά αυτά τα θετικά βήματα\, δεν έχουν εξαλειφθεί οι ανισότητες σε τομείς όπως η απασχόληση\, η υγεία\, οι θέσεις ηγεσίας\, η στέγαση και η απλήρωτη εργασία. Αντιστοίχως\, οι αστικοί χώροι\, σχεδιασμένοι κυρίως μέσω προτύπων που εστιάζουν στον άνδρα\, τείνουν να διαιωνίζουν τις ανισότητες. Αυτό εγείρει το ερώτημα εάν η ισότητα των φύλων θα παραμείνει ένας μακρινός στόχος. \nΣτην Ελλάδα\, παρά τις νομικές διατάξεις για την ισότητα των φύλων\, υπάρχουν πολλές πτυχές της ζωής στις οποίες τα έμφυλα ζητήματα περιθωριοποιούνται και διατηρούνται οι διακρίσεις και οι ανισότητες. Οι τοπικές αρχές έχουν πρόσφατα ενσωματώσει πολιτικές ισότητας των φύλων για να ευθυγραμμιστούν με διεθνή πρότυπα και να αναζητήσουν χρηματοδότηση\, ωστόσο οι προκλήσεις παραμένουν λόγω και της έλλειψης συνολικών δεδομένων που αφορούν το φύλο. Η πανδημία COVID-19 και οι επακόλουθοι περιορισμοί έδωσαν αφορμή για νέες σκέψεις για τον αστικό χώρο\, τις υποδομές \, την κινητικότητα\, τις υπηρεσίες και τις έμφυλες ανισότητες. Εντός αυτού του πλαισίου\, η έκθεση εξετάζει τον φεμινιστικό αστικό σχεδιασμό και υπογραμμίζει τη σημασία ενός αστικού σχεδιασμού που ανταποκρίνεται στις ανάγκες\, τις προσδοκίες και τις επιθυμίες των γυναικών και άλλων έμφυλων υποκειμενικοτήτων\, αναγνωρίζοντας τη συνεισφορά τους στην διαμόρφωση του χώρου της πόλης και την υποχρέωση του αστικού περιβάλλοντος να συμπεριλάβει όλες τις κατοίκους και χρήστριές του. \nΗ παρούσα έκθεση αποσκοπεί να παρουσιάσει μια ολοκληρωμένη άποψη για την πόλη και το φύλο\, καλύπτοντας διάφορα επίπεδα\, από τη διακυβέρνηση και τις εθνικές πολιτικές έως την καθημερινή ζωή. Επισημαίνει την ανάγκη για συμπεριληπτική συμμετοχή\, λαμβάνοντας υπόψη διαφορετικές κοινωνικές ομάδες καθώς και τη συλλογή και επεξεργασία δεδομένων κατά φύλο. Με αυτόν τον τρόπο\, οι αστικοί χώροι μπορούν να γίνουν τόποι αλλαγής και να προσφέρουν ευκαιρίες σε όλες\, προάγοντας την κοινωνική αλλαγή στην κατεύθυνση της έμφυλης ισότητας. Η έκθεση παρέχει επίσης παραδείγματα πρωτοβουλιών από διάφορες χώρες που μπορούν να λειτουργήσουν ως έμπνευση και αφετηρία για μετασχηματισμό. Τονίζει ότι τα οράματα της συμπεριληπτικής πόλης και της πόλης της φροντίδας δεν πρέπει να παραμείνουν ουτοπικά ιδεώδη\, αλλά πρέπει να μεταφραστούν σε πράξη. Τα συμμετοχικά εργαλεία\, που χρησιμοποιεί διαρκώς ο φεμινιστικός σχεδιασμός\, δεν παρέχουν απλώς δεδομένα στους λήπτες και τις λήπτριες αποφάσεων\, αλλά ενδυναμώνουν τις κατοίκους της πόλης ώστε να οραματιστούν και να διεκδικήσουν το δικαίωμά τους στην πόλη. \n  \nΤην έκθεση παρουσιάζουν από τη συγγραφική ομάδα οι: \n\nΕύα Γρηγοριάδου | αρχιτεκτόνισσα και ιδρύτρια της Urbana\nΦοίβος Καλλίτσης | αρχιτέκτων μηχανικός και διδάκτωρ ΕΜΠ\, associate head\, Portsmouth School of Architecture\nΠολίνα Πρέντου | MSc αρχιτεκτόνισσα-πολεοδόμος\, υ.δ. ΕΜΠ\n\nΣχολιάζουν οι: \n\nΝτίνα Βαΐου | ομότιμη καθηγήτρια ΕΜΠ\, τομέας Πολεοδομίας και Χωροταξίας\nΕιρήνη Μίχα | αναπληρώτρια καθηγήτρια ΕΜΠ\, τομέας Πολεοδομίας και Χωροταξίας\nΜάττα Σαμίου | σύμβουλος σε θέματα φύλου\n\nΤην εκδήλωση συντονίζει η Ελευθερία Κουμάντου\, δημοσιογράφος στον ρ/σ Αθήνα 9\,84. \n  \nΗ έκθεση θα διατίθεται δωρεάν σε έντυπη μορφή στον χώρο της εκδήλωσης. \nΕυχαριστούμε θερμά για τη φιλοξενία τον Σύλλογο Ελλήνων Αρχαιολόγων. 
URL:https://poulantzas.gr/event/parousiasi-tis-ekthesis-tou-institoutou-nikos-poulantzas-schediazontas-gia-oles-i-optiki-tou-fylou-ston-choro-tis-ellinikis-polis/
ATTACH;FMTTYPE=image/png:https://poulantzas.gr/wp-content/uploads/2023/09/story-2.png
END:VEVENT
BEGIN:VEVENT
DTSTART;VALUE=DATE:20230922
DTEND;VALUE=DATE:20230924
DTSTAMP:20260423T024417
CREATED:20230821T085438Z
LAST-MODIFIED:20250908T120202Z
UID:8741-1695340800-1695513599@poulantzas.gr
SUMMARY:Συνέδριο | Απέναντι στο Κράτος. Αριστερές Αναλύσεις και Προοπτικές.
DESCRIPTION:Το Ινστιτούτο Νίκος Πουλαντζάς και το δίκτυο transform! Europe διοργανώνουν στις 22 & 23 Σεπτεμβρίου 2023 στην Αθήνα (Πολυχώρος Σπούτνικ) συνέδριο με θέμα: \nΑπέναντι στο Κράτος. Αριστερές Αναλύσεις και Προοπτικές\n[Facing the State. Left Analyses and Perspectives] \nΤο συνέδριο αποτελεί την επίσημη παρουσίαση της επετηρίδας του transform! για το 2023. Η συγκεκριμένη έκδοση\, η οποία αποτελεί πλέον θεσμό στη διεθνή θεωρητική δραστηριότητα εντός της Αριστεράς\, φιλοδοξεί να παρέχει το χώρο για τη διερεύνηση σημαντικών ερωτημάτων και τη συμμετοχή σε πολιτικά δημιουργικές συζητήσεις. Το φετινό τεύχος\, το οποίο θα παρουσιαστεί επίσημα στο ομώνυμο συνέδριο στην Αθήνα μέσα από μία σειρά στρογγυλών τραπεζιών\, αναφέρεται στις πολυάριθμες διαφορετικές πλευρές του κράτους και στη σχέση του με την Αριστερά. \n🆘 Πατήστε εδώ για τη φόρμα εγγραφής στο συνέδριο. \n  \n📢 Σημαντικές πρακτικές πληροφορίες: \n\nΤο συνέδριο θα πραγματοποιηθεί στα Αγγλικά και στα Ελληνικά με ταυτόχρονη διερμηνεία.\nΓια περισσότερες πληροφορίες μπορείτε να αποστείλετε email στο info@poulantzas.gr.\n\n  \n📅 Δείτε αναλυτικά το πρόγραμμα του συνεδρίου: \n  \nΠαρασκευή\, 22 Σεπτεμβρίου \n13:45-15:45 Κοινωνικές και περιβαλλοντικές προκλήσεις του κράτους \nΣυμμετέχοντες/ουσες: Χίλαρι Ουέινραϊτ\, Συν-εκδότρια του περιοδικού RedPepper\, Τζούλια Ρούσο\, Υποψήφια Διδάκτωρ Πολιτικής Επιστήμης και Κοινωνιολογίας στη ScuolaNormaleSuperiore\, Φραντς Σέγκμπερς\, Ομότιμος Καθηγητής Κοινωνικής Ηθικής\, Πανεπιστήμιο του Μάρμπουργκ\, Χανς Τίε\, Συγγραφέας\, πρώην σύμβουλος οικονομικής και ενεργειακής πολιτικής του Κόμματος της Αριστεράς στην Εθνοσυνέλευση της Γερμανίας \nΣυντονίστρια: Κορνίλια Χίλντεμπραντ\, Συμπρόεδρος του transform! Europe \n15:45-16:00 Διάλειμμα για καφέ \n16:00-18:00 Κράτος και μορφές αυταρχισμού \nΣυμμετέχοντες/ουσες: Σοφία Βιδάλη\, Καθηγήτρια Εγκληματολογίας και Εγκληματολογικής Πολιτικής\, Τμήμα Κοινωνικής Ανθρωπολογίας\, Πάντειο Πανεπιστήμιο Κοινωνικών και Πολιτικών Επιστημών\, Κατερίνα Παπανικολάου\, Διδάκτωρ Δημοσίου Δικαίου\, μέλος της Ελληνικής Αρχής για την Ασφάλεια των Επικοινωνιών και την Προστασία του Απορρήτου\, Γκάβιν Ράε\, Αναπληρωτής Καθηγητής κοινωνιολογίας στο Πανεπιστήμιο Koźmiński της Βαρσοβίας\, Στίβεν Φόρτι\, Ιστορικός\, Αυτόνομο Πανεπιστήμιο της Βαρκελώνης \nΣυντονίστρια: Δανάη Κολτσίδα\, Διευθύντρια του Ινστιτούτου Νίκος Πουλαντζάς\, Συν-αντιπρόεδρος του transform! europe \n18:00-18:15 Διάλειμμα για καφέ \n18:15-20:45 Από τις μαρξιστικές στις μεταμαρξιστικές θεωρίες του κράτους και πέραν αυτών \nΣυμμετέχοντες/ουσες: Αθηνά Αθανασίου\, Καθηγήτρια Κοινωνικής Ανθρωπολογίας-Κοσμήτορας\, Σχολή Κοινωνικών Επιστημών\, Πάντειο Πανεπιστήμιο Κοινωνικών και Πολιτικών Επιστημών\, Γκόραν Θέρμπορν\, ομότιμος καθηγητής Κοινωνιολογίας\, Πανεπιστήμιο του Cambridge\, συνεργάτης καθηγητής\, Πανεπιστήμιο Linnaeus\, Σουηδία\, Ντούνια Λαρίσε\, συντονίστρια του προγράμματος “Αυστρομαρξισμός” το οποίο πραγματοποιείται με την υποστήριξη από το TransformEurope\, το RosaLuxemburgStiftung και τον Δήμο της Βιέννης\, Ετιέν Μπαλιμπάρ\, Επισκέπτης Καθηγητής\, Πανεπιστήμιο Kingston\, Λονδίνο\, Ηνωμένο Βασίλειο \nΣυντονιστής: Μιχάλης Σπουρδαλάκης\, Ομότιμος Καθηγητής\, Τμήμα Κοινωνιολογίας\, Εθνικό και Καποδιστριακό Πανεπιστήμιο Αθηνών \n  \nΣάββατο\, 23 Σεπτεμβρίου \n12:00-14:00 Φεμινιστικές προοπτικές του κράτους \nΣυμμετέχουσες: Αγγελική Δρογγίτη\, Μεταδιδακτορική Ερευνήτρια στο Τμήμα Κοινωνιολογίας του Πανεπιστημίου Κρήτης\, Καρίνα Μπατιάνι\, Διευθύνουσα Γραμματέας στο CLACSO (Λατινοαμερικανικό Συμβούλιο Κοινωνικών Επιστημών)\, τακτική καθηγήτρια και ερευνήτρια στη Σχολή Κοινωνικών Επιστημών του Πανεπιστημίου της Δημοκρατίας της Ουρουγουάης\, Ανκίκα Τσάκαρντιτς\, Αναπληρώτρια Καθηγήτρια\, Πανεπιστήμιο του Ζάγκρεμπ\, Μέλος της Επιτροπής των Επιμελητών των Απάντων της Ρόζα Λούξεμπουργκ (Verso) \nΣυντονιστής: Αλίκη Κοσσυφολόγου\, διδάκτωρ Πολιτικών Επιστημών\, ερευνήτρια \n14:00-15:15 Μεσημεριανό διάλειμμα \n15:15-17:15 Η Αριστερά στην κυβέρνηση και το κράτος \nΣυμμετέχοντες/ουσες: Κριστίνα Λούστεμπεργκ\, Βουλεύτρια για το Μοντεβιδέο\, κοινοβούλιο Ουρουγουάης (2020-2025)\, Χάνα Σαρκίνεν\, Μέλος του Κοινοβουλίου της Φινλανδίας\, πρώην Υπουργός Κοινωνικών Υποθέσεων και Υγείας (2021-Ιούνιος 2023)\, Ευκλείδης Τσακαλώτος\, Καθηγητής Οικονομικών Επιστημών\, Εθνικό και Καποδιστριακό Πανεπιστήμιο\, βουλευτής του ΣΥΡΙΖΑ\, πρώην Υπουργός Οικονομικών (2015-2019)\, Μάργκα Φερρέ\, Συνπρόεδρος του transform! europe \nΣυντονιστής: Χάρης Γολέμης\, Aρχισυντάκτης του transform! Yearbook \n17:15-17.30 Διάλειμμα για καφέ \n17:30-19:30 Εθνικά κράτη και η κατάρρευση της διεθνούς τάξης \nΣυμμετέχοντες/ουσες: Βολόντιμιρ Ιστσένκο\, Επιστημονικός συνεργάτης στο Ινστιτούτο Ανατολικοευρωπαϊκών Σπουδών\, FreieUniversitätBerlin\, Σούζαν Ουότκινς\, εκδότρια του NewLeftReview\, Αντώνης Τζανακόπουλος\, Καθηγητής Δημοσίου Διεθνούς Δικαίου\, Πανεπιστήμιο της Οξφόρδης \nΣυντονιστής: Βάλτερ Μπάϊερ\, Πρόεδρος του Κόμματος της Ευρωπαϊκής Αριστεράς \n  \nΠερισσότερα για τους διοργανωτές του συνεδρίου: \nΤο δίκτυο transform! Europe αποτελείται από 39 οργανώσεις από 23 χώρες σε όλη την Ευρώπη και δραστηριοποιείται στο πεδίο της πολιτικής εκπαίδευσης και της κριτικής επιστημονικής ανάλυσης. Είναι το αναγνωρισμένο πολιτικό ίδρυμα που συνδέεται με το Κόμμα της Ευρωπαϊκής Αριστεράς. \nΠερισσότερα: https://www.transform-network.net/en/about-us/ \nΤο Ινστιτούτο Νίκος Πουλαντζάς είναι το πολιτικό\, θεωρητικό και ερευνητικό ινστιτούτου του ΣΥΡΙΖΑ Προοδευτική Συμμαχία και ιδρυτικό μέλος του transform! Europe. \nΠερισσότερα: https://poulantzas.gr/institouto/ \nΗ επετηρίδα του transform (transform! yearbook) εκδίδεται από το 2015 και περιλαμβάνει τους τίτλους “United Europe\, Divided Europe” (2015)\, “The Enigma of Europe” (2016)\, “The Left\, the People\, Populism. Past and Present” (2017)\, “Integration\, Disintegration\, Nationalism” (2018)\, “The Radical Left in Europe – Rediscovering Hope” (2019)\, “Europe in the Brave New World” (2020)\, “Capitalism’s Deadly Threat” (2021)\, “Left Strategies in the Covid Pandemic and its Aftermath” (2022). Την περίοδο 2015-2018 την επιμέλεια είχαν οι Walter Baier\, Eric Canepa και Eva Himmelstoss\, ενώ την περίοδο 2019-2022 οι Walter Baier\, Eric Canepa και Χάρης Γολέμης. Το τεύχος του 2023 θα κυκλοφορήσει σύντομα. \nΠερισσότερα: https://www.transform-network.net/en/publications/yearbook/ \n  \nΤην οργανωτική επιτροπή του συνεδρίου αποτελούν οι: Αγγελίνα Γιαννοπούλου\, Χάρης Γολέμης\, Δανάη Κολτσίδα\, Κίμωνας Μαρκάτος
URL:https://poulantzas.gr/event/synedrio-apenanti-sto-kratos-aristeres-analyseis-kai-prooptikes/
ATTACH;FMTTYPE=image/png:https://poulantzas.gr/wp-content/uploads/2023/08/csm_yearbook_conf_afisaki_d715b78226-1.png
END:VEVENT
BEGIN:VEVENT
DTSTART;TZID=Europe/Athens:20230926T190000
DTEND;TZID=Europe/Athens:20230926T210000
DTSTAMP:20260423T024417
CREATED:20230919T114643Z
LAST-MODIFIED:20250908T120113Z
UID:8796-1695754800-1695762000@poulantzas.gr
SUMMARY:Παρουσίαση έκθεσης Ι Αριστερή περιφερειακή πολιτική
DESCRIPTION:Εκδήλωση-συζήτηση με αφορμή την έκθεση «Αριστερή περιφερειακή πολιτική» \n26 Σεπτεμβρίου  2023 \n7μμ-9μμ \n  \nΣτον απόηχο των πρόσφατων φυσικών καταστροφών που έπληξαν σφοδρά τη χώρα και με ορίζοντα τις επικείμενες αυτοδιοικητικές εκλογές του Οκτωβρίου\, το Ινστιτούτο Νίκος Πουλαντζάς διοργανώνει μια εκδήλωση-συζήτηση με αφορμή τη νέα του έκθεση Αριστερή περιφερειακή πολιτική\, την οποία συνέγραψε ο Γιάννης Ραντίν. \nΗ εκδήλωση θα γίνει την Τρίτη 26 Σεπτεμβρίου 2023\, στις 7 μμ\, στον Πολυχώρο Σπούτνικ (Κεραμεικού 46\, Μεταξουργείο) \n  \nΤην έκθεση παρουσιάζει ο συγγραφέας της έκθεσης: \nΓιάννης Ραντίν| Υποψήφιος Διδάκτορας Χωροταξίας\, Πολεοδομίας και Περιφερειακής Ανάπτυξης\, Πανεπιστήμιο Θεσσαλίας \n  \nΣυζητούν οι: \nΡένα Κλαμπατσέα| Αν.Καθηγήτρια Χωρικού Σχεδιασμού\, Κοσμήτορας Σχολής Αρχιτεκτόνων Μηχ/κών\, ΕΜΠ \nΓιάννης Ψυχάρης| Καθηγητής Περιφερειακής Οικονομικής Ανάλυσης\, Πάντειο Πανεπιστήμιο \n  \nΤην εκδήλωση συντονίζει ο Χρήστος Σίμος\, δημοσιογράφος Left.gr \n  \nΗ εκδήλωση θα μεταδοθεί ζωντανά στο κανάλι του ΙΝΠ στο youtube\, στη σελίδα του στο facebook και στην ιστοσελίδα του Ινστιτούτου. \nΗ έκθεση θα διατίθεται δωρεάν σε έντυπη μορφή στο περιθώριο της εκδήλωσης. \n\nΠερισσότερα για την έκθεση: \nΗ κλιματική κρίση και τα συνεπακόλουθά της ακραία καιρικά φαινόμενα και φυσικές καταστροφές αποτελούν θλιβερή πραγματικότητα για τη χώρα το τελευταίο διάστημα\, μετρώντας τραγικές απώλειες σε ανθρώπινες ζωές και ζώα και καταστροφή του φυσικού και αστικού περιβάλλοντος. Η επικαιρότητα σε συνδυασμό με την ιδιαιτερότητα της Ελλάδας\, η οποία είναι μια νησιωτική και ταυτόχρονα ορεινή χώρα\, επιβάλλει να λογίζεται η τοπική αυτοδιοίκηση ως εξίσου σημαντική με την κεντρική πολιτική.  \nΗ έκθεση Αριστερή περιφερειακή πολιτική\, του Γιάννη Ραντίν\, εξετάζει το θέμα της περιφερειακής ανάπτυξης στην Ελλάδα\, παρουσιάζοντας συνοπτικά τις κύριες θεωρίες σύγκλισης και απόκλισης των περιφερειών\, περιγράφοντας αναλυτικά την υφιστάμενη κατάσταση μέσω της παρουσίασης πληθώρας δεικτών ανάπτυξης για όλες τις ελληνικές περιφέρειες\, και καταθέτοντας προτάσεις πολιτικής που προάγουν την οικονομική και πολιτισμική ανάπτυξη\, την ισότητα των φύλων και τον σεβασμό στο περιβάλλον και τη συμμετοχή. Η έκθεση συμπεριλαμβάνει παραδείγματα καλών πρακτικών από την Ελλάδα\, την Ευρώπη και τον κόσμο\, με σκοπό να λειτουργήσουν ως αφετηρία διαλόγου για τη λήψη αποφάσεων περιφερειακής πολιτικής με αριστερό πρόσημο\, η οποία έχει στον πυρήνα της τη δικαιοσύνη και τη βιωσιμότητα. \nΣτην έκθεση αναλύονται διεξοδικά πέντε διαστάσεις που χρήζουν παρέμβασης και είναι απαραίτητη η άσκηση αριστερής περιφερειακής πολιτικής: \n\n Υποδομές\n Αγροτική Ανάπτυξη\n Πράσινη μετάβαση και περιβαλλοντική πολιτική\n Ευκαιρίες και χωρική δικαιοσύνη\n Δημοκρατικός και συμμετοχικός σχεδιασμός\n\n  \nΓια κάθε μία κατηγορία καταγράφονται προτάσεις πολιτικής και παρατίθενται παραδείγματα τα οποία μπορούν να λειτουργήσουν ως έμπνευση και αφετηρία για μετασχηματισμό. \n  \nΟ συγγραφέας αναφέρει στα Συμπεράσματά του: \n« Όλες [..] οι ελληνικές περιφέρειες υστερούν σε σχέση με τους ευρωπαϊκούς μέσους όρους. Κατατάσσονται ανάμεσα στις φτωχότερες στην ΕΕ και\, μάλιστα\, αντί να συγκλίνουν\, αποκλίνουν από τον ευρωπαϊκό μέσο όρο από την εποχή της οικονομικής κρίσης και έπειτα.» \n«Η σύγχρονη αριστερή περιφερειακή πολιτική αναγνωρίζει πως χρειάζεται μια υπέρβαση του πολιτικού μοντέλου που λειτουργεί από τα πάνω προς τα κάτω. Η πολιτική χρειάζεται συμμαχίες με τους ενδιαφερόμενους\, με τα κινήματα\, με τους χρήστες των υπηρεσιών\, αλλά και με τους υπαλλήλους που την υλοποιούν.[…]Εν κατακλείδι\, η εφαρμογή μιας αριστερής περιφερειακής πολιτικής απαιτεί βαθιά γνώση\, ενσυναίσθηση\, σεβασμό του περιβάλλοντος\, κατανόηση των τοπικών ιδιαιτεροτήτων και συμμετοχή της τοπικής κοινωνίας στον σχεδιασμό και στη διαχείριση των θεμάτων που την αφορούν.»
URL:https://poulantzas.gr/event/parousiasi-ekthesis-i-aristeri-perifereiaki-politiki/
ATTACH;FMTTYPE=image/png:https://poulantzas.gr/wp-content/uploads/2023/09/story-1-1.png
END:VEVENT
BEGIN:VEVENT
DTSTART;TZID=Europe/Athens:20230929T173000
DTEND;TZID=Europe/Athens:20230929T200000
DTSTAMP:20260423T024417
CREATED:20230927T131125Z
LAST-MODIFIED:20250908T120009Z
UID:8822-1696008600-1696017600@poulantzas.gr
SUMMARY:Ημερίδα | Ανάπτυξη και περιβάλλον στην εποχή της κλιματικής κρίσης στην Κεντρική Μακεδονία
DESCRIPTION:Το Ινστιτούτο Νίκος Πουλαντζάς και το Ινστιτούτο Εναλλακτικών Πολιτικών ΕΝΑ διοργανώνουν ημερίδα με θέμα “Ανάπτυξη και περιβάλλον στην εποχή της κλιματικής κρίσης στην Κεντρική Μακεδονία”\, την Παρασκευή 29 Σεπτεμβρίου 2023 στη Θεσσαλονίκη (κτίριο ΕΣΗΕΜ-Θ\, Στρ. Καλλάρη 5) στις 17.30. \nΣτο πρώτο πάνελ\, θα μιλήσουν οι Γιάννης Ραντίν\, Γιάννης Κρεστενίτης και Σάσα Λαδά\, με συντονιστή τον Άκη Σακισλόγλου\, ενώ στο δεύτερο πάνελ θα μιλήσουν οι Στέλλα Κωστοπούλου\, Λόης Λαμπριανίδης και Σωκράτης Φάμελλος\, με συντονίστρια τη Δήμητρα Κεχαγιά. \nΠαρεμβαίνουν οι Απόστολος Κυριαζόπουλος\, Λίλιαν Κουίδου\, Νίκος Ιωάννου και Απόστολος Σινάκος. Τα συμπεράσματα θα συνοψίσει ο Γιάννης Μυλόπουλος. –
URL:https://poulantzas.gr/event/imerida-anaptyxi-kai-perivallon-stin-epochi-tis-klimatikis-krisis-stin-kentriki-makedonia/
ATTACH;FMTTYPE=image/jpeg:https://poulantzas.gr/wp-content/uploads/2023/09/anaptyxi-kmakedonia-1.jpg
END:VEVENT
END:VCALENDAR