BEGIN:VCALENDAR
VERSION:2.0
PRODID:-//Ινστιτούτο Νίκος Πουλαντζάς - ECPv6.15.4//NONSGML v1.0//EN
CALSCALE:GREGORIAN
METHOD:PUBLISH
X-WR-CALNAME:Ινστιτούτο Νίκος Πουλαντζάς
X-ORIGINAL-URL:https://poulantzas.gr
X-WR-CALDESC:Events for Ινστιτούτο Νίκος Πουλαντζάς
REFRESH-INTERVAL;VALUE=DURATION:PT1H
X-Robots-Tag:noindex
X-PUBLISHED-TTL:PT1H
BEGIN:VTIMEZONE
TZID:Europe/Athens
BEGIN:DAYLIGHT
TZOFFSETFROM:+0200
TZOFFSETTO:+0300
TZNAME:EEST
DTSTART:20230326T010000
END:DAYLIGHT
BEGIN:STANDARD
TZOFFSETFROM:+0300
TZOFFSETTO:+0200
TZNAME:EET
DTSTART:20231029T010000
END:STANDARD
END:VTIMEZONE
BEGIN:VEVENT
DTSTART;TZID=Europe/Athens:20230606T193000
DTEND;TZID=Europe/Athens:20230606T213000
DTSTAMP:20260423T063414
CREATED:20230526T121658Z
LAST-MODIFIED:20250908T120438Z
UID:8659-1686079800-1686087000@poulantzas.gr
SUMMARY:Παρουσίαση του βιβλίου του Αριστείδη Μπαλτά "Η Αριστερά ως σήμερον\, ως αύριον και ως χθες"
DESCRIPTION:Το Ινστιτούτο Νίκος Πουλαντζάς και οι Εκδόσεις Νήσος σας καλούν την Τρίτη 6 Ιουνίου 2023 \nστις 7.30 μ.μ. στον Κήπο του Αρχαιολογικού Μουσείου (Πατησίων 44) στην παρουσίαση του βιβλίου του Αριστείδη Μπαλτά: \nΗ Αριστερά ως σήμερον\, ως αύριον και ως χθες. Ένα φάντασμα πλανιέται. \nΓια το βιβλίο θα μιλήσουν οι: \nΈφη Αχτσιόγλου | βουλεύτρια \nΧάρης Γολέμης | μέλος της συντακτικής επιτροπής της εφημερίδας “Η Εποχή” \nΔανάη Κολτσίδα | διευθύντρια του Ινστιτούτου Νίκος Πουλαντζάς \nΑικατερίνα Παπανικολάου | δρ. Δημοσίου Δικαίου\, μέλος ΑΔΑΕ \n  \nΣυντονισμός: Δημήτρης Μανιάτης | δημοσιογράφος – συγγραφέας \nΠερισσότερες πληροφορίες πατώντας εδώ.
URL:https://poulantzas.gr/event/parousiasi-tou-vivliou-tou-aristeidi-balta-i-aristera-os-simeron-os-avrion-kai-os-chthes/
ATTACH;FMTTYPE=image/jpeg:https://poulantzas.gr/wp-content/uploads/2023/05/unnamed-13-1.jpg
END:VEVENT
BEGIN:VEVENT
DTSTART;TZID=Europe/Athens:20230629T193000
DTEND;TZID=Europe/Athens:20230629T220000
DTSTAMP:20260423T063414
CREATED:20230624T155403Z
LAST-MODIFIED:20250908T120354Z
UID:8667-1688067000-1688076000@poulantzas.gr
SUMMARY:Συζήτηση | Ο εκλογικός κύκλος του 2023: Εκλογική συμπεριφορά\, κοινωνικές συμμαχίες και κομματικές στρατηγικές
DESCRIPTION:Μετά τις δύο εκλογικές αναμετρήσεις\, της 21ης Μαΐου και της 25ης Ιουνίου\, το Ινστιτούτο Νίκος Πουλαντζάς ανοίγει τη μετεκλογική συζήτηση\, με μια πρώτη εκδήλωση με τίτλο: \n  \nΟ εκλογικός κύκλος του 2023: \nΕκλογική συμπεριφορά\, κοινωνικές συμμαχίες και κομματικές στρατηγικές \n  \nΗ εκδήλωση θα πραγματοποιηθεί την Πέμπτη 29 Ιουνίου και ώρα 7.30 μ.μ. στον Πολυχώρο Σπούτνικ (Κεραμεικού 46 & Μυλλέρου\, Αθήνα) και θα μεταδοθεί διαδικτυακά μέσω του site (poulantzas.gr) και του καναλιού του ΙΝΠ στο YouTube. \n  \nΗ εκδήλωση αυτή πραγματοποιείται σε άμεση χρονική εγγύτητα προς τις εκλογές\, με σκοπό να τροφοδοτήσει με κάποια πρώτα δεδομένα και αναλύσεις τον προβληματισμό και τη δημόσια συζήτηση\, μέσα από τις παρεμβάσεις πέντε επιστημόνων ασχολούμενων με διαφορετικές πτυχές του εκλογικού και πολιτικού φαινομένου\, από την κλασική εκλογική κοινωνιολογία μέχρι τις σύγχρονες μορφές πολιτικής επικοινωνίας\, ενώ θα ακολουθήσουν και άλλες σχετικές πρωτοβουλίες του ΙΝΠ\, με στόχο να αναλυθεί σε βάθος και πολύπλευρα η σημερινή συγκυρία. \n  \nΣυγκεκριμένα\, στην εκδήλωση θα μιλήσουν οι: \n  \n\n\nΠαύλος Βασιλόπουλος\, αναπληρωτής καθηγητής (senior lecturer) Πολιτικής Επιστήμης\, Πανεπιστήμιο York\, ερευνητής στο Κέντρο Πολιτικών Ερευνών (CEVIPOF) της SciencesPo\,\nΔανάη Κολτσίδα\, διευθύντρια ΙΝΠ\,\nΦανή Κουντούρη\, αναπληρώτρια καθηγήτρια Πολιτικής Επιστήμης-Πολιτικής Επικοινωνίας\, Πάντειο Πανεπιστήμιο\,\nΝίκος Σμυρναίος\, καθηγητής Πολιτικής Οικονομίας\, Ιστορίας και Κοινωνιολογίας των ΜΜΕ\, Πανεπιστήμιο Toulouse III και\nΓιάννης Τσίρμπας\, επίκουρος καθηγητής Πολιτικής Επιστήμης\, Πανεπιστήμιο Αθηνών.\n\n\nΘα συντονίσει ο δημοσιογράφος και διευθυντής της εφημερίδας “Η Αυγή”\, Σπύρος Ραπανάκης.
URL:https://poulantzas.gr/event/syzitisi-o-eklogikos-kyklos-tou-2023-eklogiki-syberifora-koinonikes-symmachies-kai-kommatikes-stratigikes/
ATTACH;FMTTYPE=image/jpeg:https://poulantzas.gr/wp-content/uploads/2023/06/ekloges2023_poster-1.jpg
END:VEVENT
END:VCALENDAR