BEGIN:VCALENDAR
VERSION:2.0
PRODID:-//Ινστιτούτο Νίκος Πουλαντζάς - ECPv6.15.4//NONSGML v1.0//EN
CALSCALE:GREGORIAN
METHOD:PUBLISH
X-WR-CALNAME:Ινστιτούτο Νίκος Πουλαντζάς
X-ORIGINAL-URL:https://poulantzas.gr
X-WR-CALDESC:Events for Ινστιτούτο Νίκος Πουλαντζάς
REFRESH-INTERVAL;VALUE=DURATION:PT1H
X-Robots-Tag:noindex
X-PUBLISHED-TTL:PT1H
BEGIN:VTIMEZONE
TZID:Europe/Athens
BEGIN:DAYLIGHT
TZOFFSETFROM:+0200
TZOFFSETTO:+0300
TZNAME:EEST
DTSTART:20230326T010000
END:DAYLIGHT
BEGIN:STANDARD
TZOFFSETFROM:+0300
TZOFFSETTO:+0200
TZNAME:EET
DTSTART:20231029T010000
END:STANDARD
END:VTIMEZONE
BEGIN:VEVENT
DTSTART;VALUE=DATE:20230426
DTEND;VALUE=DATE:20230428
DTSTAMP:20260423T092225
CREATED:20230411T085910Z
LAST-MODIFIED:20250908T120644Z
UID:7972-1682467200-1682639999@poulantzas.gr
SUMMARY:Συνέδριο | Ασφάλεια: Αντιστρέφοντας τη συζήτηση. Από την "ατομική ευθύνη" στην πολύπλευρη συλλογική ασφάλεια.
DESCRIPTION:Το ζήτημα της ασφάλειας και τα πολλά επίπεδα αυτής\, από μια κοινωνική και προοδευτική οπτική\, θα αναδείξει το διήμερο συνέδριο που διοργανώνει στην Αθήνα στις 26 & 27 Απριλίου 2023 στο χώρο Innovathens της Τεχνόπολης του Δήμου Αθηναίων το Ινστιτούτο Νίκος Πουλαντζάς\, με τίτλο Ασφάλεια: Αντιστρέφοντας τη συζήτηση Από την “ατομική ευθύνη” στην πολύπλευρη συλλογική ασφάλεια. \nΤο συνέδριο αυτό πραγματοποιείται στον απόηχο του τραγικού δυστυχήματος στα Τέμπη\, το οποίο έθεσε με έμφαση στο δημόσιο λόγο το αίτημα για ασφάλεια\, με μία κοινωνικά προσανατολισμένη έννοια. Ωστόσο\, προσεγγίζει το ζήτημα της ασφάλειας υπό μία πολύ ευρύτερη οπτική\, καθώς το θέμα αυτό ανακύπτει σχεδόν σε όλες τις πλευρές της καθημερινότητας και όλο και συχνότερα στην εποχή μας\, με ποικίλες αφορμές: από την πρόσφατη πανδημία μέχρι τον πόλεμο που βρίσκεται σε εξέλιξη στην Ουκρανία και από την κλιματική κρίση μέχρι τα παράνομα κατασκοπευτικά λογισμικά. \nΈτσι\, θέματα όπως ο ρόλος ενός ισχυρού δημόσιου συστήματος υγείας ή ενός σύγχρονου και αποτελεσματικού κοινωνικού κράτους\, η αντιμετώπιση της εργασιακής επισφάλειας ή η δημιουργία μηχανισμών προστασίας του εισοδήματος και της αγοραστικής δύναμης των εργαζομένων\, η βιωσιμότητα του αναπτυξιακού μοντέλου\, η δημιουργία δημόσιων\, ασφαλών και ανθεκτικών υποδομών και δικτύων ή η αποτροπή και προστασία έναντι φυσικών καταστροφών και περιβαλλοντικών κινδύνων\, η ενεργειακή αυτονομία ή η στρατηγική θέση της Ελλάδας και της Ευρώπης στον κόσμο αποκτούν ιδιαίτερη σημασία και συνθέτουν μία νέα πολύπλευρη και συλλογική έννοια της ασφάλειας. Υπό αυτή την οπτική η ασφάλεια φέρει ένα ισχυρό κοινωνικό και προοδευτικό πρόσημο και απομακρύνεται από τη μονοδιάστατη συντηρητική προσέγγισή της αποκλειστικά με όρους στρατιωτικοποίησης\, καταστολής\, περιστολής της ελευθερίας κ.λπ. \nΤα συνολικά εννέα πάνελ του συνεδρίου είναι διαρθρωμένα γύρω από τέσσερις μεγάλες θεματικές: \n\nΘεματική I | Η παγκόσμια διάσταση της ασφάλειας\nΘεματική II | Ένα ασφαλές φυσικό και ανθρωπογενές περιβάλλον\nΘεματική III | Η κοινωνικο-οικονομική διάσταση της ασφάλειας\nΘεματική IV | Ασφάλεια\, ελευθερία\, δικαιώματα: Έννοιες ασύνδετες ή παραπληρωματικές; Ο ρόλος του κράτους δικαίου και της δικαιοσύνης\n\nΟι εργασίες του συνεδρίου θα μεταδίδονται και ζωντανά μέσω του καναλιού του Ινστιτούτου στο YouTube. \n  \nΔείτε εδώ το πρόγραμμα: \nAsfaleia-Programma-Final.pdf \nΣτο συνέδριο θα παρέμβουν μέσω βίντεο οι: \n\nYolanda Diaz (Ισπανία) | αναπληρώτρια πρωθυπουργός\, υπουργός Εργασίας και Κοινωνικής Οικονομίας\, επικεφαλής της πλατφόρμας Sumar\nTunç Soyer (Τουρκία) | δήμαρχος του μητροπολιτικού δήμου της Σμύρνης (Izmir)\n\n  \nΟμιλητές/τριες: \nΤριανταφυλλιά Αθανασίου | Ευάγγελος Αποστολάκης | Μαίρη Αρβανίτη-Σωτηροπούλου | Ντίνα Βαΐου | Στέφανος Βιτωράτος | Κώστας Γενιδούνιας | Εύα Γρηγοριάδου | Κώστας Δουζίνας | Γεράσιμος Ζαχαράτος | Νίκος Ηλιού | Κωνσταντίνος Θεοδωρίδης | Κώστας Κάβουρας | Θεανώ Κακουλίδου | Μιχάλης Καλογήρου | Γιάννης Καλομενίδης | Αθανάσιος Καραμητόπουλος | Σπύρος Κίντζιος | Στάθης Κοντός | Μαριλένα Κοππά | Νίκος Κουλούρης | Γιάννης Κρεστενίτης | Μανώλης Μαυροφίδης | Ιωάννα Μεΐτάνη | Θόδωρος Μητράκος | Αγγελική Μητροπούλου | Θεοδότα Νάντσου | Σπυριδούλα Ντεμίρη | Σταυρούλα Παπαδημητρίου | Γιώργος Παπανικολάου | Κλειώ Παπαπαντολέων | Θόδωρος Παρασκευόπουλος | Αθανάσιος Πλατιάς | Μανώλης Πλειώνης | Δήμητρα Σιατίτσα | Γεωργία Σπυροπούλου | Όλγα Τόκη | Μαρίκα Φραγκάκη | Αναστασία Φρατζεσκάκη | Άρης Χατζηδάκης | Γιώργος Χουλιαράκης | Δημήτρης Χριστόπουλος \n  \nΤον συντονισμό των πάνελ έχουν αναλάβει οι δημοσιογράφοι: \nΚώστας Αργυρός | Νίκος Μορφονιός | Κώστας Ζαφειρόπουλος | Αντώνης Ραυτόπουλος | Χρήστος Σίμος | Χριστίνα Κοψίνη | Γιάννης Κιμπουρόπουλος | Νίκος Σβέρκος | Ευγενία Λουπάκη \n  \nΧορηγοί επικοινωνίας: Η Αυγή\, Στο Κόκκινο 105\,5\, Η Εποχή\, Η Εφημερίδα των Συντακτών\, Left.gr \n  \n* Την ευθύνη για τη διοργάνωση του συνεδρίου έχουν οι Δανάη Κολτσίδα\, νομικός-πολιτική επιστήμονας και διευθύντρια του ΙΝΠ\, Γεράσιμος Κουζέλης\, ομότιμος καθηγητής Κοινωνιολογίας ΕΚΠΑ και μέλος του ΔΣ του ΙΝΠ\, και Θόδωρος Παρασκευόπουλος\, οικονομολόγος και μέλος του ΔΣ του ΙΝΠ. \nΗ ομάδα του ΙΝΠ που εργάζεται για την πραγματοποίησή του αποτελείται από τις εξής συνεργάτιδες και συνεργάτες του Ινστιτούτου: Ελευθερία Αγγέλη\, ερευνήτρια\, Ελένη Γεωργίου\, υπεύθυνη επικοινωνίας\, Ελένη Γκρίνγουδ\, ερευνήτρια\, συντονίστρια της θεματικής “Οικονομία-Παραγωγή-Βιώσιμη Ανάπτυξη”\, Βαγγία Λυσικάτου\, ερευνήτρια\, συντονίστρια της θεματικής “Περιβάλλον-Κλιματική Κρίση-Οικολογία”\, Σωτήρη Μαυροκεφαλίδη\, υπεύθυνο διοικητικής και τεχνικής υποστήριξης\, Δανάη Παππά\, γραφίστρια\, Κατερίνα Τσατσαρώνη\, ερευνήτρια\, συντονίστρια της θεματικής “Εργασία-Κοινωνικό Κράτος-Αλληλεγγύη”\, και Μαρία Χαϊδοπούλου-Βρυχέα\, ερευνήτρια\, συντονίστρια της θεματικής “Τεχνολογία & Γνώση”.
URL:https://poulantzas.gr/event/synedrio-asfaleia-antistrefontas-ti-syzitisi-apo-tin-atomiki-efthyni-stin-polyplevri-syllogiki-asfaleia/
ATTACH;FMTTYPE=image/png:https://poulantzas.gr/wp-content/uploads/2023/04/ΑΦΙΣΑ-Α3.png
END:VEVENT
END:VCALENDAR