BEGIN:VCALENDAR
VERSION:2.0
PRODID:-//Ινστιτούτο Νίκος Πουλαντζάς - ECPv6.15.4//NONSGML v1.0//EN
CALSCALE:GREGORIAN
METHOD:PUBLISH
X-WR-CALNAME:Ινστιτούτο Νίκος Πουλαντζάς
X-ORIGINAL-URL:https://poulantzas.gr
X-WR-CALDESC:Events for Ινστιτούτο Νίκος Πουλαντζάς
REFRESH-INTERVAL;VALUE=DURATION:PT1H
X-Robots-Tag:noindex
X-PUBLISHED-TTL:PT1H
BEGIN:VTIMEZONE
TZID:Europe/Athens
BEGIN:DAYLIGHT
TZOFFSETFROM:+0200
TZOFFSETTO:+0300
TZNAME:EEST
DTSTART:20230326T010000
END:DAYLIGHT
BEGIN:STANDARD
TZOFFSETFROM:+0300
TZOFFSETTO:+0200
TZNAME:EET
DTSTART:20231029T010000
END:STANDARD
END:VTIMEZONE
BEGIN:VEVENT
DTSTART;TZID=Europe/Athens:20230307T183000
DTEND;TZID=Europe/Athens:20230328T210000
DTSTAMP:20260423T105312
CREATED:20230224T133203Z
LAST-MODIFIED:20250908T120719Z
UID:7856-1678213800-1680037200@poulantzas.gr
SUMMARY:Εργαστήρια για τις τεχνολογίες – Τρίτες του Μαρτίου
DESCRIPTION:Το Ινστιτούτο Νίκος Πουλαντζάς\, στο πλαίσιο της θεματικής Γνώση και Τεχνολογία διοργανώνει τέσσερα εργαστήρια για τις τεχνολογίες τις Τρίτες του Μαρτίου\, 7\, 14\, 21 και 28/03\, 6.30-8.30μ.μ.\, πολυχώρος Σπούτνικ\, Κεραμεικού 46\, Μεταξουργείο. \nΠαρακαλούμε εγγραφείτε εδώ \nΑφορμή για τα εργαστήρια αποτελεί το κείμενο Για έναν προοδευτικό ψηφιακό & τεχνολογικό μετασχηματισμό | Θ. Δεληγιάννης\, Γ. Παπανικολάου\, Μ. Χαϊδοπούλου Βρυχέα όπου έγινε προσπάθεια σύνθεσης μιας συζήτησης που διενεργείται σχεδόν παράλληλα σε διάφορους κύκλους. \nΣτόχος των εργαστηρίων είναι να προχωρήσουν πέρα από την κριτική του κυρίαρχου τεχνολογικού μοντέλου /παραδείγματος στη διερεύνηση από διαφορετικές οπτικές του τι μπορεί να σημαίνει καλύτερες/πιο δημοκρατικές\, πιο δίκαιες\, συμπεριληπτικές\, οικολογικές τεχνολογίες. \nΤο πρώτο εργαστήριο θα αφορά μια γενικότερη συζήτηση για το θέμα ενώ τα επόμενα εστιάζουν σε συγκεκριμένα παραδείγματα\, εγχειρήματα\, προτάσεις και πρακτικές\, αφενός για να δώσουν ορατότητα στις ήδη υφιστάμενες προσπάθειες\, αφετέρου για να οραματιστούμε στρατηγικές και τεχνολογίες προς αυτήν την κατεύθυνση. \nΚάθε εργαστήριο θα περιλαμβάνει σύντομες 10λεπτες εισηγήσεις από τις εισηγήτριες και τους εισηγητές και και μετά θα ακολουθεί συζήτηση με τις συμμετέχουσες και τους συμμετέχοντες. Η διάρκεια των εργαστηρίων θα είναι δύο ώρες και θα πραγματοποιηθούν αποκλειστικά δια ζώσης. \n  \nΣυντονίστρια θεματικής Γνώση και Τεχνολογία / διοργάνωση εργαστηρίων: Μαρία Χαϊδοπούλου Βρυχέα\, ερευνήτρια – ΙΝΠ. \n  \nΠρόγραμμα: \n7 Μαρτίου – Πώς ορίζουμε τις δημοκρατικές τεχνολογίες; \n\nΓιώργος Λιουδάκης\, ηλεκτρολόγος μηχανικός & μηχανικός Η/Υ\, εντ. διδάσκων – Πανεπιστήμιο Θεσσαλίας\nΒάσω Μακρυγιάννη\, ανεξάρτητη ερευνήτρια\nΧάρης Παπαευαγγέλου\, υπ.διδάκτορας – Πανεπιστήμιο της Τουλούζης\nΕλένη Ρεθυμιωτάκη\, αναπληρώτρια καθηγήτρια – Νομική ΕΚΠΑ\nΤέλης Τύμπας\, καθηγητής – ΙΦΕ ΕΚΠΑ\n\n \n  \n14 Μαρτίου – Υπάρχουν νέα (ψηφιακά) δικαιώματα; Ποιος ο ρόλος του κράτους; (μεγάλα δεδομένα\, αλγόριθμοι\, μηχανική μάθηση/ΤΝ) \n\nΣτέφανος Βιτωράτος\, δικηγόρος\, συνιδρυτής Homo Digitalis\nΘανάσης Δεληγιάννης\, ερευνητής – Digital Organizations Lab\, Διεθνές Πανεπιστήμιο Ελλάδος\nΣτέφανος Λουκόπουλος\, διευθυντής – Vouliwatch\nΑλέξανδρος Μελίδης\, γενικός διευθυντής – Οργανισμός Ανοικτών Τεχνολογικών (ΕΕΛΛΑΚ)\nΠρόδρομος Τσιαβός\, διευθυντής – Ινστιτούτο Διανοητικής Ιδιοκτησίας και Kαινοτομίας – EPLO\n\n \n  \n21 Μαρτίου – Πώς διαμορφώνονται χειραφετητικά παραγωγικά υποδείγματα στην ψηφιακή εποχή; \n\nΑντώνης Αγγελάκης\, επιστημονικό στελεχος ΙΜΕ ΓΣΕΒΕΕ\, διδάσκων – Πανεπιστήμιο Κρήτης\nΓιώργος Βελεγράκης\, διδάσκων ΔΠΜΣ Science\, Technology\, Society – ΙΦΕ ΕΚΠΑ\nΒασίλης Κωστάκης\, καθηγητής – Πολυτεχνείο Τάλιν\, ιδρυτικό μέλος P2P Lab\nΓιώργος Παπανικολάου\, επίκουρος καθηγητής – Χαροκόπειο Πανεπιστήμιο\nΣυνεταιρισμός Εργαζομένων Sociality\n\n \n  \n28 Μαρτίου – Πώς οικοδομούνται δημόσια ψηφιακά αγαθά στην παιδεία; \n\nΓεωργία Αγγελάκη\, μέλος του advisory board – Europeana\nΕρρίκος Βεντούρας\, καθηγητής – ΠΑΔΑ\nΡάνια Καλαντζή\, εκπαιδευτικός πληροφορικής\nΔέσποινα Μητροπούλου\, ειδική ανοικτών ψηφιακών τεχνολογιών\nΝικόλαος Μήτρου\, καθηγητής – ΕΜΠ\, επ. υπεύθυνος – Δράση Κάλλιπος\n\n \n  \nΠαρακαλούμε εγγραφείτε εδώ \nΔΕΝ θα δοθούν βεβαιώσεις παρακολούθησης.
URL:https://poulantzas.gr/event/ergastiria-gia-tis-technologies-trites-tou-martiou/
ATTACH;FMTTYPE=image/png:https://poulantzas.gr/wp-content/uploads/2023/02/story@96x-1.png
END:VEVENT
END:VCALENDAR