BEGIN:VCALENDAR
VERSION:2.0
PRODID:-//Ινστιτούτο Νίκος Πουλαντζάς - ECPv6.15.4//NONSGML v1.0//EN
CALSCALE:GREGORIAN
METHOD:PUBLISH
X-WR-CALNAME:Ινστιτούτο Νίκος Πουλαντζάς
X-ORIGINAL-URL:https://poulantzas.gr
X-WR-CALDESC:Events for Ινστιτούτο Νίκος Πουλαντζάς
REFRESH-INTERVAL;VALUE=DURATION:PT1H
X-Robots-Tag:noindex
X-PUBLISHED-TTL:PT1H
BEGIN:VTIMEZONE
TZID:Europe/Athens
BEGIN:DAYLIGHT
TZOFFSETFROM:+0200
TZOFFSETTO:+0300
TZNAME:EEST
DTSTART:20220327T010000
END:DAYLIGHT
BEGIN:STANDARD
TZOFFSETFROM:+0300
TZOFFSETTO:+0200
TZNAME:EET
DTSTART:20221030T010000
END:STANDARD
END:VTIMEZONE
BEGIN:VEVENT
DTSTART;TZID=Europe/Athens:20221203T193000
DTEND;TZID=Europe/Athens:20221203T213000
DTSTAMP:20260423T145055
CREATED:20221201T111102Z
LAST-MODIFIED:20250908T121316Z
UID:7668-1670095800-1670103000@poulantzas.gr
SUMMARY:Παρουσίαση βιβλίου - ΞΕΦΛΟΥΔΙΖΟΝΤΑΣ ΠΑΤΑΤΕΣ ή ΛΕΙΑΙΝΟΝΤΑΣ ΦΑΚΟΥΣ του Αριστείδη Μπαλτά
DESCRIPTION:ΠΡΟΣΚΛΗΣΗ \n\nΞΕΦΛΟΥΔΙΖΟΝΤΑΣ ΠΑΤΑΤΕΣ ή ΛΕΙΑΙΝΟΝΤΑΣ ΦΑΚΟΥΣ\nΟ Σπινόζα και ο νεαρός Βιτγκενστάιν\nσυνομιλούν για την εμμένεια και τη λογική της \n\nΣάββατο 3 Δεκεμβρίου 2022\,19:30 \nΊδρυμα Εικαστικών Τεχνών και Μουσικής\nΒασίλη και Μαρίνας Θεοχαράκη\nΒασ. Σοφίας 9 & Μέρλιν 1 | Είσοδος ελεύθερη \n \n  \nΟι Πανεπιστημιακές Εκδόσεις Κρήτης σας προσκαλούν στην παρουσίαση του βιβλίου του Αριστείδη Μπαλτά \nΞΕΦΛΟΥΔΙΖΟΝΤΑΣ ΠΑΤΑΤΕΣ ή ΛΕΙΑΙΝΟΝΤΑΣ ΦΑΚΟΥΣ\nΟ Σπινόζα και ο νεαρός Βιτγκενστάιν συνομιλούν για την εμμένεια και τη λογική της \nΣτην παρουσίαση συμμετέχουν οι: \nΦαίη Αλαφούζου\, Τμήμα Φιλοσοφίας\, Emory University \nΣτάθης Γουργουρής\, καθηγητής Συγκριτικής Λογοτεχνίας και Κοινωνικών Σπουδών\,\nΠανεπιστήμιο Columbia της Νέας Υόρκης \nΓεράσιμος Κουζέλης\, καθηγητής Eπιστημολογίας και Κοινωνιολογίας της Γνώσης στο Τμήμα Πολιτικής Επιστήμης και Δημόσιας Διοίκησης\, Εθνικό και Καποδιστριακό Πανεπιστήμιο Αθηνών \nΔημήτρης Τζανακόπουλος\, Νομικός \nκαι ο συγγραφέας\, Αριστείδης Μπαλτάς\, ομότιμος καθηγητής ΕΜΠ (φιλοσοφία των επιστημών) \nΘα συντονίσει ο Ανδρέας Μαράτος\, Πάντειο Πανεπιστήμιο\, Iνστιτούτο Νίκος Πουλαντζάς \n  \n\nΠερισσότερα για το βιβλίο \nΑΡΙΣΤΕΙΔΗΣ ΜΠΑΛΤΑΣ\nΞΕΦΛΟΥΔΙΖΟΝΤΑΣ ΠΑΤΑΤΕΣ ή ΛΕΙΑΙΝΟΝΤΑΣ ΦΑΚΟΥΣ\nΟ Σπινόζα και ο νεαρός Βιτγκενστάιν συνομιλούν για την εμμένεια και τη λογική της \n  \n  \nΟ Αριστείδης Μπαλτάς γεννήθηκε στην Κέρκυρα (1943). Είναι Ομότιμος Καθηγητής ΕΜΠ (Φιλοσοφία των Επιστημών)\, Διπλωματούχος Μηχανολόγος-Ηλεκτρολόγος ΕΜΠ και Διδάκτωρ Θεωρητικής Φυσικής του Πανεπιστημίου Παρισίων. Τιμήθηκε με το Κρατικό Βραβείο Δοκιμίου-Κριτικής για το βιβλίο του Αντικείμενα και όψεις εαυτού (Εστία 2002) και με το Βραβείο Eξαίρετης Πανεπιστημιακής Διδασκαλίας στη μνήμη Β. Ξανθόπουλου – Στ. Πνευματικού (2010). Διευθύνει την εκδοτική σειρά «Φιλοσοφία της Επιστήμης» στις Πανεπιστημιακές Εκδόσεις Κρήτης. Έχει γράψει εννέα βιβλία\, έχει συνεπιμεληθεί άλλα και έχει δημοσιεύσει πολλές εργασίες στα αγγλικά και τα ελληνικά. Έχει προσκληθεί να μιλήσει σε πολλά πανεπιστήμια της Ελλάδας και του εξωτερικού και έχει διδάξει στο Πανεπιστήμιο του Πίτσμπουργκ των ΗΠΑ και στο Πανεπιστήμιο του Βοσπόρου στην Κωνσταντινούπολη. Διετέλεσε υπουργός Πολιτισμού\, Παιδείας και Θρησκευμάτων\, υπουργός Πολιτισμού και Αθλητισμού και πρόεδρος του Ινστιτούτου «Νίκος Πουλαντζάς». Τελευταίο βιβλίο του είναι το Εντός παρενθέσεως; Κυβερνώσα Ριζοσπαστική Αριστερά (Πατάκης 2019). Υπό έκδοση στις Πανεπιστημιακές Εκδόσεις Κρήτης είναι το Φιλοσοφία και επιστήμες στον 20ό αιώνα\, Β΄ τόμος: Κοινωνικές επιστήμες και επιστήμες του ανθρώπου\, ο δρόμος της έννοιας\, με συνεπιμελητή τον Θ. Δημητράκο\, και στις Εκδόσεις Νήσος / Ίδρυμα Νίκος Πουλαντζάς το βιβλίο του Το φάντασμα του κομμουνισμού: Ένας αιώνας Αριστεράς (μνήμη Άγγελου Ελεφάντη). \n  \n  \nΠΛΗΡΟΦΟΡΙΕΣ \nΠανεπιστημιακές Εκδόσεις Κρήτης\nΓραφείο Τύπου: Ελένη Χρηστιά\nT (30) 2103849034 | M (30) 6978486887 | christia@cup.gr | www.cup.gr
URL:https://poulantzas.gr/event/parousiasi-vivliou-xefloudizontas-patates-i-leiainontas-fakous-aristeidis-baltas/
ATTACH;FMTTYPE=image/jpeg:https://poulantzas.gr/wp-content/uploads/2022/12/ΞΕΦΛΟΥΔΙΖΟΝΤΑΣ-ΠΑΤΑΤΕΣ.jpg
END:VEVENT
END:VCALENDAR