BEGIN:VCALENDAR
VERSION:2.0
PRODID:-//Ινστιτούτο Νίκος Πουλαντζάς - ECPv6.15.4//NONSGML v1.0//EN
CALSCALE:GREGORIAN
METHOD:PUBLISH
X-WR-CALNAME:Ινστιτούτο Νίκος Πουλαντζάς
X-ORIGINAL-URL:https://poulantzas.gr
X-WR-CALDESC:Events for Ινστιτούτο Νίκος Πουλαντζάς
REFRESH-INTERVAL;VALUE=DURATION:PT1H
X-Robots-Tag:noindex
X-PUBLISHED-TTL:PT1H
BEGIN:VTIMEZONE
TZID:Europe/Athens
BEGIN:DAYLIGHT
TZOFFSETFROM:+0200
TZOFFSETTO:+0300
TZNAME:EEST
DTSTART:20220327T010000
END:DAYLIGHT
BEGIN:STANDARD
TZOFFSETFROM:+0300
TZOFFSETTO:+0200
TZNAME:EET
DTSTART:20221030T010000
END:STANDARD
END:VTIMEZONE
BEGIN:VEVENT
DTSTART;TZID=Europe/Athens:20220504T190000
DTEND;TZID=Europe/Athens:20220504T210000
DTSTAMP:20260424T004446
CREATED:20220428T101424Z
LAST-MODIFIED:20250908T122049Z
UID:7197-1651690800-1651698000@poulantzas.gr
SUMMARY:Η γαλλική κοινωνία και πολιτική εν μέσω εκλογικών αναμετρήσεων: Σε (α)διέξοδο;
DESCRIPTION:Το Ινστιτούτο Νίκος Πουλαντζάς στο πλαίσιο των θεματικών Θεσμοί-Δημοκρατία-Πολιτική και Ευρώπη & Κόσμος διοργανώνει την Τετάρτη 4 Μαΐου 2022 και ώρα 7.00 μ.μ. διαδικτυακή εκδήλωση με αφορμή τις πρόσφατες προεδρικές εκλογές στη Γαλλία και τίτλο Η γαλλική κοινωνία και πολιτική εν μέσω εκλογικών αναμετρήσεων: Σε (α)διέξοδο;. \nΓια τα αποτελέσματα των προεδρικών εκλογών\, τις κοινωνικές διεργασίες που αυτά αποτυπώνουν\, τους μετασχηματισμούς στο γαλλικό κομματικό σύστημα και τις προοπτικές ενόψει των βουλευτικών εκλογών\, αλλά και για τις προοπτικές που ανοίγονται για τη Γαλλία και την Ευρώπη μετά την επανεκλογή του Emmanuel Macron στο προεδρικό αξίωμα\, θα συζητήσουν Έλληνες ακαδημαϊκοί και εκπρόσωποι γαλλικών πολιτικών και ερευνητικών ινστιτούτων του ευρύτερου προοδευτικού χώρου. \nΑναλυτικότερα\, θα μιλήσουν οι Arnaud Le Gall (ίδρυμα La Boétie)\, Louise Gaxie (διευθύντρια του ιδρύματος Gabriel Péri)\, Gala Kabbaj (ινστιτούτο Espaces Marx)\, Benoit Monange (διευθυντής του ιδρύματος Πολιτικής Οικολογίας – Fondation de l’écologie politique)\, Γεράσιμος Μοσχονάς (καθηγητής Συγκριτικής Πολιτικής Ανάλυσης\, Πάντειο Πανεπιστήμιο) και Δέσποινα Σίνου (επίκουρη καθηγήτρια Διεθνούς Δικαίου\, αναπληρώτρια κοσμήτορας Σχολής Νομικών\, Πολιτικών και Κοινωνικών Επιστημών\, Πανεπιστήμιο Sorbonne Paris Nord)\, ενώ μια σύντομη εισαγωγή και παρουσίαση των βασικών διαστάσεων των εκλογικών αποτελεσμάτων των πρόσφατων εκλογών θα κάνει η Δανάη Κολτσίδα\, διευθύντρια του Ινστιτούτου Νίκος Πουλαντζάς. \nΗ συζήτηση\, την οποία θα συντονίσει ο δημοσιογράφος και διευθυντής του avgi.gr\, Νίκος Σβέρκος\, θα μεταδοθεί ζωντανά μέσω του καναλιού του ΙΝΠ στο YouTube (με διερμηνεία στα ελληνικά)\, όπου και θα υπάρχει η δυνατότητα το κοινό να καταθέτει τις ερωτήσεις ή τα σχόλιά του. Εναλλακτικά\, θα είναι δυνατή η παρακολούθηση και μέσω του www.poulantzas.gr.
URL:https://poulantzas.gr/event/i-galliki-koinonia-kai-politiki-en-meso-eklogikon-anametriseon-se-adiexodo/
ATTACH;FMTTYPE=image/jpeg:https://poulantzas.gr/wp-content/uploads/2022/04/story-1.jpg
END:VEVENT
BEGIN:VEVENT
DTSTART;TZID=Europe/Athens:20220506T180000
DTEND;TZID=Europe/Athens:20220506T200000
DTSTAMP:20260424T004446
CREATED:20220427T151308Z
LAST-MODIFIED:20250908T121932Z
UID:7191-1651860000-1651867200@poulantzas.gr
SUMMARY:Τραύμα\, συλλογική Μνήμη\,  Επανόρθωση μέσω του «Άλλου» | Θεσσαλονίκη - 6/5/2022
DESCRIPTION:Το Ινστιτούτο Νίκος Πουλαντζάς και ο Όμιλος Φίλων Θεσσαλονίκης του ΙΝΠ διοργανώνουν μια σειρά επετειακών δράσεων μνήμης για τα 100 χρόνια από το 1922 στο πλαίσιο ενός προγράμματος με θέμα «Εκατό χρόνια από το 1922: Ταυτότητες\, δομές\, πολιτική στην Ελλάδα του Μεσοπολέμου και ειδικά στις Νέες Χώρες». \nΤο 1922 θεωρείται τομή για τον ελληνικό κοινωνικό σχηματισμό καθόσον σημαίνει την αναδίπλωση της παροικιακής αστικής τάξης και των προσφύγων στα τελικά όρια του ελληνικού κράτους – έθνους. Με αφετηρία τον Πρώτο Παγκόσμιο πόλεμο εξελίσσεται αυτή η περιπέτεια\, που στην Ελλάδα μεταφράζεται κυρίως ως προσφυγικό\, και συντέλεσε στη διαμόρφωση δομών και θεσμών στα κράτη που ενεπλάκησαν. \nΤι σημαίνει το 1922 σήμερα; Γιατί επιμένουμε να το βλέπουμε αποκομμένο από το ιστορικό του συγκείμενο\, ως εξαιρετικό και μοναδικό γεγονός; Λαμβάνοντας υπόψη τις μέχρι σήμερα μελέτες\, το ενδιαφέρον μας επικεντρώνεται όχι μόνο στην εκστρατεία αυτήν καθ’ εαυτή και στην εγκατάσταση των προσφύγων στην Ελλάδα αλλά στον Μεσοπόλεμο ευρύτερα\, κυρίως στην περιοχή των λεγομένων Νέων Χωρών. \nΟ «σύντομος» ελληνικός Μεσοπόλεμος (1922-1940) χαρακτηρίστηκε από την προσπάθεια ομογενοποίησης ενός ετερόκλητου εθνοτικά και πολιτισμικά πληθυσμού. Την ίδια περίπου εποχή τα κράτη που προέκυψαν από τη διάλυση των τριών αυτοκρατοριών\, της Αυστροουγγρικής\, της Ρωσικής και της Οθωμανικής\, βρέθηκαν στην ανάγκη να ενσωματώσουν και να ομογενοποιήσουν τους πληθυσμούς τους και να επουλώσουν τα τραύματα του πολέμου. Υπάρχουν εμφανείς αναλογίες με φαινόμενα που καταγράφηκαν την ίδια εποχή σε άλλες βαλκανικές ή ευρωπαϊκές χώρες. Μια προσπάθεια να εντοπιστούν και να μελετηθούν οι ιδιαιτερότητες\, οι συγκλίσεις και οι αποκλίσεις της ελληνικής περίπτωσης σε σχέση με το ευρύτερο και το περιφερειακό της πλαίσιο θα βοηθούσε να απαντηθεί το παραπάνω ερώτημα. Η διεπιστημονική και συγκριτική προσέγγιση μπορεί να ξεδιπλώσει διάφορες κοινωνικές\, πολιτικές και οικονομικές πλευρές του Μεσοπολέμου. \nΜεθοδολογικά προκρίνεται η διατύπωση ερωτημάτων τα οποία αφορούν σύγχρονα φαινόμενα που διαμορφώνουν κοινωνικές\, πολιτικές και πολιτισμικές ταυτότητες και τα οποία θα αποτελέσουν την αφετηρία για σκέψη\, έρευνα και συζήτηση ως προς την περίοδο του Μεσοπολέμου. Οι εκδηλώσεις είναι απότοκο ενός μεθοδολογικού διεπιστημονικού εργαστηρίου\, που προηγήθηκε. \nΣτόχος των Ημερίδων-Εκδηλώσεων είναι: \nΗ ανίχνευση των «πολλών Ελλάδων» που συναντήθηκαν εντός των ορίων της νέας εθνικής- επικράτειας. Η κριτική επανεξέταση των ερευνητικών ευρημάτων.- Η ανάδειξη της πολιτικής και ιδεολογικής σημασίας των σύγχρονων καίριων προβλημάτων (προσφυγικό\, μετακίνηση πληθυσμών\, πόλεμοι) αλλά και της κριτικής προς τις απλοϊκές και γραμμικές εθνοκεντρικές αφηγήσεις που περιστέλλουν τη σημασία της επετείου\, αποτελεί καθήκον του ΙΝΠ. \nΣτο πρόγραμμα προβλέπονται τρεις δημόσιες εκδηλώσεις: η πρώτη στις 6 Μαΐου\, η δεύτερη τον Ιούνιο\, η τρίτη τον Οκτώβριο. \n  \nΑναλυτικά το πρόγραμμα της εκδήλωσης: \n \n  \nΔιαβάστε τις ομιλίες της 1ης εκδήλωσης εδώ: https://poulantzas.gr/travma-syllogiki-mnimi-epanorthosi-meso-tou-allou-thessaloniki-6-5-2022/
URL:https://poulantzas.gr/event/travma-syllogiki-mnimi-epanorthosi-meso-tou-allou-thessaloniki-6-5-2022/
ATTACH;FMTTYPE=image/jpeg:https://poulantzas.gr/wp-content/uploads/2022/04/Αφίσα-εκδήλωσης_06_04_2022-01.jpg
END:VEVENT
BEGIN:VEVENT
DTSTART;TZID=Europe/Athens:20220510T190000
DTEND;TZID=Europe/Athens:20220510T220000
DTSTAMP:20260424T004446
CREATED:20220505T095651Z
LAST-MODIFIED:20250908T121747Z
UID:7213-1652209200-1652220000@poulantzas.gr
SUMMARY:Ο λόγος σε σας! Συζητάμε με αφορμή την έρευνα "Νεολαία. Συνήθειες\, αντιλήψεις και πολιτική συμπεριφορά"
DESCRIPTION:Το Ινστιτούτο Νίκος Πουλαντζάς δίνει το λόγο στους νέους και στις νέες!\nΤρίτη 10 Μαΐου 2022\,  7.00 μ.μ.\nΔημοτική Αγορά Κυψέλης & Online\n  \nΜια διαφορετική εκδήλωση διοργανώνει την Τρίτη 10 Μαΐου 2022\, στις 7.00 μ.μ. στη Δημοτική Αγορά Κυψέλης το Ινστιτούτο Νίκος Πουλαντζάς\, με αφορμή την πρόσφατη δημοσίευση της ετήσιας έρευνας Νεολαία. Συνήθειες\, αντιλήψεις και πολιτική συμπεριφορά\, που πραγματοποιεί από το 2020 σε συνεργασία με την εταιρία Prorata. \n\nΔείτε την έρευνα εδώ: https://poulantzas.gr/yliko/erevna-neolaia-synitheies-antilipseis-kai-politiki-syberifora-3o-kyma-aprilios-2022/\n\n  \nΜια ομάδα νέων ανθρώπων\, που πηγαίνουν στο σχολείο\, σπουδάζουν ή εργάζονται στη χώρα μας\, σχολιάζουν -ως οι άμεσα ενδιαφερόμενοι και ενδιαφερόμενες- μερικά από τα πιο χαρακτηριστικά ευρήματα της έρευνας αυτής\, και συζητούν με τη διευθύντρια του ΙΝΠ και υπεύθυνη για το σχεδιασμό και την ανάλυση της έρευνας\, Δανάη Κολτσίδα\, και τον επικεφαλής πολιτικών ερευνών της Prorata\, Άγγελο Σεριάτο. \nΌπως αναφέρεται από τους διοργανωτές: “Ο σκοπός μας είναι\, μέσα από τη συζήτηση αυτή\, να φωτίσουμε και να εμπλουτίσουμε τη μεγάλη εικόνα που μας δίνουν τα ποσοτικά στατιστικά στοιχεία της έρευνας\, με τις προσωπικές εμπειρίες\, βιώματα και οπτικές που θα μοιραστούν μαζί μας οι ίδιοι οι νέοι και οι νέες: για την καθημερινότητα και τις συνήθειές τους\, για τα προβλήματα που αντιμετωπίζουν\, τις αγωνίες αλλά και τα όνειρά τους για το μέλλον\, για την κοινωνία και τα μεγάλα διλήμματα της εποχής μας\, για τον τρόπο που ενημερώνονται\, για τις ιδέες τους\, την πολιτική\, τον συνδικαλισμό\, τα κόμματα και τις δικές τους συλλογικότητες. \n📣 Θα υπάρχει παράλληλα livestreaming μέσω του καναλιού του ΙΝΠ στο YouTube. Περισσότερες λεπτομέρειες θα ανακοινωθούν σύντομα.
URL:https://poulantzas.gr/event/o-logos-se-sas-syzitame-me-aformi-tin-erevna-neolaia-synitheies-antilipseis-kai-politiki-syberifora/
ATTACH;FMTTYPE=image/jpeg:https://poulantzas.gr/wp-content/uploads/2022/05/story-5-1.jpg
END:VEVENT
END:VCALENDAR