BEGIN:VCALENDAR
VERSION:2.0
PRODID:-//Ινστιτούτο Νίκος Πουλαντζάς - ECPv6.15.4//NONSGML v1.0//EN
CALSCALE:GREGORIAN
METHOD:PUBLISH
X-ORIGINAL-URL:https://poulantzas.gr
X-WR-CALDESC:Events for Ινστιτούτο Νίκος Πουλαντζάς
REFRESH-INTERVAL;VALUE=DURATION:PT1H
X-Robots-Tag:noindex
X-PUBLISHED-TTL:PT1H
BEGIN:VTIMEZONE
TZID:Europe/Athens
BEGIN:DAYLIGHT
TZOFFSETFROM:+0200
TZOFFSETTO:+0300
TZNAME:EEST
DTSTART:20220327T010000
END:DAYLIGHT
BEGIN:STANDARD
TZOFFSETFROM:+0300
TZOFFSETTO:+0200
TZNAME:EET
DTSTART:20221030T010000
END:STANDARD
END:VTIMEZONE
BEGIN:VEVENT
DTSTART;TZID=Europe/Athens:20220302T183000
DTEND;TZID=Europe/Athens:20220302T183000
DTSTAMP:20260424T032155
CREATED:20220224T112044Z
LAST-MODIFIED:20250909T115345Z
UID:6956-1646245800-1646245800@poulantzas.gr
SUMMARY:Εκδήλωση – Βιβλιοπαρουσίαση: Αριστερή κυβερνησιμότητα: Η εμπειρία του ΣΥΡΙΖΑ 2015-2019
DESCRIPTION:Εκδήλωση – Βιβλιοπαρουσίαση \nΑριστερή κυβερνησιμότητα: Η εμπειρία του ΣΥΡΙΖΑ 2015-2019 \nΤετάρτη 2 Μαρτίου 2022\, ώρα 18.30 \n  \nΤο Ινστιτούτο Νίκος Πουλαντζάς σε συνεργασία με τις εκδόσεις Νήσος διοργανώνουν διαδικτυακή εκδήλωση – βιβλιοπαρουσίαση του συλλογικού έργου Αριστερή κυβερνησιμότητα: Η εμπειρία του ΣΥΡΙΖΑ 2015-2019 (Αθήνα 2021)\, σε επιμέλεια των Κώστα Δουζίνα και Μιχάλη Μπαρτσίδη και συμβολές των: Σαμ Γκίντιν\, Κώστα Δουζίνα\, Αριστείδη Μπαλτά\, Μιχάλη Σπουρδαλάκη\, Μποαβεντούρα Ντε Σόουζα Σάντος\, Μιχάλη Μπαρτσίδη\, Λόη Λαμπριανίδη\, Έφης Αχτσιόγλου\, Μαρίας Καραμεσίνη\, Ευκλείδη Τσακαλώτου\, Πέτρου Λινάρδου – Ρυλμόν\, Άκη (Peter) Μπράτση\, Ηλία Γεωργαντά\, Χριστόφορου Βερναρδάκη\, Δανάης Κολτσίδα\, Γιώργου Σταμπουλή. Οι συγγραφείς επιχειρούν να προσφέρουν στοιχεία ανάλυσης της εμπειρίας της διακυβέρνησης του ΣΥΡΙΖΑ και ιδέες για το όραμα\, τις στρατηγικές και τις πολιτικές της Αριστεράς. Με ανάλογο κριτικό πνεύμα επίγνωσης αλλά και πίστης στις ανοικτές δυνατότητες του παρόντος και του μέλλοντος\, οι συμμετέχουσες/οντες στην εκδήλωση θα επιχειρήσουν να εμβαθύνουν στις θεματικές και τις προτάσεις του βιβλίου. \nΣυζητούν οι:\nΦωτεινή Βάκη\, αναπληρώτρια καθηγήτρια – Ιόνιο Πανεπιστήμιο\, πρώην\nβουλεύτρια\nΧρήστος Λυριντζής\, ομότιμος καθηγητής – ΕΚΠΑ \nΜαρία Ρεπούση\, ιστορικός – ΑΠΘ\, πρώην βουλεύτρια\nΆρης Στυλιανού\, αναπληρωτής καθηγητής – ΑΠΘ \nΣυντονίζει η Μαργαρίτα Συγγενιώτου\, λυρική τραγουδίστρια\, μέλος Γραμματείας Τμήματος Πολιτισμού ΣΥΡΙΖΑ \nΠαρεμβαίνουν οι επιμελητές του τόμου. \nΗ εκδήλωση θα μεταδοθεί ζωντανά από την ιστοσελίδα του ΙΝΠ\, το κανάλι του INΠ στο You Tube και τη σελίδα του ΙΝΠ στο facebook.
URL:https://poulantzas.gr/event/ekdilosi-vivlioparousiasi-aristeri-kyvernisimotita-i-ebeiria-tou-syriza-2015-2019/
ATTACH;FMTTYPE=image/jpeg:https://poulantzas.gr/wp-content/uploads/2022/02/story-4-1.jpg
END:VEVENT
BEGIN:VEVENT
DTSTART;TZID=Europe/Athens:20220311T183000
DTEND;TZID=Europe/Athens:20220311T203000
DTSTAMP:20260424T032155
CREATED:20220306T175543Z
LAST-MODIFIED:20250909T115223Z
UID:6987-1647023400-1647030600@poulantzas.gr
SUMMARY:Διαδικτυακή διάλεξη της Ipek Ilkkaracan:"Purple Economy for Inclusive and Sustainable Growth"
DESCRIPTION:Η Πρύτανις και η Επιτροπή Ισότητας των Φύλων (Ε.Ι.Φ.) του Παντείου Πανεπιστημίου σας προσκαλούν την Παρασκευή 11 Μαρτίου και ώρα 18.30 στη διάλεξη της Ipek Ilkkaracan\, Καθηγήτριας Οικονομικών στο Τεχνικό Πανεπιστήμιο της Κωνσταντινούπολης και Προέδρου της Διεθνούς Ένωσης για τα Φεμινιστικά Οικονομικά.\n\nΤίτλος ομιλίας: “Purple Economy for Inclusive and Sustainable Growth”\n«Μια Φεμινιστική (Μωβ) Οικονομία για μια Συμπεριληπτική και Βιώσιμη Aνάπτυξη»\n\nΧαιρετισμός: Καθηγήτρια Χριστίνα Κουλούρη\, Πρύτανις του Παντείου Πανεπιστημίου\nΠρόλογος και Συντονισμός: Καθηγήτρια Μαρία Καραμεσίνη\, Πρόεδρος της Ε.Ι.Φ.\n\nΗ διάλεξη θα πραγματοποιηθεί στα αγγλικά\, με ταυτόχρονη διερμηνεία στα ελληνικά μέσω zoom: https://authgr.zoom.us/j/91842070860…\nMeeting ID: 918 4207 0860\, Passcode: 783205\nΘα μεταδίδεται και απευθείας μόνο στα αγγλικά από το κανάλι της ΕΙΦ στο YouTube: https://www.youtube.com/watch?v=RWxTD60OIb0
URL:https://poulantzas.gr/event/diadiktyaki-dialexi-tis-ipek-ilkkaracanpurple-economy-for-inclusive-and-sustainable-growth/
ATTACH;FMTTYPE=image/jpeg:https://poulantzas.gr/wp-content/uploads/2022/03/Poster_EIF_11_March_2022-1-1.jpg
END:VEVENT
BEGIN:VEVENT
DTSTART;VALUE=DATE:20220316
DTEND;VALUE=DATE:20220319
DTSTAMP:20260424T032155
CREATED:20220221T132010Z
LAST-MODIFIED:20250909T115141Z
UID:6940-1647388800-1647647999@poulantzas.gr
SUMMARY:Συνέδριο | Επιστήμη και πολιτική: Πεδία σύμπραξης και έντασης – φορείς και πρακτικές
DESCRIPTION:Το θέμα της σχέσης της επιστήμης με την πολιτική αναδεικνύει το διεθνές διαδικτυακό συνέδριο που διοργανώνει το Ινστιτούτο Νίκος Πουλαντζάς στις 16-18 Μαρτίου 2022\, ως κορυφαία εναρκτήρια εκδήλωση των επετειακών δραστηριοτήτων για τη συμπλήρωση των 25 χρόνων από την ίδρυσή του\, με τίτλο Επιστήμη και πολιτική: Πεδία σύμπραξης και έντασης – φορείς και πρακτικές. \nΦιλοξενώντας περίπου εβδομήντα διακεκριμένους/ες ομιλητές και ομιλήτριες – ακαδημαϊκούς\, πολιτικούς\, δημοσιογράφους\, εκπροσώπους ερευνητικών φορέων\, αλλά και φορέων της κοινωνίας των πολιτών– από την Ελλάδα και το εξωτερικό\, το συνέδριο επιδιώκει να χαρτογραφήσει τα πολλαπλά πεδία στα οποία συναντώνται και αλληλεπιδρούν η επιστήμη και η πολιτική και τις θεωρητικές και πρακτικές διαστάσεις της συνάντησής τους. \nΜεταξύ άλλων\, μέσα από συνολικά δέκα στρογγυλά τραπέζια τόσο πάνω στη γενική θεματική του συνεδρίου όσο και πάνω σε επιμέρους πεδία\, όπως η οικονομία\, η εργασία\, το περιβάλλον\, η υγεία\, κ.λπ.\, θα επιχειρηθεί να απαντηθούν ερωτήματα όπως: \n\nΠώς παράγεται η επιστήμη και πώς αξιοποιείται από την πολιτική\, σε πολλαπλά επίπεδα – εθνικό και υπερεθνικό\, δημόσιο και ιδιωτικό;\nΠόσο και πώς επιδρούν τα διαφορετικά επιστημονικά πεδία και αντικείμενα και οι διαφορετικές σχολές και ρεύματα και πώς ο επιστημονικός πλουραλισμός και οι ιδιαίτεροι κανόνες παραγωγής και αξιολόγησης της επιστημονικής γνώσης συμβαδίζουν με τους χρόνους και τις προτεραιότητες της πολιτικής;\nΜέσα από ποιους θεσμούς και ποιες διαδικασίες παράγεται η επιστήμη\, πώς υπερισχύουν συγκεκριμένες σχολές και ρεύματα έναντι άλλων;\nΠοιο ρόλο παίζει ο δημόσιος και ο ιδιωτικός τομέας στην παραγωγή γνώσης και σε ποιους (πρέπει να) ανήκει η γνώση αυτή\, ποιοι θέτουν τις ερευνητικές προτεραιότητες\, τι κατευθύνσεις δίνει η (δημόσια) πολιτική για την εκπαίδευση και την έρευνα;\nΠώς συνδέεται με την κρίση της πολιτικής ο περιορισμός του λαϊκού στοιχείου της δημοκρατίας και η μετάθεση κρίσιμων πολιτικών αποφάσεων σε μη δημοκρατικά νομιμοποιημένα όργανα\, στο πλαίσιο μιας ευρύτερης τεχνοκρατικοποίησης της πολιτικής;\nΠώς μπορούν να λάβουν ενήμερες αποφάσεις οι πολιτικώς δρώντες μέσα στο όλο και πιο σύνθετο πλαίσιο που διαμορφώνουν η παγκοσμιοποίηση και η διαρκής και αλματώδης τεχνολογική εξέλιξη και πώς η πολιτική και ιδεολογική διαμάχη περί αξιών και οραμάτων τείνει συχνά να υποκαθίσταται ή\, έστω\, να συμπληρώνεται από το ερώτημα ποια είναι η «σωστή» επιστήμη; Ποια επιστημονικά δεδομένα επιλέγει κανείς να χρησιμοποιήσει προκειμένου να στηρίξει τη μία ή την άλλη απόφαση και τι πολιτικές συνέπειες προκύπτουν από αυτό;\nΜέσα από ποιους θεσμούς και διαδικασίες τα επιστημονικά δεδομένα μετατρέπονται σε πολιτικές αποφάσεις και\, αντίστροφα\, πώς αξιολογούνται τα αποτελέσματα των πολιτικών αποφάσεων;\nΠώς λειτουργούν τα ΜΜΕ ως πεδίο διαμεσολάβησης μεταξύ αφ’ ενός μεν του κοινού\, αφ’ ετέρου δε των επιστημονικών πορισμάτων και των πολιτικών αποφάσεων;\nΠοιον ρόλο παίζουν και μπορούν να παίξουν τα πολιτικά κόμματα και τα πολιτικά ινστιτούτα συνθέτοντας εξ ορισμού έναν ευρύ «ενδιάμεσο» χώρο μεταξύ επιστήμης και πολιτικής;\nΤι περιθώρια υπάρχουν για τη χάραξη προοδευτικών και αριστερών πολιτικών στο πλαίσιο αυτό και πώς μπορεί η επιστημονική έρευνα και η δημόσια πολιτική για την εκπαίδευση και την έρευνα να λειτουργήσει στην κατεύθυνση αυτή; Πώς παράγεται και αξιοποιείται επιστημονική γνώση από προοδευτικές και αριστερές κυβερνήσεις και κόμματα\, από φορείς της κοινωνίας των πολιτών\, συνδικάτα\, κινήματα κ.λπ. για την προώθηση εναλλακτικών λύσεων και προσεγγίσεων;\n\n  \nΤο συνέδριο θα πραγματοποιηθεί αποκλειστικά διαδικτυακά. Μπορείτε να το παρακολουθήσετε μέσα από το κανάλι του ΙΝΠ στο YouTube ή στο poulantzas.gr. \n \nΕπιστημονικά υπεύθυνοι του συνεδρίου είναι η Δανάη Κολτσίδα\, διευθύντρια του Ινστιτούτου Νίκος Πουλαντζάς και ο Γεράσιμος Κουζέλης\, ομότιμος καθηγητής του ΕΚΠΑ και μέλος του ΔΣ του ΙΝΠ\, ενώ την οργανωτική επιτροπή συμπληρώνουν εκ μέρους του ΙΝΠ οι ερευνήτριες/ές : Μαρία Χαϊδοπούλου-Βρυχέα\, συντονίστρια της θεματικής Τεχνολογία & Γνώση\, Βαγγία Λυσικάτου\, συντονίστρια της θεματικής Περιβάλλον-Κλιματική Κρίση-Οικολογία\, Ελένη Γκρίνγουδ\, συντονίστρια της θεματικής Οικονομία-Παραγωγή-Βιώσιμη Ανάπτυξη και Ανδρέας Μαράτος\, συντονιστής της θεματικής Ευρώπη & Κόσμος. \nΌπως σημειώνουν οι διοργανωτές: \nΗ θεματική του συνεδρίου είναι\, την ίδια στιγμή\, τόσο επίκαιρη όσο και διαχρονική. Από τη μία πλευρά\, η τρέχουσα πανδημία έφερε στο προσκήνιο με ιδιαίτερη έμφαση το ζήτημα της επιστήμης και του ρόλου της και\, κυρίως\, της σχέσης της με την πολιτική και την λήψη των πολιτικών αποφάσεων\, καθιστώντας τη σχετική συζήτηση αντικείμενο όχι μόνο της φιλοσοφικής\, θεωρητικής και επιστημολογικής συζήτησης\, αλλά και του δημόσιου πολιτικού διαλόγου –συχνά με σφοδρότητα. \nΑπό την άλλη πλευρά\, το ερώτημα της σχέσης της επιστήμης με την πολιτική δεν είναι καινούριο. Αν και η ανάγκη τεκμηρίωσης των πολιτικών αποφάσεων και στήριξής τους σε επιστημονικά δεδομένα\, πολύ δύσκολα θα μπορούσε επί της αρχής να αμφισβητηθεί\, ειδικά στη σημερινή διαρκώς πιο σύνθετη εποχή\, η σχέση της επιστήμης με την πολιτική είναι πολύ πιο περίπλοκη και αντιφατική. \n  \nΕπιχειρώντας να χαρτογραφήσει όσο γίνεται πληρέστερα\, αν και όχι εξαντλητικά\, τη σχετική συζήτηση\, το συνέδριο είναι διαρθρωμένο σε τρεις συνεδρίες με συνολικά δέκα θεματικές συζητήσεις: \n  \nΗ πρώτη συνεδρία\, που αποσκοπεί να θέσει το γενικό πλαίσιο της συζήτησης\, ξεκινά από το γενικό ερώτημα «Ποια επιστήμη (-ες) και ποια πολιτική;» (Ι)\, ενώ προσθέτει στην ήδη σύνθετη σχέση επιστήμης και πολιτικής δύο ακόμα διαστάσεις: το ρόλο της τεχνολογίας (ΙΙ)\, αλλά και το δημόσιο λόγο και τα ΜΜΕ (ΙΙΙ) ως πεδίο συνάντησης της επιστήμης και της πολιτικής. \n  \nΗ δεύτερη συνεδρία έρχεται στον «πυρήνα» της προβληματικής του συνεδρίου και φιλοδοξεί να αναδείξει τους φορείς που δραστηριοποιούνται στο πεδίο της επιστήμης και της πολιτικής ή\, ακριβέστερα\, τους φορείς που παράγουν επιστημονική γνώση για πολιτική χρήση ή (δημόσιες) πολιτικές για την επιστήμη και την έρευνα. Η αρχή γίνεται\, αυτονόητα\, από τους δημόσιους ερευνητικούς φορείς (IV) και τον βαρύνοντα και αναντικατάστατο ρόλο τους\, ενώ ξεχωριστές συζητήσεις αφιερώνονται αφ’ ενός στους καθ’ αυτό διοικητικούς και πολιτικούς φορείς που χρησιμοποιούν ή\, έστω\, επικαλούνται επιστημονικά δεδομένα για τη χάραξη και την νομιμοποίηση των αποφάσεών τους (V)\, αφ’ ετέρου στα πολιτικά ινστιτούτα ως ένα κατεξοχήν ενδιάμεσο πεδίο μεταξύ επιστήμης και πολιτικής (VI). \n  \nΗ τρίτη και τελευταία συνεδρία επιδιώκει να χαρτογραφήσει τη σχέση επιστήμης και πολιτικής\, όπως πια αυτή αποτυπώνεται και πρακτικά σε συγκεκριμένα πεδία της κοινωνικής ζωής\, και ειδικότερα στο περιβάλλον και το κλίμα (VII)\, στην οικονομία και το αναπτυξιακό μοντέλο (VIII)\, στην εργασία και στο κοινωνικό κράτος (ΙΧ) και στην υγεία (X)\, όπου και εξάγονται πολύτιμα συμπεράσματα από την πανδημία. \nΤέλος\, το καταληκτικό πάνελ επιχειρεί να συνοψίσει\, να σχολιάσει αλλά και να ανοίξει προς περαιτέρω προβληματισμό και μελέτη τα θέματα του συνεδρίου. \n  \nΑναλυτικά το πρόγραμμα του συνεδρίου:\nπρογραμμα-ΣΥΝΕΔΡΙΟΥ-ΙΝΠ_compressed.pdf \n  \n  \nTα βιογραφικά των ομιλητών και των ομιλητριών:\nWHO-IS-WHO-1.pdf \n  \n\nΤίτλοι και περιλήψεις των εισηγήσεων του συνεδρίου:\nABSTRACTS-1.pdf
URL:https://poulantzas.gr/event/synedrio-epistimi-kai-politiki-pedia-sybraxis-kai-entasis-foreis-kai-praktikes/
ATTACH;FMTTYPE=image/jpeg:https://poulantzas.gr/wp-content/uploads/2022/02/story-2-1-1.jpg
END:VEVENT
BEGIN:VEVENT
DTSTART;TZID=Europe/Athens:20220329T180000
DTEND;TZID=Europe/Athens:20220329T210000
DTSTAMP:20260424T032155
CREATED:20220329T063308Z
LAST-MODIFIED:20250909T114952Z
UID:7100-1648576800-1648587600@poulantzas.gr
SUMMARY:Διαδικτυακό Συμπόσιο | Διαφύλαξη της ειρήνης σε καιρούς πολέμου
DESCRIPTION:Διαδικτυακό Συμπόσιο διοργανώνουν την Τρίτη 29/3 το Δημοκρίτειο Πανεπιστήμιο Θράκης\, το Paris Lodron Universitat Salzburg\, το Bergische Universitat Wuppertal και το Restorative Justice and Mediation Lab\, με θέμα “Διαφύλαξη της ειρήνης σε καιρούς πολέμου. Πολιτική σωφροσύνη και η ευθύνη της διανόησης σήμερα. Ανάλυση Συγκρούσεων – Ειρηνευτική Δημοσιογραφία – Πολιτική Παιδεία”. \nΜιλούν: \nProf. Dr. Wilhelm Kempf (Παν/μιο Konstanz): Ειρηνευτική δημοσιογραφία\, ή: Η ιστορία τιμωρεί όσους ολιγωρούν\nProf. Dr. Georg Auernheimer (Παν/μιο Koλωνίας): Μια προσπάθεια προσέγγισης του πολέμου στην Ουκρανία και της\nπραγμάτευσής του με γεωπολιτικούς όρους\nProf. Dr. Vasiliki Artinopoulou (Πάντειο Πανεπιστήμιο): Όψεις θυματοποίησης εν καιρώ πολέμου\nProf. Dr. Heinz Sünker (Παν/μιο Wuppertal):\nHeinz-Joachim Heydorn: Επιβίωση μέσω της Παιδείας. H επικαιρότητα μιας κλασικής ανάλυσης \nΔιερμηνείς: Φωτεινή Δανιήλ\, Αλίκη Ζουρνατζή \n  \nΠαρακολουθείστε εδώ: https://us02web.zoom.us/j/89359106869?pwd=RTB0MUU2MFZ6NlNwRXJ1dXFGV1dFQT09#success
URL:https://poulantzas.gr/event/diadiktyako-sybosio-diafylaxi-tis-eirinis-se-kairous-polemou/
ATTACH;FMTTYPE=image/jpeg:https://poulantzas.gr/wp-content/uploads/2022/03/Symposium-Program-GREEK-VERSION-END_page-0001.jpg
END:VEVENT
END:VCALENDAR