BEGIN:VCALENDAR
VERSION:2.0
PRODID:-//Ινστιτούτο Νίκος Πουλαντζάς - ECPv6.15.4//NONSGML v1.0//EN
CALSCALE:GREGORIAN
METHOD:PUBLISH
X-ORIGINAL-URL:https://poulantzas.gr
X-WR-CALDESC:Events for Ινστιτούτο Νίκος Πουλαντζάς
REFRESH-INTERVAL;VALUE=DURATION:PT1H
X-Robots-Tag:noindex
X-PUBLISHED-TTL:PT1H
BEGIN:VTIMEZONE
TZID:Europe/Athens
BEGIN:DAYLIGHT
TZOFFSETFROM:+0200
TZOFFSETTO:+0300
TZNAME:EEST
DTSTART:20210328T010000
END:DAYLIGHT
BEGIN:STANDARD
TZOFFSETFROM:+0300
TZOFFSETTO:+0200
TZNAME:EET
DTSTART:20211031T010000
END:STANDARD
END:VTIMEZONE
BEGIN:VEVENT
DTSTART;TZID=Europe/Athens:20211201T200000
DTEND;TZID=Europe/Athens:20211201T220000
DTSTAMP:20260424T072812
CREATED:20211123T113618Z
LAST-MODIFIED:20211123T113618Z
UID:6609-1638388800-1638396000@poulantzas.gr
SUMMARY:Συνθήκες εργασίας στην Ελλάδα. Εμπειρίες και στάσεις γύρω από την αγορά εργασίας - Διαδικτυακή συζήτηση με αφορμή την έρευνα του ΙΝΠ και της Prorata
DESCRIPTION:Διαδικτυακή εκδήλωση για την παρουσίαση της έρευνας Συνθήκες εργασίας στην Ελλάδα. Εμπειρίες και στάσεις γύρω από την αγορά εργασίας\, που πραγματοποίησε σε συνεργασία με την εταιρία Prorata S.A.\, διοργανώνει την Τετάρτη 1/12/2021 και ώρα 8.00 μ.μ.\, το Ινστιτούτο Νίκος Πουλαντζάς. \nΟμιλητές/Ομιλήτριες: \n\nΓενιδούνιας Κώστας\, πρόεδρος Πανελλήνιας Ένωσης Προσωπικού Έλξης (Μηχανοδηγοί)\nΓούλας Χρήστος\, διευθυντής του Ινστιτούτου Εργασίας (ΙΝΕ) και του Κέντρου Ανάπτυξης Εκπαιδευτικής Πολιτικής (ΚΑΝΕΠ) της ΓΣΕΕ.\nΚαζάκος  Αριστείδης\, ομότιμος καθηγητής Εργατικού Δικαίου\, Αριστοτέλειο Πανεπιστήμιο Θεσσαλονίκης\nΚακουλίδου Θεανώ\, οικονομολόγος\, μεταδιδακτορική ερευνήτρια\nΤσατσαρώνη Κατερίνα\, οικονομολόγος\, ερευνήτρια ΙΝΠ\n\nΣυντονίζει ο Γιώργος Τραπεζιώτης\, δημοσιογράφος\, Στο Κόκκινο 105\,5 \n \n  \nΗ εκδήλωση θα μεταδοθεί ζωντανά μέσω του site του ΙΝΠ και μέσω της σελίδας του ΙΝΠ στο Facebook και του καναλιού του ΙΝΠ στο YouTube \n  \nΠερισσότερα για την έρευνα: \nΗ έρευνα Συνθήκες εργασίας στην Ελλάδα. Εμπειρίες και στάσεις γύρω από την αγορά εργασίας πραγματοποιείται σε ετήσια βάση από το Ινστιτούτο Νίκος Πουλαντζάς στο πλαίσιο της θεματικής Εργασία-Κοινωνικό κράτος-Αλληλεγγύη και έχει ως στόχο την καταγραφή των εμπειριών\, αλλά και των απόψεων των εργαζομένων πάνω σε επιμέρους πλευρές της αγοράς εργασίας στην Ελλάδα. \nΤο φετινό δεύτερο ετήσιο “κύμα” της έρευνας (για το 2021) καταγράφει ενδιαφέροντα ευρήματα σε μια σειρά επίκαιρα θέματα: \n\nΕργασιακή κατάσταση και ενδείξεις επισφάλειας\nΤηλεργασία\nΕργάσιμος χρόνος\nΜισθοί\nΠροστασία εργασιακών δικαιωμάτων\, συνδικαλισμός και νέες μορφές διεκδίκησης\n\n  \nΔιαβάστε ολόκληρη την έρευνα εδώ: https://poulantzas.gr/yliko/erevna-synthikes-ergasias-stin-ellada-ebeiries-kai-staseis-gyro-apo-tin-agora-ergasias-2o-kyma-2021/
URL:https://poulantzas.gr/event/synthikes-ergasias-stin-ellada-ebeiries-kai-staseis-gyro-apo-tin-agora-ergasias-diadiktyaki-syzitisi-me-aformi-tin-erevna-tou-inp-kai-tis-prorata/
ATTACH;FMTTYPE=:
END:VEVENT
BEGIN:VEVENT
DTSTART;TZID=Europe/Athens:20211208T190000
DTEND;TZID=Europe/Athens:20211208T210000
DTSTAMP:20260424T072812
CREATED:20211125T045418Z
LAST-MODIFIED:20211125T045418Z
UID:6622-1638990000-1638997200@poulantzas.gr
SUMMARY:15η Ετήσια Διάλεξη στη Μνήμη του Νίκου Πουλαντζά | Κωνσταντίνος Τσουκαλάς - "Για μια νέα Πολιτεία;"
DESCRIPTION:Ο Κωνσταντίνος Τσουκαλάς\, ομότιμος καθηγητής Κοινωνιολογίας στο Πανεπιστήμιο Αθηνών\, θα είναι ο ομιλητής της φετινής 15ης Ετήσιας Διάλεξης στη Μνήμη του Νίκου Πουλαντζά\, η οποία θα πραγματοποιηθεί την Τετάρτη 8 Δεκεμβρίου 2021\, στις 7.00 μ.μ. στο Ινστιτούτο Goethe (Ομήρου 14-16). \nΗ διάλεξή του θα έχει τίτλο “Για μια νέα Πολιτεία;“\, ενώ τον ομιλητή θα προλογίσει ο Κώστας Δουζίνας\, πρόεδρος του Ινστιτούτου Νίκος Πουλαντζάς\, καθηγητής Νομικής και Πολιτικής Φιλοσοφίας στο Πανεπιστήμιο του Λονδίνου. \n\nΛόγω των ιδιαίτερων υγειονομικών συνθηκών\, δεν θα επιτραπεί η παρουσία κοινού. Η παρακολούθηση μπορεί να γίνει αποκλειστικά μέσω live streaming στα ελληνικά και στα αγγλικά από την πλατφόρμα YouTube ή το site του Ινστιτούτου. Για περισσότερες πληροφορίες\, καλέστε στο 210-3217745.\n\nΗ διάλεξη θα μεταδοθεί ζωντανά (live-streaming) στα ελληνικά και στα αγγλικά. \nΘα υπάρχει ταυτόχρονη διερμηνεία στην ελληνική νοηματική γλώσσα. \n  \nΠερισσότερα για τον ομιλητή: \nΟ Κωνσταντίνος Τσουκαλάς είναι ομότιμος καθηγητής Κοινωνιολογίας στο Πανεπιστήμιο Αθηνών\, docteur es Lettres et Sciences Humaines στο Πανεπιστήμιο Παρισίων και επίτιμος διδάκτωρ στα Πανεπιστήμια Κρήτης και Πελοποννήσου. \nΜετά τις σπουδές του στη Νομική Σχολή του Πανεπιστημίου Αθηνών\, ακολούθησε μεταπτυχιακές σπουδές Φιλοσοφίας του Δικαίου και Κοινωνιολογίας στα Πανεπιστήμια Heidelberg\, Μονάχου\, Παρισιού και Yale. To 1974 ανακηρύσσεται Διδάκτορας Γραμμάτων και Ανθρωπιστικών Επιστημών στο Πανεπιστήμιο Παρισίων. Κατά τα έτη 1968-1985 υπήρξε καθηγητής Kοινωνιολογίας του Πανεπιστημίου Παρισίων και από το 1985 είναι καθηγητής -και πλέον ομότιμος- Κοινωνιολογίας στο Τμήμα Πολιτικής Επιστήμης και Δημόσιας Διοίκησης του Πανεπιστημίου Αθηνών. Διετέλεσε καθηγητής στο Τμήμα Κοινωνιολογίας του Πανεπιστημίου Παρισίων VIII και στη Νομική Σχολή του Πανεπιστημίου Θεσσαλονίκης (1981-1985)\, επιστημονικός διευθυντής του Εθνικού Κέντρου Κοινωνικών Ερευνών (1981-1989)\, επισκέπτης καθηγητής στα Πανεπιστήμια Columbia της Νέας Υόρκης\, Princeton\, New York University (NYU)\, της Πόλης της Νέας Υόρκης (CUNY)\, Iztapalapa της Πόλεως του Μεξικού\, Παρισίων (Paris I)\, καθώς και στο Τμήμα Οικονομικών Επιστημών του Πανεπιστημίου Αθηνών. \nΈχει επίσης διατελέσει μέλος του Ανωτάτου Συμβουλίου Έρευνας και Τεχνολογίας\, αρχηγός της ελληνικής αντιπροσωπείας στη Διάσκεψη Κορυφής του ΟΗΕ για την Κοινωνική Ανάπτυξη (1994-1996)\, μόνιμο μέλος του “Carrefour pour la science et la culture” που οργανώθηκε από την Ε.Ε. υπό την προεδρία του Jacques Delors\, πρόεδρος του Δ.Σ. του Εθνικού Μουσείου Σύγχρονης Τέχνης\, πρόεδρος της Ένωσης Ελλήνων Κοινωνιολόγων της Ελληνικής Εταιρείας Πολιτικής Επιστήμης\, πρόεδρος του Δ.Σ. του Ελληνικού Ιδρύματος Πολιτισμού\, καθώς και βουλευτής επικρατείας του ΣΥΡΙΖΑ κατά την ΙΣΤ’ κοινοβουλευτική περίοδο (2015). \nΤα δύο πιο πρόσφατα βιβλία του στα ελληνικά είναι τα: \n\nΟ αόρατος Λεβιάθαν. Δημοκρατία\, δικαιοσύνη και ηθική στα χρόνια της κρίσης (Πόλις\, 2020) και\nΤο πολιτικό στη σκιά της πανδημίας (Καστανιώτης\, 2021)\n\nενώ μεταξύ των έργων του περιλαμβάνονται και τα “Η ελληνική τραγωδία. Από την απελευθέρωση ως τους συνταγματάρχες” (Ολκός\, 1974 / Α.Α. Λιβάνης\, 1981 / Πατάκης\, 2021)\, “Κοινωνική ανάπτυξη και κράτος. Η συγκρότηση του δημοσίου χώρου στην Ελλάδα” (Θεμέλιο\, 1981)\, “Κράτος\, κοινωνία\, εργασία στη μεταπολεμική Ελλάδα” (Θεμέλιο\, 1987)\, “Είδωλα πολιτισμού. Ελευθερία\, ισότητα και αδελφότητα στη σύγχρονη πολιτεία” (Θεμέλιο\, 1991)\, “Εξάρτηση και αναπαραγωγή. Ο κοινωνικός ρόλος των εκπαιδευτικών μηχανισμών στην Ελλάδα: 1830-1922” (Θεμέλιο\, 1992 – τίτλος πρωτοτύπου: Dépendance et reproduction: Le rôle social des appareils scolaires en Grèce\, πρόλογος Ν. Γ. Σβορώνος)\, “Η εξουσία ως λαός και ως έθνος. Περιπέτειες σημασιών” (Θεμέλιο\, 1999)\, “Ανα-γνώσεις. Ενός κόσμου που θα μπορούσε να είναι άλλος” (Καστανιώτης\, 2002)\, “Πόλεμος και ειρήνη. Μετά το ‘τέλος της ιστορίας'” (Καστανιώτης\, 2006)\, “Η επινόηση της ετερότητας.’Ταυτότητες’ και ‘διαφορές’ στην εποχή της παγκοσμιοποίησης” (Καστανιώτης\, 2010)\, “Ελλάδα της λήθης και της αλήθειας. Από τη μακρά εφηβεία στη βίαια ενηλικίωση” (Θεμέλιο\, 2012)\, “Μορφές συνέχειας και ασυνέχειας. Από την ιστορική εθνεγερσία στην οικουμενική δυσφορία” (Θεμέλιο\, 2013)\, “Η γυμνή βασίλισσα. Έργα και ημέρες του οικονομικού λόγου” (Καστανιώτης\, 2014). \nΈχει επίσης συμμετάσχει στον συλλογικό τόμο που εξέδωσε το 2012 το Ινστιτούτο Νίκος Πουλαντζάς σε συνεργασία με τις εκδόσεις Νήσος και τίτλο “Ο Πουλαντζάς σήμερα” (επιμέλεια Χ. Γολέμης\, Ηρ. Οικονόμου). \n  \nΛίγα λόγια για τον θεσμό της Ετήσιας Διάλεξης: \nΗ Ετήσια Διάλεξη στη μνήμη του Νίκου Πουλαντζά εγκαινιάστηκε το 2007 με σκοπό να συστήσει στο ελληνικό κοινό τη σκέψη μεγάλων σύγχρονων διανοητών της παγκόσμιας Αριστεράς και πραγματοποιείται αδιάλειπτα κάθε Δεκέμβριο. \nΣτα χρόνια που μεσολάβησαν τον θεσμό έχουν τιμήσει σημαντικοί ακαδημαϊκοί από όλο τον κόσμο: ο Bob Jessop\, ο Leo Panitch\, η Judith Butler\, ο Michael Lebowitz\, ο Erik Olin Wright\, η Gayatri Chakravorty Spivak\, ο Frank Deppe\, ο Enzo Traverso\, η Wendy Brown\, η Nancy Fraser\, η Angela Davis\, ο Michael Löwy\, ο Klaus Dörre και ο Manuel Castells. Φέτος ολοκληρώνεται ένας πρώτος δεκαπενταετής κύκλος\, με προσκεκλημένομ κατ’ εξαίρεση\, έναν Έλληνα διανοούμενο\, με αδιαμφισβήτητη όμως διεθνή ακτινοβολία και αναγνώριση\, αλλά και με μια παράλληλη διαδρομή και στενή προσωπική σχέση με τον ίδιο τον Νίκο Πουλαντζά.
URL:https://poulantzas.gr/event/15i-etisia-dialexi-sti-mnimi-tou-nikou-poulantza-konstantinos-tsoukalas-gia-mia-nea-politeia/
ATTACH;FMTTYPE=:
END:VEVENT
BEGIN:VEVENT
DTSTART;TZID=Europe/Athens:20211208T190000
DTEND;TZID=Europe/Athens:20211208T210000
DTSTAMP:20260424T072812
CREATED:20211202T142709Z
LAST-MODIFIED:20211202T142709Z
UID:6637-1638990000-1638997200@poulantzas.gr
SUMMARY:15th Annual Nicos Poulantzas Memorial Lecture - Konstantinos Tsoukalas - "For a new Republic [Politeia]?"
DESCRIPTION:15th Annual Nicos Poulantzas Memorial Lecture \nKonstantinos Tsoukalas \nFor a new Republic [Politeia]? \n  \nWednesday\, December 8th\, 2021\, 7:00 p.m. \nOnline event \n  \nThe 15th Annual Nicos Poulantzas Memorial Lecture will be delivered by Konstantinos Tsoukalas\, professor emeritus of Sociology\, University of Athens. \nDur to the exceptional circumstances caused by the covid19 pandemic\, there will be no physical presence of the audience. Instead you can follow the lecture online (live streaming) via YouTube in English and in Greek. For more info call +30 210 3217745 or send an email to info@poulantzas.gr \n  \nAbout “Nicos Poulantzas Memorial Lecture”: \nThe annual “Nicos Poulantzas Memorial Lecture” was launched in December 2007 and has been continuously delivered since then by eminent intellectuals from different countries on a theoretical issue of their choice. The Lecture is not intended to deal narrowly with Nicos Poulantzas’ work\, but with the many issues and theoretical perspectives it covers\, such as Marxism\, socialism and social emancipation\, world capitalism\, the role of the state\, social classes\, political economy\, political ecology\, social movements etc. which at the same time can be useful in political practice. \nThe first lecture was given by Professor Bob Jessop (“Political Economy\, Political Ecology and Democratic Socialism”)\, the second by Professor Leo Panitch (“The State in the Current Capitalist Crisis and the Strategy of the Left in the 21st century”)\, the third by Professor Judith Butler (“Performative Politics and the Critique of State Violence”)\, the fourth by Professor Michael Lebowitz (“Building Socialism for the 21stCentury. The Logic of the State”)\, the fifth by Professor Erik Olin Wright (“Real Utopias in and beyond Capitalism”)\, the sixth by Professor Gayatri Chakravorty Spivak (“Europa and the Bull Market”)\, the seventh by Professor Frank Deppe (“Authoritarian Capitalism: Democracy in decline”)\, the eighth by Professor Enzo Traverso (“Remembering the Future: the Political Uses of the Past”)\, the ninth by Professor Wendy Brown (“Neoliberalism Contra Democracy: Ten Theses”)\, the tenth by Professor Nancy Fraser (“Crisis of Care? On the Social Reproductive Contradictions of Financialized Capitalism”)\,the eleventh by Professor Angela Davis (“Abolition Feminism: Theory and Practices”) the twelfth by Professor Michael Löwy (“Rosa Luxemburg\, 1919-2019: Socialism or Barbarism\, Internationalism or Nationalism”)\, the thirteenth by Professor Klaus Dörre (“The Bonapartist Exception: Workers\, Pincer Crisis and the Revolt from the Right”) and the fourteenth by Professor Manuel Castells (“Power in the digital age: The legacy of Poulantzas theory in the new historical context”). \n  \nAbout the speaker:\nKonstantinos Tsoukalas is professor emeritus of Sociology in the University of Athens\, docteur es Lettres et Sciences Humaines of the University of Paris. He studied Law in Athens and Philosophy of Law ans Sociology in Heidelberg\, Munich\, Paris and the USA (Yale). He teached at the University of Paris\, the Aristotle University of Thessaloniki and the University of Athens. He was also the scientific director and president of the National Centre of Sociall Research (EKKE) and a visiting professor to the Universities Columbia\, Princeton\, NYU\, CUNY\, Iztapalapa\, Paris I etc. Alongside other significant academic and public positions\, he has been a permanent member of the “Carrefour pour la science et la culture” established by the EU under the presidency of Jacques Delors\, member of the Board of the National Museum of Modern Art (EMST) and president of the Hellenic Foundation for Culture. He was also an elected member of the Greek parliament with the political party of SYRIZA in 2015.
URL:https://poulantzas.gr/event/15th-annual-nicos-poulantzas-memorial-lecture-konstantinos-tsoukalas-for-a-new-republic-politeia/
ATTACH;FMTTYPE=:
END:VEVENT
BEGIN:VEVENT
DTSTART;TZID=Europe/Athens:20211217T180000
DTEND;TZID=Europe/Athens:20211217T210000
DTSTAMP:20260424T072812
CREATED:20211209T125727Z
LAST-MODIFIED:20211209T125727Z
UID:6700-1639764000-1639774800@poulantzas.gr
SUMMARY:Παρουσίαση του συλλογικού τόμου "1821-2021: μνήμες τεχνών-θραύσματα ιστορίας"
DESCRIPTION:Το Ινστιτούτο Νίκος Πουλαντζάς και οι εκδόσεις Νήσος σας προσκαλούν στην παρουσίαση του συλλογικού τόμου \n1821-2021: μνήμες τεχνών – θραύσματα ιστορίας\n  \nτην Παρασκευή 17 Δεκεμβρίου 2021\, ώρα 18:00 στο Μέγαρο ΕΒΕΑ\, Ακαδημίας 7\, Αίθουσα ΕΡΜΗΣ\, 6ος όροφος. \n  \n  \nΘα μιλήσουν οι: \n\nΝίκος Διονυσόπουλος\nΗλίας Παπαηλιάκης\, ζωγράφος\nΜαριάννα Τζιαντζή\, συγγραφέας\nΘωμάς Τσαλαπάτης\, ποιητής\n\n  \nΘα παρέμβει ο Ανδρέας Μαράτος\, επιμελητής του τόμου. Την εκδήλωση θα συντονίσει η Μαριλένα Κατσίμη\, δημοσιογράφος. \n  \nΧρήσιμες πληροφορίες για την παρακολούθηση \n  \nΗ εκδήλωση θα μεταδοθεί και μέσω live streaming στο www.poulantzas.gr και στο κανάλι του ΙΝΠ στο YouTube. \nΓια τη δια ζώσης παρακολούθηση θα τηρηθούν αυστηρά υγειονομικά πρωτόκολλα. Η προσέλευση θα επιτραπεί μόνο με την επίδειξη έγκυρου πιστοποιητικού εμβολιασμού/νόσησης και ταυτότητας\, ενώ καθ’όλη τη διάρκεια της εκδήλωσης και σε όλους τους χώρους θα είναι απαραίτητη η χρήση μάσκας. Επίσης θα υπάρξει ανώτατος αριθμός συμμετεχόντων/-ουσών\, επομένως συνιστάται να καλέσετε εκ των προτέρων στο 210-3217745 για την κράτηση θέσης. \n  \nΠερισσότερα για την έκδοση \n  \nΟ συλλογικός τόμος 1821-2021: Μνήμες τεχνών – θραύσματα ιστορίας αποτελεί μια συλλογή 47 κειμένων\, σε επιμέλεια Ανδρέα Μαράτου\, που ανιχνεύουν\, από τη σκοπιά της τέχνης\, στιγμιότυπα\, πτυχές και αθέατες όψεις των 200 χρόνων της νεοελληνικής περιπέτειας. Αυτός ο επίκαιρος και πολυπρισματικός αναστοχασμός μέσα από τη λογοτεχνία\, τα εικαστικά\, τη μουσική\, τη φωτογραφία\, το θέατρο\, τον κινηματογράφο\, τον χορό\, την αρχιτεκτονική και το παραμύθι\, αποτελεί την κεντρική δράση του Ινστιτούτου Νίκος Πουλαντζάς για την επέτειο των 200 χρόνων από την ελληνική επανάσταση\, φιλοδοξεί ωστόσο να αποτελέσει ένα σημείο αναφοράς ευρύτερης και όχι απλώς επετειακής αξίας. Ο συλλογικός τόμος θα κυκλοφορήσει τις επόμενες μέρες από το Ινστιτούτο Νίκος Πουλαντζάς και τις εκδόσεις Νήσος. \nΤο έργο εξωφύλλου (“Αφιέρωμα στον Γιάννη Ρίτσο”\, 2015) παραχωρήθηκε ευγενώς από τον Γιάννη Ψυχοπαίδη\, ενώ τα κείμενα του συλλογικού τόμου έγραψαν οι: Γιώργος Ανδρίτσος\, Ελισάβετ Αρσενίου\, Δημήτρης Βανέλλης\, Κώστας Βούλγαρης\, Χριστιάνα Γαλανοπούλου\, Χριστίνα Δημακοπούλου\, Άσπα Δημητριάδη\, Αθηνά Εξάρχου\, Γιάννης Ζιώγας\, Λιάνα Θεοδωράτου\, Κώστας Ιωαννίδης\, Λήδα Καζαντζάκη\, Άγγελος Καλογερόπουλος\, Παναγιώτης Κανελλόπουλος\, Μαριάνθη Καπλάνογλου\, Στράτος Κερσανίδης\, Γιάννης Κονταράτος\, Ελίτα Κουνάδη\, Παναγιώτης Κουνάδης\, Κώστας Κρεμμύδας\, Νίκος Κυπουργός\, Κωνσταντίνος Κυριακός\, Δήμητρα Λιάκουρα\, Ανδρέας Μαράτος\, Αλεξάνδρα Μητσιάλη\, Αριστείδης Μπαλτάς\, Γιάννης Μπόλης\, Παντελής Μπουκάλας\, Ηρακλής Οικονόμου\, Μπετίνα Παναγιωταρά\, Νίκος Παναγιωτόπουλος\, Άννα Παπαέτη\, Ηρακλής Παπαϊωάννου\, Πηνελόπη Πετσίνη\, Λέανδρος Πολενάκης\, Τζίνα Πολίτη\, Ιωάννα Ρεμεδιάκη\, Γιώργος Σαμπατακάκης\, Μάκης Σολωμός\, Γιάννης Σταθάτος\, Χάρης Συμβουλίδης\, Νίκος-Ίων Τερζόγλου\, Μιράντα Τερζοπούλου\, Φαίη Τζανετουλάκου\, Στεριανή Τσιντζιλώνη\, Βάσιας Τσοκόπουλος\, Μαρία Χάλκου\, Μικέλα Χαρτουλάρη\, Κώστας Χριστόπουλος\, Γιάννης Ψυχοπαίδης. \nΒρείτε τα βιογραφικά των συγγραφέων εδώ: https://poulantzas.gr/wp-content/uploads/2021/12/Βιογραφικά-Συγγραφέων.pdf \nΒρείτε τα περιεχόμενα του τόμου εδώ: https://poulantzas.gr/wp-content/uploads/2021/12/Περιεχόμενα-1821-2021-2.pdf  \n  \nΑπόσπασμα από την εισαγωγή \nΟ ανά χείρας συλλογικός τόμος προέκυψε από την επιθυμία του Ινστιτούτου Νίκος Πουλαντζάς να συμμετάσχει στον δημόσιο διάλογο που αναπτύσσεται με αφορμή τη συμπλήρωση διακοσίων χρόνων από την έναρξη της Ελληνικής Επανάστασης. Συνεκτιμώντας τις ευρύτερες κοινωνικές και πολιτικές διαστάσεις της συγκυρίας\, επιλέξαμε να διατρέξουμε αναστοχαστικά και τους δύο αιώνες της νεοελληνικής περιπέτειας αναδεικνύοντας και φωτίζοντας στιγμιότυπα\, όψεις\, γενεαλογίες αλλά και αθέατες πτυχές της από τη σκοπιά της τέχνης. \nΠροφανώς είναι αδύνατο\, στο πλαίσιο μιας συλλογής κειμένων\, να αποπειραθεί κανείς μια μεθοδική έρευνα για κάθε είδος καλλιτεχνικής πρακτικής ή έναν καθολικό αναστοχασμό για μια τόσο μεγάλη περίοδο. Κάτι τέτοιο θα αποτελούσε\, ούτως ή άλλως\, μιας άλλης τάξης εγχείρημα. Πολύ περισσότερο\, δεν θα μπορούσαμε να εισηγηθούμε έναν μονοσήμαντο τρόπο θεώρησης και ερμηνείας των καλλιτεχνικών τεκμηρίων και της βιογραφίας τους. Αντίθετα\, όπως θα διαπιστώσετε διαβάζοντας τα σαράντα επτά κείμενα που απαρτίζουν τον τόμο\, ο χαρακτήρας των προσεγγίσεων είναι πολυπρισματικός. Στόχος μας ήταν εξαρχής να ανασύρουμε θραύσματα ιστορίας -έργα ανθρώπων\, γεγονότα\, ίχνη μακράς διάρκειας και τομές\, μετέωρα επίδικα\, υπόγειες δυναμικές\, στερεότυπα\, κυρίαρχα κοσμοείδωλα\, ρωγμές και αντιστάσεις- όπως ανιχνεύονται στο σώμα της τέχνης\, στα διάφορα είδη πολιτισμικής-καλλιτεχνικής πρακτικής και καλλιτεχνικών μορφών έκφρασης: την ποίηση\, τη λογοτεχνία\, τη μουσική και το τραγούδι\, το θέατρο\, τον κινηματογράφο\, τον χορό\, τα εικαστικά\, τη φωτογραφία\, τον αρχιτεκτονικό σχεδιασμό\, τη λαϊκή αφήγηση. \n  \nΠερισσότερα για τον επιμελητή του τόμου \nΟ Ανδρέας Μαράτος είναι ζωγράφος\, επιστημονικός συνεργάτης του Ινστιτούτου Νίκος Πουλαντζάς και υποψήφιος διδάκτορας φιλοσοφίας στο Τμήμα Πολιτικής Επιστήμης & Ιστορίας του Πάντειου Πανεπιστημίου. Σπούδασε στο Μεταπτυχιακό πρόγραμμα Σχεδιασμός-Χώρος-Πολιτισμός της Αρχιτεκτονικής Ε.Μ.Π.\, στην Ανωτάτη Σχολή Καλών Τεχνών Αθήνας (ζωγραφική και τέχνη του βιβλίου) και στο Τμήμα Φυσικής του Α.Π.Θ. Έχει πραγματοποιήσει τέσσερις ατομικές εκθέσεις ζωγραφικής. Είναι συγγραφέας του βαααρουσίασηιβλίου Ουτοπία κρυμμένη στο σώμα της πόλης: Ο μουσικός κόσμος του Μίκη Θεοδωράκη και η εποχή του (εκδόσεις Ιανός). Επιμελείται την ηλεκτρονική περιοδική έκδοση του Ινστιτούτου για τις διεθνείς τάσεις Με ευρυγώνιο φακό. \n  \nΤο βιβλίο θα είναι σε λίγες μέρες διαθέσιμο σε όλα τα ενημερωμένα βιβλιοπωλεία. Για πληροφορίες επικοινωνείστε μαζί μας.
URL:https://poulantzas.gr/event/parousiasi-tou-syllogikou-tomou-1821-2021-mnimes-technon-thrafsmata-istorias/
ATTACH;FMTTYPE=:
END:VEVENT
END:VCALENDAR