BEGIN:VCALENDAR
VERSION:2.0
PRODID:-//Ινστιτούτο Νίκος Πουλαντζάς - ECPv6.15.4//NONSGML v1.0//EN
CALSCALE:GREGORIAN
METHOD:PUBLISH
X-ORIGINAL-URL:https://poulantzas.gr
X-WR-CALDESC:Events for Ινστιτούτο Νίκος Πουλαντζάς
REFRESH-INTERVAL;VALUE=DURATION:PT1H
X-Robots-Tag:noindex
X-PUBLISHED-TTL:PT1H
BEGIN:VTIMEZONE
TZID:Europe/Athens
BEGIN:DAYLIGHT
TZOFFSETFROM:+0200
TZOFFSETTO:+0300
TZNAME:EEST
DTSTART:20210328T010000
END:DAYLIGHT
BEGIN:STANDARD
TZOFFSETFROM:+0300
TZOFFSETTO:+0200
TZNAME:EET
DTSTART:20211031T010000
END:STANDARD
END:VTIMEZONE
BEGIN:VEVENT
DTSTART;VALUE=DATE:20210914
DTEND;VALUE=DATE:20210925
DTSTAMP:20260424T114752
CREATED:20210910T095541Z
LAST-MODIFIED:20250909T120203Z
UID:6449-1631577600-1632527999@poulantzas.gr
SUMMARY:Πρόσκληση για το 27ο Συνέδριο EuroMemo από 14-24 Σεπτεμβρίου 2021
DESCRIPTION:Πρόσκληση για το 27ο Συνέδριο EuroMemo από 14-24 Σεπτεμβρίου 2021 \nΑγαπητοί συνάδελφοι\, \nΤο φετινό συνέδριο του EuroMemo Group θα πραγματοποιηθεί υπό ειδικές συνθήκες λόγω του Covid-19. Ως εκ τούτου\, αποφασίσαμε να χωρίσουμε το πρόγραμμα για να σας δώσουμε την ευκαιρία να συνεισφέρετε στην ολομέλεια και τα εργαστήρια (workshop) με μεγαλύτερη ευελιξία σε ένα διαδικτυακού τύπου συνέδριο. \nΣε συνέχεια της θεματικής του περσινού συνεδρίου για την ανάγκη ενός Πράσινου New Deal για την Ευρώπη\, το φετινό συνέδριο θα διερευνήσει τη βαθιά οικονομική και κοινωνική κρίση στην ΕΕ και παγκοσμίως μετά την πανδημία του Covid-19. Ενώ το σχέδιο ανάκαμψης του “Next Generation EU” ακολουθεί μια νέα και\, εν μέρει\, αλληλέγγυα και πράσινη αντίδραση στις οικονομικές συνέπειες της κρίσης\, η διαχείριση της πανδημίας του Covid-19 αποκάλυψε σοβαρές ελλείψεις και οδήγησε σε βαθιά απογοήτευση μεταξύ των πολιτών της ΕΕ. Η κρίση άλλαξε επίσης τις πολιτικές προτεραιότητες. Η Ευρωπαϊκή Πράσινη Συμφωνία και η εφαρμογή του Σχεδίου Ανάκαμψης της ΕΕ απειλούνται από συγκεκριμένες επιλογές για τη διαχείριση κρίσεων και ιδιαίτερα από το Ευρωπαϊκό Εξάμηνο\, το οποίο είναι τόσο αντιδημοκρατικό\, όσο και δογματικά νεοφιλελεύθερο. Ταυτόχρονα\, οι τάσεις για λαϊκισμό και αυταρχισμό βαθαίνουν\, όχι μόνο σε χώρες της κεντρικής-ανατολικής Ευρώπης\, όπως η Ουγγαρία και η Πολωνία. Όσον αφορά τις διεθνείς υποθέσεις\, η ΕΕ είναι σε μεγάλο βαθμό ανίκανη να διατυπώσει συνεκτικές πολιτικές απαντήσεις στις τρέχουσες προκλήσεις\, ιδίως όσον αφορά τις αναγκαίες πολιτικές της ΕΕ και τις πολιτικές παγκόσμιας υγείας για την καταπολέμηση της πανδημίας\, και σε μακροπρόθεσμη τροχιά\, όσον αφορά τις αναδυόμενες γεωπολιτικές αντιπαλότητες εμπλέκοντας τις ΗΠΑ και την Κίνα\, αλλά και την ΕΕ. Τέλος\, η παγκόσμια προσπάθεια για την καταπολέμηση της κλιματικής αλλαγής και της απώλειας βιοποικιλότητας απαιτεί σαφείς απαντήσεις ευρωπαϊκής πολιτικής. \nΤο συνέδριο θα ξεκινήσει την επόμενη εβδομάδα Τρίτη\, 14 Σεπτεμβρίου 2021 με την Εναρκτήρια Ολομέλεια στις 16:00 (CET) με θέμα την Πολιτική\, Οικονομική και Κοινωνική κατάσταση στην Ευρωπαϊκή Ένωση μέσω της εφαρμογής Zoom. \nΚεντρικός ομιλητής I: Πολιτική κατάσταση της ΕΕ\nSven Giegold (Ευρωβουλευτής\, Κόμμα των Πρασίνων) \nΚεντρικός ομιλητής II: Οικονομική κατάσταση της ΕΕ\nJohn Grahl (Συντονιστική Επιτροπή τουEuroMemo Group) \nΚεντρικός ομιλητής III: Κοινωνική κατάσταση της ΕΕ\nRoland Erne (University College Dublin) \nΓια τη συμμετοχή σας στην ηλεκτρονική Εναρκτήρια Ολομέλεια απαιτείται εγγραφή. Εάν δεν έχετε εγγραφεί ήδη\, μπορείτε να το κάνετε μέσω e-mail (info@euromemo.eu)  έως τις 14 Σεπτεμβρίου στις 12:00 (μεσημέρι). Στη συνέχεια\, θα λάβετε έναν κωδικό πρόσβασης για την ηλεκτρονική ολομέλεια. Η συμμετοχή σε κάθε ολομέλεια ή εργαστήριο απαιτεί κωδικό πρόσβασης. Για να τον λάβετε\, είναι απαραίτητη η εγγραφή σας για το συνέδριο. \nΠεριμένουμε με ανυπομονησία τις ενδιαφέρουσες συζητήσεις και σας καλωσορίζουμε στο συνέδριο! \nΜε θερμούς χαιρετισμούς\, \nΗ Συντονιστική Επιτροπή του EuroMemo Group \nEuroMemo-Group-conference-2021-Programme_08092021.pdf
URL:https://poulantzas.gr/event/prosklisi-gia-to-27o-synedrio-euromemo-apo-14-24-septemvriou-2021/
ATTACH;FMTTYPE=image/png:https://poulantzas.gr/wp-content/uploads/2021/09/Χωρίς-τίτλο.png
END:VEVENT
BEGIN:VEVENT
DTSTART;TZID=Europe/Athens:20210921T190000
DTEND;TZID=Europe/Athens:20210921T210000
DTSTAMP:20260424T114752
CREATED:20210915T114849Z
LAST-MODIFIED:20210915T114849Z
UID:6454-1632250800-1632258000@poulantzas.gr
SUMMARY:Διαδικτυακή εκδήλωση: «Εμβόλιο COVID και αντιεμβολιαστικό κίνημα: Επιστημολογικές και πολιτικές διαστάσεις»
DESCRIPTION:Αγαπητά μέλη του Ομίλου Φίλων Θεσσαλονίκης του Ινστιτούτου Νίκος Πουλαντζάς\, \n  \nΟ Όμιλος Φίλων Θεσσαλονίκης του Ινστιτούτου Νίκος Πουλαντζάς σας προσκαλεί την Τρίτη 21 Σεπτεμβρίου και ώρα 19:00 στη διαδικτυακή εκδήλωση με θέμα: \n«Εμβόλιο COVID και αντιεμβολιαστικό κίνημα: Επιστημολογικές και πολιτικές διαστάσεις». \nΣτην εκδήλωση συμμετέχουν: \n-Γρηγόρης Γεροτζιάφας\, Καθηγητής Αιματολογίας\, Διευθυντής iNSERM\, Πανεπιστήμιο Σορβόννης \n-Δήμητρα Δημητρακοπούλου\, Επίκουρη καθηγήτρια\, Τμήμα Δημοσιογραφίας και ΜΜΕ ΑΠΘ\, επισκέπτρια καθηγήτρια στο ΜΙΤ Media Lab \n-Μανώλης Πατηνιώτης\, Καθηγητής Ιστορίας της Επιστήμης\, Τμήμα Κοινωνιολογίας ΕΚΠΑ \n-Άρης Χατζηστεφάνου\, δημοσιογράφος «Εφημερίδα των Συντακτών»\, σκηνοθέτης ντοκιμαντέρ. \nΣυντονίζει η Ελένη Μπέλα\, Δρ. Ιατρικής\, ιατρός πεδίου στο προσφυγικό (Philos II). \nΗ εκδήλωση θα πραγματοποιηθεί μέσω ZOOM και θα μεταδοθεί ζωντανά στην σελίδα του Ομίλου Φίλων Θεσσαλονίκης του Ινστιτούτου Νίκος Πουλαντζάς στο Facebook: https://www.facebook.com/poulantzas.thessaloniki \nFb event: https://www.facebook.com/events/6395144923843895 \n\n \n  \nΕμβόλιο-αντιεμβολιαστικό-κίνημα.pdf
URL:https://poulantzas.gr/event/diadiktyaki-ekdilosi-emvolio-covid-kai-antiemvoliastiko-kinima-epistimologikes-kai-politikes-diastaseis/
ATTACH;FMTTYPE=:
END:VEVENT
BEGIN:VEVENT
DTSTART;TZID=Europe/Athens:20210930T190000
DTEND;TZID=Europe/Athens:20210930T210000
DTSTAMP:20260424T114752
CREATED:20210924T090739Z
LAST-MODIFIED:20210924T090739Z
UID:6471-1633028400-1633035600@poulantzas.gr
SUMMARY:Η ζώνη της επισφάλειας στην Ελλάδα. Εμπειρία και προτάσεις πολιτικής
DESCRIPTION:Πέμπτη 30/9\, 7.00 μ.μ \nΔιαδικτυακή εκδήλωση \nΗ ζώνη της επισφάλειας στην Ελλάδα.  Εμπειρία και προτάσεις πολιτικής \n \nΠΑΡΑΚΟΛΟΥΘΕΙΣΤΕ ΖΩΝΤΑΝΑ\n  \n  \nΤο Ινστιτούτο Νίκος Πουλαντζάς με αφορμή την έκδοση της μελέτης  Η ζώνη της επισφάλειας στην Ελλάδα. Εμπειρίες και προτάσεις πολιτικής\, διοργανώνει διαδικτυακή εκδήλωση την Πέμπτη 30 Σεπτεμβρίου 2021\, στις 7.00 το απόγευμα\, με θέμα: “Η ζώνη της επισφάλειας στην Ελλάδα. Εμπειρία και προτάσεις πολιτικής”. \nΣτην εκδήλωση θα μιλήσουν οι: \n\nΈφη Αχτσιόγλου\, βουλευτής Επικρατείας και τομεάρχης Οικονομικών ΣΥΡΙΖΑ-ΠΣ\, πρώην υπουργός Εργασίας\, Κοινωνικής Ασφάλισης και Κοινωνικής Αλληλεγγύης\nΑθηνά Βαλαμβού\, επιθεωρήτρια ΣΕΠΕ\nΜαρία Καραμεσίνη\, καθηγήτρια Οικονομικών της Εργασίας και της Κοινωνικής Πολιτικής\, πρ. πρόεδρος και διοικήτρια του ΟΑΕΔ\, μέλος Δ.Σ. ΙΝΠ\nΠαναγιώτης Κορφιάτης\, αναλυτής επιχειρησιακών δεδομένων και πρώην Ειδικός Γραμματέας ΣΕΠΕ\n\nΤη συζήτηση θα συντονίσει ο δημοσιογράφος Φοίβος Κλαυδιανός\,  Realnews/Kontra Channel \n  \nΗ εκδήλωση θα μεταδοθεί ζωντανά στην ιστοσελίδα του Ινστιτούτου\, στο κανάλι του Ινστιτούτου στο Youtube και στη σελίδα του Ινστιτούτου στο Facebook.
URL:https://poulantzas.gr/event/i-zoni-tis-episfaleias-stin-ellada-ebeiria-kai-protaseis-politikis/
ATTACH;FMTTYPE=:
END:VEVENT
END:VCALENDAR