BEGIN:VCALENDAR
VERSION:2.0
PRODID:-//Ινστιτούτο Νίκος Πουλαντζάς - ECPv6.15.4//NONSGML v1.0//EN
CALSCALE:GREGORIAN
METHOD:PUBLISH
X-WR-CALNAME:Ινστιτούτο Νίκος Πουλαντζάς
X-ORIGINAL-URL:https://poulantzas.gr
X-WR-CALDESC:Events for Ινστιτούτο Νίκος Πουλαντζάς
REFRESH-INTERVAL;VALUE=DURATION:PT1H
X-Robots-Tag:noindex
X-PUBLISHED-TTL:PT1H
BEGIN:VTIMEZONE
TZID:Europe/Athens
BEGIN:DAYLIGHT
TZOFFSETFROM:+0200
TZOFFSETTO:+0300
TZNAME:EEST
DTSTART:20210328T010000
END:DAYLIGHT
BEGIN:STANDARD
TZOFFSETFROM:+0300
TZOFFSETTO:+0200
TZNAME:EET
DTSTART:20211031T010000
END:STANDARD
END:VTIMEZONE
BEGIN:VEVENT
DTSTART;TZID=Europe/Athens:20210331T190000
DTEND;TZID=Europe/Athens:20210602T210000
DTSTAMP:20260424T171255
CREATED:20210331T070624Z
LAST-MODIFIED:20210331T070624Z
UID:6117-1617217200-1622667600@poulantzas.gr
SUMMARY:Ανοιχτά Σεμινάρια Ριζοσπαστικής Γεωγραφίας
DESCRIPTION:Τα Σεμινάρια Ριζοσπαστικής Γεωγραφίας επιστρέφουν σε καιρούς πανδημίας.  \nΓίνονται διαδικτυακά κάθε Τετάρτη\, 7:00 – 9:00 μμ. \nΜπορείτε να παρακολουθήσετε ζωντανά τα σεμινάρια μέσα από τη σελίδα των Τετραδίων Ριζοσπαστικής Γεωγραφίας στο Facebook (https://www.facebook.com/radicalgeography.gr). \nΕναλλακτικά\, μπορείτε να συνδεθειτε στην πλατφόρμα Zoom μέσα από τον παρακάτω σύνδεσμο: https://us02web.zoom.us/j/3731581553?pwd=V3p0dUZhUGpnL3F5NncvWXRyWnNRZz09 \nΔείτε το συνολικό πρόγραμμα… \n  \n«Γεωπολιτικές και εγχώριες συνιστώσες της πανδημίας» \nΠρόγραμμα \n1ο 24 Μαρτίου: Κωστής Χατζημιχάλης\, «Τι είναι και τι θέλει η Ριζοσπαστική Γεωγραφία: εισαγωγή στο Σεμινάριο» \n2ο 31 Μαρτίου: Κώστας Αργυρός\, δημοσιογράφος\, διεθνολόγος: «Η γεωπολιτική των εμβολίων» \n3ο 7 Απριλίου: Θάνος Ανδρίτσος\, Γιώργος Βελεγράκης: «Χώροι και τόποι της πανδημίας» \n4ο 14 Απριλίου: Κατερίνα Γαρδίκα\, Αναπληρώτρια Καθηγήτρια ΕΚΠΑ: «Ιστορική γεωγραφία των πανδημιών» \n5ο 21 Απριλίου: Erik Swyngedouw\, Professor of geography\, University of Manchester: «The Apocalypse is Disappointing’”: The Depoliticized Deadlock of the Climate Change Consensus» \nΠΑΣΧΑ \n6ο 12 Μαΐου: Ντίνα Βαΐου\, Ομότιμη Καθηγήτρια ΕΜΠ: «Φύλο\, χώρος και φροντίδα στα χρόνια της πανδημίας» \n7ο 19 Μαΐου: (θα ανακοινωθεί) \n8ο 26 Μαΐου: Αρης Καλαντίδης\, Professor\, Manchester Metropolitan University: «Πόλεις και πανδημίες» \n9ο 2 Ιουνίου: David Harvey\, Distinguished Professor\, CUNY\, NY: «Post-COVID-19 global economies with special reference to China»
URL:https://poulantzas.gr/event/anoichta-seminaria-rizospastikis-geografias/
ATTACH;FMTTYPE=:
END:VEVENT
BEGIN:VEVENT
DTSTART;TZID=Europe/Athens:20210519T190000
DTEND;TZID=Europe/Athens:20210525T220000
DTSTAMP:20260424T171255
CREATED:20210515T052530Z
LAST-MODIFIED:20210515T052530Z
UID:6202-1621450800-1621980000@poulantzas.gr
SUMMARY:Κύκλος συζητήσεων | Νέες και νέοι επιστήμονες: Εμπόδια και προοπτικές
DESCRIPTION:  \nΤο Ινστιτούτο Νίκος Πουλαντζάς\, το Ινστιτούτο Εναλλακτικών Πολιτικών ΕΝΑ και το Δίκτυο για την Υπεράσπιση της Δημόσιας Εκπαίδευσης συνδιοργανώνουν κύκλο δύο εκδηλώσεων με θέμα «Νέες και νέοι επιστήμονες: Εμπόδια και προοπτικές». \n  \nΣε μια περίοδο που πολύ συχνά γίνεται λόγος για τη μετάβαση στην οικονομία της γνώσης και για την ανάγκη η Ελλάδα να αξιοποιήσει το υψηλού επιπέδου ανθρώπινο δυναμικό της σε ένα πλαίσιο μεγάλων διεθνών ανακατατάξεων\, οι συνθήκες εκπαίδευσης\, έρευνας και εργασίας – αλλά και ευρύτερα οι όροι της ζωής – για τις νέες και τους νέους επιστήμονες παραμένουν ιδιαίτερα δύσκολες\, με την επισφάλεια να αποτελεί τον κανόνα. \nΗ Ελλάδα διαθέτει εξαιρετικά υψηλού επιπέδου νέες και νέους επιστήμονες που αντιμετωπίζουν πολλαπλά εμπόδια και υφίστανται διακρίσεις – ταξικές\, έμφυλες και άλλες\, οι οποίες εντείνονται διαρκώς με ευθύνη της Πολιτείας\, που υψώνει διαρκώς περισσότερα εμπόδια και διαχωρισμούς. \n  \nΜέσα σε αυτό το πλαίσιο\, στόχος του κύκλου εκδηλώσεων είναι να αναδείξει τα προβλήματα\, και να προτείνει συγκεκριμένες πολιτικές που θα δίνουν διέξοδο στη νέα γενιά επιστημόνων\, θα τους κάνουν συμμέτοχους στην παραγωγική ανασυγκρότηση της χώρας και θα αναστρέφουν την τάση φυγής στο εξωτερικό. \n  \nΣτις εκδηλώσεις θα παρέμβει ο πρόεδρος του ΣΥΡΙΖΑ-Προοδευτική Συμμαχία\, Αλέξης Τσίπρας.  \n  \nΑναλυτικότερα\, η πρώτη εκδήλωση\, με τίτλο «Νέες και νέοι επιστήμονες και η οικονομία της γνώσης»\, θα πραγματοποιηθεί την Τετάρτη 19 Μαΐου 2021\, στις 7.00 μ.μ.\, με ομιλητές/ομιλήτριες τους/τις : Κ. Γαβρόγλου\, Σπ. Γεωργάτο\, Ηλ. Γεωργαντά\, Ν. Καμπούρη\, Δ. Κοφινά\, Ι. Λαλιώτη. Την εκδήλωση θα συντονίσει η Δανάη Κολτσίδα. \n  \nΤο πάνελ της 1ης εκδήλωσης : \n \nΗ δεύτερη εκδήλωση\, με τίτλο «Το brain drain και πώς να το αναστρέψουμε»\, θα πραγματοποιηθεί την Τρίτη 25 Μαΐου 2021\, επίσης στις 7.00 μ.μ.\, με ομιλητές/ομιλήτριες τους/τις : Κ. Δασύρα\, Κ. Δουζίνα\, Λ. Λαμπριανίδη\, Δ. Σίνου\, Κ. Φωτάκη. Θα συντονίσει ο Παναγιώτης Σκευοφύλαξ. \n  \nΤο πάνελ της 2ης εκδήλωσης : \n \n  \nΚαι οι δύο εκδηλώσεις θα μεταδοθούν διαδικτυακά μέσω YouTube (Ινστιτούτο Νίκος Πουλαντζάς) και μέσω των ιστοσελίδων των συνδιοργανωτών: http://www.enainstitute.org/\, http://netedu.gr/ και http://poulantzas.gr \n  \n14052021_Final_Invitation.pdf
URL:https://poulantzas.gr/event/kyklos-syzitiseon-nees-kai-neoi-epistimones-ebodia-kai-prooptikes/
ATTACH;FMTTYPE=:
END:VEVENT
END:VCALENDAR