BEGIN:VCALENDAR
VERSION:2.0
PRODID:-//Ινστιτούτο Νίκος Πουλαντζάς - ECPv6.15.4//NONSGML v1.0//EN
CALSCALE:GREGORIAN
METHOD:PUBLISH
X-WR-CALNAME:Ινστιτούτο Νίκος Πουλαντζάς
X-ORIGINAL-URL:https://poulantzas.gr
X-WR-CALDESC:Events for Ινστιτούτο Νίκος Πουλαντζάς
REFRESH-INTERVAL;VALUE=DURATION:PT1H
X-Robots-Tag:noindex
X-PUBLISHED-TTL:PT1H
BEGIN:VTIMEZONE
TZID:Europe/Athens
BEGIN:DAYLIGHT
TZOFFSETFROM:+0200
TZOFFSETTO:+0300
TZNAME:EEST
DTSTART:20210328T010000
END:DAYLIGHT
BEGIN:STANDARD
TZOFFSETFROM:+0300
TZOFFSETTO:+0200
TZNAME:EET
DTSTART:20211031T010000
END:STANDARD
END:VTIMEZONE
BEGIN:VEVENT
DTSTART;TZID=Europe/Athens:20210331T190000
DTEND;TZID=Europe/Athens:20210602T210000
DTSTAMP:20260424T184557
CREATED:20210331T070624Z
LAST-MODIFIED:20210331T070624Z
UID:6117-1617217200-1622667600@poulantzas.gr
SUMMARY:Ανοιχτά Σεμινάρια Ριζοσπαστικής Γεωγραφίας
DESCRIPTION:Τα Σεμινάρια Ριζοσπαστικής Γεωγραφίας επιστρέφουν σε καιρούς πανδημίας.  \nΓίνονται διαδικτυακά κάθε Τετάρτη\, 7:00 – 9:00 μμ. \nΜπορείτε να παρακολουθήσετε ζωντανά τα σεμινάρια μέσα από τη σελίδα των Τετραδίων Ριζοσπαστικής Γεωγραφίας στο Facebook (https://www.facebook.com/radicalgeography.gr). \nΕναλλακτικά\, μπορείτε να συνδεθειτε στην πλατφόρμα Zoom μέσα από τον παρακάτω σύνδεσμο: https://us02web.zoom.us/j/3731581553?pwd=V3p0dUZhUGpnL3F5NncvWXRyWnNRZz09 \nΔείτε το συνολικό πρόγραμμα… \n  \n«Γεωπολιτικές και εγχώριες συνιστώσες της πανδημίας» \nΠρόγραμμα \n1ο 24 Μαρτίου: Κωστής Χατζημιχάλης\, «Τι είναι και τι θέλει η Ριζοσπαστική Γεωγραφία: εισαγωγή στο Σεμινάριο» \n2ο 31 Μαρτίου: Κώστας Αργυρός\, δημοσιογράφος\, διεθνολόγος: «Η γεωπολιτική των εμβολίων» \n3ο 7 Απριλίου: Θάνος Ανδρίτσος\, Γιώργος Βελεγράκης: «Χώροι και τόποι της πανδημίας» \n4ο 14 Απριλίου: Κατερίνα Γαρδίκα\, Αναπληρώτρια Καθηγήτρια ΕΚΠΑ: «Ιστορική γεωγραφία των πανδημιών» \n5ο 21 Απριλίου: Erik Swyngedouw\, Professor of geography\, University of Manchester: «The Apocalypse is Disappointing’”: The Depoliticized Deadlock of the Climate Change Consensus» \nΠΑΣΧΑ \n6ο 12 Μαΐου: Ντίνα Βαΐου\, Ομότιμη Καθηγήτρια ΕΜΠ: «Φύλο\, χώρος και φροντίδα στα χρόνια της πανδημίας» \n7ο 19 Μαΐου: (θα ανακοινωθεί) \n8ο 26 Μαΐου: Αρης Καλαντίδης\, Professor\, Manchester Metropolitan University: «Πόλεις και πανδημίες» \n9ο 2 Ιουνίου: David Harvey\, Distinguished Professor\, CUNY\, NY: «Post-COVID-19 global economies with special reference to China»
URL:https://poulantzas.gr/event/anoichta-seminaria-rizospastikis-geografias/
ATTACH;FMTTYPE=:
END:VEVENT
BEGIN:VEVENT
DTSTART;TZID=Europe/Athens:20210418T200000
DTEND;TZID=Europe/Athens:20210418T220000
DTSTAMP:20260424T184557
CREATED:20210418T163303Z
LAST-MODIFIED:20210418T163303Z
UID:6156-1618776000-1618783200@poulantzas.gr
SUMMARY:Παρουσίαση : "Μπάμπης Δρακόπουλος. Ένας δημοκρατικός ηγέτης της Αριστεράς. Ανέκδοτες αναμνήσεις και πολιτικά κείμενα"
DESCRIPTION:Τα Αρχεία Σύγχρονης Κοινωνικής Ιστορίας (ΑΣΚΙ)\, το Ινστιτούτο Νίκος Πουλαντζάς και οι εκδόσεις ΘΕΜΕΛΙΟ σας προσκαλούν σε μια διαδικτυακή εκδήλωση αφιερωμένη στον Μπάμπη Δρακόπουλο με αφορμή την έκδοση του βιβλίου:\nΜπάμπης Δρακόπουλος\nΈνας δημοκρατικός ηγέτης της Αριστεράς\nΑΝΕΚΔΟΤΕΣ ΑΝΑΜΝΗΣΕΙΣ ΚΑΙ ΠΟΛΙΤΙΚΑ ΚΕΙΜΕΝΑ\nΕκδοτική ομάδα: ΑΝΤΑ ΚΑΠΟΛΑ – ΒΑΓΓΕΛΗΣ ΚΑΡΑΜΑΝΩΛΑΚΗΣ – ΗΛΙΑΣ ΝΙΚΟΛΑΚΟΠΟΥΛΟΣ\nΕπιμέλεια: ΑΝΤΑ ΚΑΠΟΛΑ\nτην Κυριακή\, 18 Απριλίου 2021 και ώρα 8 μ.μ.\nΘα χαιρετήσουν οι:\nΚώστας ΔΟΥΖΙΝΑΣ\, καθηγητής στο πανεπιστήμιο του Λονδίνου\, Πρόεδρος του Ινστιτούτου Νίκος Πουλαντζάς.\nΗλίας ΝΙΚΟΛΑΚΟΠΟΥΛΟΣ\, ομ. καθηγητής Πολιτικής Επιστήμης\, ΕΚΠΑ\, Πρόεδρος Δ.Σ. ΑΣΚΙ.\nΘα μιλήσουν οι:\nΜπάμπης ΓΕΩΡΓΟΥΛΑΣ\, δημοσιογράφος.\nΆντα ΚΑΠΟΛΑ\, αρχειονόμος\, ΑΣΚΙ.\nΣπύρος ΛΥΚΟΥΔΗΣ\, πρώην βουλευτής.\nΣόνια ΤΣΙΤΗΛΟΥ\, πανεπιστημιακός.\nΝικος ΦΙΛΗΣ\, μέλος Πολιτικού Συμβουλίου ΣΥΡΙΖΑ-ΠΣ\, βουλευτής Α΄ Αθηνών.\nΘα συντονίσει ο Βαγγέλης ΚΑΡΑΜΑΝΩΛΑΚΗΣ\, αν. καθηγητής Ιστορίας\, ΕΚΠΑ.\nΓια να παρακολουθήσετε την εκδήλωση στο Zoom χρησιμοποιήστε τον ακόλουθο σύνδεσμο: https://us02web.zoom.us/j/85144919894.\nΠαράλληλα η εκδήλωση θα μεταδοθεί και στο Facebook.
URL:https://poulantzas.gr/event/parousiasi-babis-drakopoulos-enas-dimokratikos-igetis-tis-aristeras-anekdotes-anamniseis-kai-politika-keimena/
ATTACH;FMTTYPE=:
END:VEVENT
BEGIN:VEVENT
DTSTART;TZID=Europe/Athens:20210423T190000
DTEND;TZID=Europe/Athens:20210423T210000
DTSTAMP:20260424T184557
CREATED:20210419T143923Z
LAST-MODIFIED:20210419T143923Z
UID:6159-1619204400-1619211600@poulantzas.gr
SUMMARY:ΑΠΕ και χωροταξικός σχεδιασμός. Προϋποθέσεις μιας συναινετικής και δίκαιης μετάβασης
DESCRIPTION:Το Ινστιτούτο Νίκος Πουλαντζάς με αφορμή την έκδοση της μελέτης Ανανεώσιμες Πηγές Ενέργειας και χωροταξικός σχεδιασμός\, που υλοποιήθηκε στο πλαίσιο της συνεργασίας του με το ThinkBee\, διοργανώνει διαδικτυακή εκδήλωση/συζήτηση\, με θέμα Ανανεώσιμες Πηγές Ενέργειας και χωροταξικός σχεδιασμός. Προϋποθέσεις μιας συναινετικής και δίκαιης μετάβασης. \nΣτην εκδήλωση θα μιλήσουν οι:\nΡένα Κλαμπατσέα\, αναπληρώτρια καθηγήτρια ΕΜΠ\, πρώην γ.γ. Χωρικού Σχεδιασμού και Αστικού Περιβάλλοντος\nΠέτρος Κόκκαλης\, ευρωβουλευτής ΣΥΡΙΖΑ / κίνηση πολιτών ΚΟΣΜΟΣ\nΝικόλαος Κομηνέας\, πολιτικός μηχανικός / Δήμαρχος Αστυπάλαιας\nΠέτρος Μαρκόπουλος\, ηλεκτρολόγος μηχανικός\nΚατερίνα Σκιά\, αρχιτέκτων μηχανικός / thinkbee\nΝικόλαος Φαραντούρης\, καθηγητής της Ευρωπαϊκής Έδρας Jean Monnet στο Δίκαιο Ανταγωνισμού\, Ενέργειας και Μεταφορών\nΚωνσταντίνα Ντεμίρη\, Ελληνική Ορνιθολογική Εταιρεία \nΗ εκδήλωση θα μεταδοθεί ζωντανά μέσω του καναλιού του ΙΝΠ στο YouTube (Ινστιτούτο Νίκος Πουλαντζάς) και μέσω του site του ΙΝΠ (www.poulantzas.gr). Επίσης\, θα υπάρξει livestreaming μέσω Facebook. \nΜπορείτε να βρείτε ολόκληρη τη μελέτη στον ακόλουθο σύνδεσμο: https://poulantzas.gr/…/meleti-ananeosimes-piges…
URL:https://poulantzas.gr/event/ape-kai-chorotaxikos-schediasmos-proypotheseis-mias-synainetikis-kai-dikaiis-metavasis/
ATTACH;FMTTYPE=:
END:VEVENT
BEGIN:VEVENT
DTSTART;VALUE=DATE:20210430
DTEND;VALUE=DATE:20210501
DTSTAMP:20260424T184557
CREATED:20210412T080159Z
LAST-MODIFIED:20210412T080159Z
UID:6139-1619740800-1619827199@poulantzas.gr
SUMMARY:Το κράτος\, η εξουσία και η επανάσταση :  επικαιρότητα και ανεπικαιρότητα της σκέψης του Ν. Πουλαντζά (1936-1979)
DESCRIPTION:Το κράτος\, η εξουσία και η επανάσταση :  \nεπικαιρότητα και ανεπικαιρότητα της σκέψης του Ν. Πουλαντζά (1936-1979) \nΔιεθνής Ημερίδα για τα 40 χρόνια από τον θάνατο του Ν. Πουλαντζά Πέμπτη  \n30 Απριλίου 2021 \nUniversité Paris – Nanterre / Université Paris 8 Vincennes – Saint Denis  \nΕρευνητικές ομάδες : Sophiapol / LLCP \nμε τη στήριξη του Ινστιτούτου Νίκος Πουλαντζάς (Αθήνα) και τη συμμετοχή της επιθεώρησης Actuel Marx \n*τα ωράρια αναφέρονται στο συνημμένο πρόγραμμα σε Ώρα Γαλλίας \n  \n  \nΣύνδεσμος συμμετοχής στην εκδήλωση : meet.google.com  \n  \nΔιοργάνωση : \nΜατέο Πολέρι\, υπ. Διδάκτωρ\, Université Paris Nanterre (Sophiapol)/ SNS Pisa \nΙωάννα Μπαρτσίδη\, υπ. Διδάκτωρ\, Université Paris Nanterre (Sophiapol)/FUΒ Berlin \nΓιοάν Ντουέ\, Διδάκτωρ\, Université Paris Nanterre (Sophiapol) \nΜε την συνεργασία των : \nΕμανουέλ Ρενώ\, Καθηγητής\, Université Paris-Nanterre\nΓκιγιώμ Σιμπερτάν-Μπλαν\, Καθηγητής\, Université Paris 8 \nΜατιέ Ρενώ\, Επ. Καθηγητής\, Université Paris 8 \n  \n  \nΠροβληματική\n \nΣαράντα χρόνια μετά τον θάνατό του\, επιστρέφουμε με αυτή την ημερίδα στη σκέψη του Νίκου Πουλαντζά\, του οποίου το έργο παραμένει μέχρι και σήμερα σε μεγάλο βαθμό ανεξερεύνητο. \nΣυνομιλητής του Λουί Αλτουσέρ\, από τον οποίο στη συνέχεια αποστασιοποιήθηκε διανοητικά και πολιτικά\, εμπνευσμένος από τον Αντόνιο Γκράμσι και διατηρώντας έναν κριτικό διάλογο με τον Μισέλ Φουκώ\, ο Νίκος Πουλαντζάς υπήρξε ένας από τους λίγους μαρξιστές που ανέλαβαν να στοιχειοθετήσουν μια θεωρία του Κράτους και της εξουσίας\, τόσο σύνθετη όσο και συστηματική. Αυτή του η θεωρία του επέτρεψε να προτείνει οξυδερκείς αναλύσεις της δημοκρατίας\, στα όριά της — εφόσον οι υπάρχουσες αντιπροσωπευτικές δημοκρατίες αποτελούν πολιτεύματα που επιτρέπουν την αναπαρωγή του καπιταλιστικού συστήματος — αλλά και στις υποσχέσεις της — αφού η δημοκρατία είναι τοσο το πεδίο πάλης των κυριαρχούμενων τάξεων\, όσο και ένας από τους στόχους της πάλης αυτής. Ο Νίκος Πουλαντζάς επιχείρησε επίσης να σκεφτεί τα « καθεστώτα εξαίρεσης » στα οποία μπορούσε να οδηγήσει η κατάλυση της δημοκρατίας (φασισμός\, στρατιωτικές δικτατορίες ή βοναπαρτισμός)\, αλλά και τις παραμορφώσεις που η δημοκρατία μπορούσε να υποστεί (αυταρχικός κρατισμός). Η κατάσταση κρίσης της αντιπροσωπευτικής δημοκρατίας που είχε διαγνώσει στο τέλος της δεκαετίας του 1970 και η άνοδος του αυταρχικού κρατισμού καθιστούσαν κατ’ αυτόν αναγκαιότητα το να βρεθεί μια νέα « δημοκρατική οδός προς τον σοσιαλισμό » : μια επανερμηνεία της λενινιστικής στρατηγικής της « διπλής εξουσίας » μέσα από την υπέρβαση της κλασσικής μπολσεβικικής της κατανόησης. \nΣτην ημερίδα αυτή θα πραγματευτούμε λοιπόν την σκέψη του Νίκου Πουλαντζά ειδικότερα σε τρεις διαστάσεις της : την θεωρία του Κράτους και της εξουσίας (1)\, την ανάλυση της δημοκρατίας και των κρίσεών της (2) και την πολιτική του στρατηγική για την υπέρβαση του καπιταλισμού (3). \nΜέσα από αυτές τις τρεις προοπτικές\, θα θέσουμε το ζήτημα της επικαιρότητας και της ανεπικαιρότητας της σκέψης του και ειδικότερα του τρόπου με τον οποίο αυτή αρθρώνει την πρακτική της δημοκρατίας και τους κοινωνικούς αγώνες\, μέσα σε ένα ιστορικό παρόν στο οποίο η αυταρχική στροφή των νεοφιλελευθερων κοινωνικο-πολιτικών συστημάτων παίζει καθοριστικό ρόλο. \nΆξονες στοχασμού του συνεδρίου \n\nΗ θεωρία της εξουσίας του Πουλαντζά και η αντιπαράθεσή του με τον Φουκώ και τον Αλτουσέρ\nΑπό το κράτος εκτάκτου ανάγκης στην κρίση της αντιπροσωπευτικής δημοκρατίας\nΗ ιδέα του σοσιαλισμού και η μετα-καπιταλιστική μετάβαση\n\n  \nΜε τη συμμετοχή των : Ετιέν Μπαλιμπάρ\, Κριστίν Μπουσί-Γκλουκσμάν\, Κώστας Δουζίνας\, Μπομπ Τζέσσοπ\, Γιοάν Ντουέ και Αλέξης Μιχαλούδας.  \n  \nΔιαδικασία προεγγραφής στην εκδήλωση : \nMail επικοινωνίας / προ-εγγραφής στην εκδήλωση : yohanndout@gmail.com \, ibartsidi@parisnanterre.fr \, matteo.polleri@sns.it \nH προεγγραφή στην εκδήλωση δεν είναι αναγκαία\, αλλά συνίσταται. \n  \nArg_Prog-JE-Poulantzas.pdf
URL:https://poulantzas.gr/event/to-kratos-i-exousia-kai-i-epanastasi-epikairotita-kai-anepikairotita-tis-skepsis-tou-n-poulantza-1936-1979/
ATTACH;FMTTYPE=:
END:VEVENT
END:VCALENDAR