BEGIN:VCALENDAR
VERSION:2.0
PRODID:-//Ινστιτούτο Νίκος Πουλαντζάς - ECPv6.15.4//NONSGML v1.0//EN
CALSCALE:GREGORIAN
METHOD:PUBLISH
X-ORIGINAL-URL:https://poulantzas.gr
X-WR-CALDESC:Events for Ινστιτούτο Νίκος Πουλαντζάς
REFRESH-INTERVAL;VALUE=DURATION:PT1H
X-Robots-Tag:noindex
X-PUBLISHED-TTL:PT1H
BEGIN:VTIMEZONE
TZID:Europe/Athens
BEGIN:DAYLIGHT
TZOFFSETFROM:+0200
TZOFFSETTO:+0300
TZNAME:EEST
DTSTART:20210328T010000
END:DAYLIGHT
BEGIN:STANDARD
TZOFFSETFROM:+0300
TZOFFSETTO:+0200
TZNAME:EET
DTSTART:20211031T010000
END:STANDARD
END:VTIMEZONE
BEGIN:VEVENT
DTSTART;TZID=Europe/Athens:20210317T190000
DTEND;TZID=Europe/Athens:20210317T220000
DTSTAMP:20260424T201246
CREATED:20210310T125905Z
LAST-MODIFIED:20210310T125905Z
UID:6034-1616007600-1616018400@poulantzas.gr
SUMMARY:Πώς να αλλάξουμε τον κόσμο; Συζητώντας για τον ευρωκομμουνισμό σήμερα.
DESCRIPTION:Με αφορμή την επέτειο των 100 χρόνων από την ίδρυση του Ιταλικού Κομμουνιστικού Κόμματος (PCI) και την έκδοση του βιβλίου του Ενρίκο Μπερλινγκουέρ “Μια άλλη ιδέα για τον κόσμο. Ανθολογία 1969-1984” (Ινστιτούτο Νίκος Πουλαντζάς/Νήσος\, 2021)\, το Ινστιτούτο Νίκος Πουλαντζάς διοργανώνει διαδικτυακή εκδήλωση-συζήτηση την Τετάρτη 17 Μαρτίου 2021\, στις 7.00 μ.μ. με τίτλο Πώς να αλλάξουμε τον κόσμο; Συζητώντας για τον ευρωκομμουνισμό σήμερα. \n  \nΟμιλητές/ομιλήτριες: \n– Γιάννης Βούλγαρης\, ομότιμος καθηγητής Παντείου Πανεπιστημίου \n– Χάρης Γολέμης\, οικονομολόγος\, μέλος της συντακτικής επιτροπής της εφημερίδας “Η Εποχή” \n– Νατάσα Θεοδωρακοπούλου\, αντιπρόεδρος του Κόμματος Ευρωπαϊκής Αριστεράς \n– Βασίλης Κωτούλας\, μέλος του Εκτελεστικού Γραφείου του ΚΚΕ Εσωτερικού την περίοδο 1974-1978 \n– Γιάννης Μπαλαμπανίδης\, πολιτικός επιστήμονας\, διδάσκων στο Ελληνικό Ανοιχτό Πανεπιστήμιο \n– Ελίζα Παπαδάκη\, δημοσιογράφος \nΠαρεμβαίνει με μαγνητοσκοπημένο μήνυμά της\, η Λουτσιάνα Καστελίνα\, ιστορικό στέλεχος της ιταλικής Αριστεράς. \nΣυντονίζει ο Θόδωρος Παρασκευόπουλος\, οικονομολόγος\, μέλος του ΔΣ του ΙΝΠ. \n  \nΠαρακολουθείστε την εκδήλωση μέσω του καναλιού του ΙΝΠ στο YouTube (Ινστιτούτο Νίκος Πουλαντζάς) και εδώ : \n 
URL:https://poulantzas.gr/event/pos-na-allaxoume-ton-kosmo-syzitontas-gia-ton-evrokommounismo-simera/
ATTACH;FMTTYPE=:
END:VEVENT
BEGIN:VEVENT
DTSTART;TZID=Europe/Athens:20210331T190000
DTEND;TZID=Europe/Athens:20210331T213000
DTSTAMP:20260424T201246
CREATED:20210325T174036Z
LAST-MODIFIED:20210325T174036Z
UID:6094-1617217200-1617226200@poulantzas.gr
SUMMARY:Νεολαία. Συνήθειες\, αντιλήψεις & πολιτική συμπεριφορά. Συζήτηση με αφορμή την έρευνα του ΙΝΠ και της Prorata.
DESCRIPTION:Διαδικτυακή συζήτηση με αφορμή την έρευνα που πραγματοποίησε σε συνεργασία με την εταιρία Prorata με θέμα Νεολαία. Συνήθειες\, αντιλήψεις & πολιτική συμπεριφορά\, διοργανώνει το Ινστιτούτο Νίκος Πουλαντζάς την Τετάρτη 31 Μαρτίου 2021 και ώρα 7.00 μ.μ. \nΗ νεολαία είναι μια κοινωνική ομάδα που επανήλθε δυναμικά τα τελευταία χρόνια στο κοινωνικό και πολιτικό προσκήνιο\, ανατρέποντας παλιότερες αντιλήψεις περί απάθειας και αποπολιτικοποίησης. Την ίδια στιγμή η σημερινή νεολαία\, και ειδικά στην Ελλάδα\, είναι η γενιά που πλήρωσε ακριβό τίμημα μέσα στις επάλληλες κρίσεις\, ενώ βρίσκεται και αντιμέτωπη με μεγάλα προβλήματα και προκλήσεις\, τόσο λόγω της πανδημίας όσο και στο πλαίσιο των ευρύτερων μετασχηματισμών που συντελούνται σε όλα τα πεδία της κοινωνικής ζωής\, στοιχεία που φαίνεται να την κάνουν πρωταγωνίστρια των κοινωνικών αντιστάσεων και διεκδικήσεων. \nΣτην εκδήλωση θα παρουσιαστούν και θα σχολιαστούν τα κυριότερα ευρήματα της ετήσιας έρευνας του ΙΝΠ για τη νεολαία\, αλλά και γενικότερα οι τάσεις που καταγράφονται για τους νέους και τις νέες στο πλαίσιο της κοινωνιολογικής και πολιτικής έρευνας\, από επιστήμονες που ασχολούνται με το θέμα. \nΘα υπάρξουν επίσης παρεμβάσεις από εκπροσώπους πολιτικών νεολαιών\, τα ονόματα των οποίων θα ανακοινωθούν σύντομα\, για να καταθέσουν τη δική τους ματιά στα ευρήματα. \nΟμιλήτριες/-ές : \n\nΜανίνα Κακεπάκη\, πολιτική επιστήμονας\, ερευνήτρια\, Εθνικό Κέντρο Κοινωνικών Ερευνών\nΔανάη Κολτσίδα\, πολιτική επιστήμονας\, διευθύντρια Ινστιτούτου Νίκος Πουλαντζάς\nΓεράσιμος Κουζέλης\, ομότιμος καθηγητής Κοινωνιολογίας\, Πανεπιστήμιο Αθηνών\nΑλεξάνδρα Κορωναίου\, καθηγήτρια Κοινωνιολογίας\, Κοσμήτορας της Σχολής Κοινωνικών Επιστημών\, Πάντειο Πανεπιστήμιο\nΜάρω Παντελίδου-Μαλούτα\, ομότιμη καθηγήτρια Πολιτικής Επιστήμης\, Πανεπιστήμιο Αθηνών\n\nΣυντονίζει ο Νίκος Σβέρκος\, δημοσιογράφος\, διευθυντής του www.avgi.gr \nΗ εκδήλωση θα μεταδοθεί μέσω του καναλιού του ΙΝΠ στο YouTube (Ινστιτούτο Νίκος Πουλαντζάς) και στο www.poulantzas.gr. \n 
URL:https://poulantzas.gr/event/neolaia-synitheies-antilipseis-politiki-syberifora-syzitisi-me-aformi-tin-erevna-tou-inp-kai-tis-prorata/
ATTACH;FMTTYPE=:
END:VEVENT
BEGIN:VEVENT
DTSTART;TZID=Europe/Athens:20210331T190000
DTEND;TZID=Europe/Athens:20210602T210000
DTSTAMP:20260424T201246
CREATED:20210331T070624Z
LAST-MODIFIED:20210331T070624Z
UID:6117-1617217200-1622667600@poulantzas.gr
SUMMARY:Ανοιχτά Σεμινάρια Ριζοσπαστικής Γεωγραφίας
DESCRIPTION:Τα Σεμινάρια Ριζοσπαστικής Γεωγραφίας επιστρέφουν σε καιρούς πανδημίας.  \nΓίνονται διαδικτυακά κάθε Τετάρτη\, 7:00 – 9:00 μμ. \nΜπορείτε να παρακολουθήσετε ζωντανά τα σεμινάρια μέσα από τη σελίδα των Τετραδίων Ριζοσπαστικής Γεωγραφίας στο Facebook (https://www.facebook.com/radicalgeography.gr). \nΕναλλακτικά\, μπορείτε να συνδεθειτε στην πλατφόρμα Zoom μέσα από τον παρακάτω σύνδεσμο: https://us02web.zoom.us/j/3731581553?pwd=V3p0dUZhUGpnL3F5NncvWXRyWnNRZz09 \nΔείτε το συνολικό πρόγραμμα… \n  \n«Γεωπολιτικές και εγχώριες συνιστώσες της πανδημίας» \nΠρόγραμμα \n1ο 24 Μαρτίου: Κωστής Χατζημιχάλης\, «Τι είναι και τι θέλει η Ριζοσπαστική Γεωγραφία: εισαγωγή στο Σεμινάριο» \n2ο 31 Μαρτίου: Κώστας Αργυρός\, δημοσιογράφος\, διεθνολόγος: «Η γεωπολιτική των εμβολίων» \n3ο 7 Απριλίου: Θάνος Ανδρίτσος\, Γιώργος Βελεγράκης: «Χώροι και τόποι της πανδημίας» \n4ο 14 Απριλίου: Κατερίνα Γαρδίκα\, Αναπληρώτρια Καθηγήτρια ΕΚΠΑ: «Ιστορική γεωγραφία των πανδημιών» \n5ο 21 Απριλίου: Erik Swyngedouw\, Professor of geography\, University of Manchester: «The Apocalypse is Disappointing’”: The Depoliticized Deadlock of the Climate Change Consensus» \nΠΑΣΧΑ \n6ο 12 Μαΐου: Ντίνα Βαΐου\, Ομότιμη Καθηγήτρια ΕΜΠ: «Φύλο\, χώρος και φροντίδα στα χρόνια της πανδημίας» \n7ο 19 Μαΐου: (θα ανακοινωθεί) \n8ο 26 Μαΐου: Αρης Καλαντίδης\, Professor\, Manchester Metropolitan University: «Πόλεις και πανδημίες» \n9ο 2 Ιουνίου: David Harvey\, Distinguished Professor\, CUNY\, NY: «Post-COVID-19 global economies with special reference to China»
URL:https://poulantzas.gr/event/anoichta-seminaria-rizospastikis-geografias/
ATTACH;FMTTYPE=:
END:VEVENT
END:VCALENDAR