BEGIN:VCALENDAR
VERSION:2.0
PRODID:-//Ινστιτούτο Νίκος Πουλαντζάς - ECPv6.15.4//NONSGML v1.0//EN
CALSCALE:GREGORIAN
METHOD:PUBLISH
X-WR-CALNAME:Ινστιτούτο Νίκος Πουλαντζάς
X-ORIGINAL-URL:https://poulantzas.gr
X-WR-CALDESC:Events for Ινστιτούτο Νίκος Πουλαντζάς
REFRESH-INTERVAL;VALUE=DURATION:PT1H
X-Robots-Tag:noindex
X-PUBLISHED-TTL:PT1H
BEGIN:VTIMEZONE
TZID:Europe/Athens
BEGIN:DAYLIGHT
TZOFFSETFROM:+0200
TZOFFSETTO:+0300
TZNAME:EEST
DTSTART:20200329T010000
END:DAYLIGHT
BEGIN:STANDARD
TZOFFSETFROM:+0300
TZOFFSETTO:+0200
TZNAME:EET
DTSTART:20201025T010000
END:STANDARD
END:VTIMEZONE
BEGIN:VEVENT
DTSTART;TZID=Europe/Athens:20201027T180000
DTEND;TZID=Europe/Athens:20201027T200000
DTSTAMP:20260425T035207
CREATED:20201026T153544Z
LAST-MODIFIED:20250912T120805Z
UID:5809-1603821600-1603828800@poulantzas.gr
SUMMARY:Συζήτηση στρογγυλής τράπεζας | Φασισμός\, ρατσισμός\, ναζισμός: η κοινοτοπία του κακού
DESCRIPTION:Το Πάντειο Πανεπιστήμιο γιορτάζει την εθνική επέτειο της 28ης Οκτωβρίου με μια συζήτηση που αναδεικνύει την επικαιρότητα της μνήμης του Β΄ Παγκοσμίου Πολέμου και καλεί σε αναστοχασμό σχετικά με ιδεολογίες που φάνηκε πως ηττήθηκαν το 1945 αλλά επιβιώνουν μέσα από κοινότοπα σχήματα και αφυπνίζονται σε στιγμές κρίσης μέχρι και σήμερα σε Ελλάδα και Ευρώπη. \n  \nΠερισσότερες πληροφορίες : https://panteion.gr/el/nea/2016-06-25-13-04-44/1364-28-2020
URL:https://poulantzas.gr/event/syzitisi-strongylis-trapezas-fasismos-ratsismos-nazismos-i-koinotopia-tou-kakou/
ATTACH;FMTTYPE=image/gif:https://poulantzas.gr/wp-content/uploads/2020/10/SYZHTHSH_800-1.gif
END:VEVENT
BEGIN:VEVENT
DTSTART;TZID=Europe/Athens:20201030T180000
DTEND;TZID=Europe/Athens:20201030T200000
DTSTAMP:20260425T035207
CREATED:20201021T115349Z
LAST-MODIFIED:20250912T115814Z
UID:5786-1604080800-1604088000@poulantzas.gr
SUMMARY:Η κοινωνία των ΗΠΑ σε αναταραχή. Τι περιμένουμε από τις εκλογές;
DESCRIPTION:Λίγες μέρες απομένουν μέχρι τις εκλογές στις ΗΠΑ. Η χώρα βρίσκεται στο επίκεντρο του διεθνούς ενδιαφέροντος. Η θητεία Τραμπ άνοιξε τον ασκό του Αιόλου : ο τρόπος που επέλεξε να αντιμετωπίσει τις σοβαρές και πολυεπίπεδες επιπτώσεις της πανδημίας του covid19\, η πυροδότηση και αξιοποίηση των πιο ακραίων\, ρατσιστικών\, ανορθολογικών\, εθνικιστικών\, θρησκόληπτων φωνών και δυνάμεων της αμερικανικής κοινωνίας\, η περαιτέρω ένταση των κοινωνικών και οικονομικών ανισοτήτων\, του αυταρχισμού και της καταστολής\, η διαρκής ασάφεια για τους όρους του πολιτικού παιχνιδιού\, τόσο στο εσωτερικό όσο και στην εξωτερική πολιτική\, εντείνοντας τη ρευστότητα στο διεθνές τοπίο\, είναι μόνο μερικές από τις πτυχές της πολιτικής του. \nΑυτό όμως που έχει κυρίως σημασία είναι οι βαθύτερες διεργασίες που συντελούνται αυτή τη στιγμή  στην αμερικανική κοινωνία. Η υποψηφιότητα Μπάιντεν φαίνεται πως έχει κατακτήσει μία δυναμική εναντίωσης στην παραμονή του Τραμπ στην προεδρία χωρίς όμως να κομίζει κάτι καινούργιο και μάλλον συσκοτίζει παρά αποκαλύπτει αυτές τις διεργασίες. Η μαζική κοινωνική κινητοποίηση που ακολούθησε τη δολοφονία του Τζορτζ Φλόυντ επανέφερε τα θέματα της αστυνομικής βίας\, του ρατσισμού\, αλλά και της ουσιαστικής ισότητας στο προσκήνιο. Το κίνημα Black lives matter από κίνημα διαμαρτυρίας και υπεράσπισης των δικαιωμάτων φαίνεται να μετασχηματίζει τη δράση του θέτοντας στο επίκεντρο της πολιτικής συζήτησης την αναγκαιότητα μεταρρύθμισης των θεσμών και των δομών στις ΗΠΑ. Πώς διαμορφώνει τη στρατηγική του και πώς ανασυντάσσεται το αμερικανικό κατεστημένο; Ποιες κοινωνικές και πολιτικές δυναμικές αναπτύσσονται στην αμερικανική κοινωνία; \nΣτην διαδικτυακή εκδήλωση με τίτλο Η κοινωνία των ΗΠΑ σε αναταραχή: Τι περιμένουμε από τις εκλογές;\, που διοργανώνει το Ινστιτούτο Νίκος Πουλαντζάς στο πλαίσιο του θεματικού κύκλου «Ευρώπη & Κόσμος»\, θα επιχειρήσουμε ακριβώς να αναλύσουμε αυτές τις κοινωνικές και πολιτικές παραμέτρους και να σκιαγραφήσουμε τους κινδύνους αλλά και  τις δυνατότητες που διαφαίνονται αυτή τη στιγμή και που προφανώς δεν αφορούν μόνο τις ΗΠΑ αλλά ολόκληρο τον κόσμο. \n  \nΘα μιλήσουν : \n\nΑθηνά Αθανασίου\, καθηγήτρια Κοινωνικής Ανθρωπολογίας\, Πάντειο Πανεπιστήμιο\, μέλος ΔΣ του ΙΝΠ \nΣτάθης Γουργουρής\, καθηγητής Συγκριτικής Λογοτεχνίας\, Κοινωνικών και Κλασικών Σπουδών\, Πανεπιστήμιο Columbia\nΝεκτάριος Μπουγδάνης\, υποψήφιος διδάκτορας Πολιτικών Επιστημών\, Πάντειο Πανεπιστήμιο\, μέλος ΔΣ του ΙΝΠ\nΝατάσα Ρωμανού\, ερευνήτρια-καθηγήτρια\, Ινστιτούτο Goddard της ΝΑSΑ και Πανεπιστήμιο Columbia\n\nΣυντονίζει η Κάκη Μπαλή\, δημοσιογράφος\, εφημερίδα “Η Αυγή” \n  \nΗ εκδήλωση θα πραγματοποιηθεί μέσω της διαδικτυακής πλατφόρμας του Ινστιτούτου. Για να την παρακολουθήσετε\, αρκεί την ημέρα και ώρα της εκδήλωσης να ανοίξετε τον ακόλουθο σύνδεσμο:  https://meet.poulantzas.gr/b/nic-eqf-zvp  \nΕναλλακτικά\, η εκδήλωση θα μεταδίδεται μέσω live streaming και από τη σελίδα του Ινστιτούτου στο Facebook.
URL:https://poulantzas.gr/event/i-koinonia-ton-ipa-se-anatarachi-ti-perimenoume-apo-tis-ekloges/
ATTACH;FMTTYPE=image/png:https://poulantzas.gr/wp-content/uploads/2020/10/ekloges_usa_banner_site.png
END:VEVENT
END:VCALENDAR