BEGIN:VCALENDAR
VERSION:2.0
PRODID:-//Ινστιτούτο Νίκος Πουλαντζάς - ECPv6.15.4//NONSGML v1.0//EN
CALSCALE:GREGORIAN
METHOD:PUBLISH
X-ORIGINAL-URL:https://poulantzas.gr
X-WR-CALDESC:Events for Ινστιτούτο Νίκος Πουλαντζάς
REFRESH-INTERVAL;VALUE=DURATION:PT1H
X-Robots-Tag:noindex
X-PUBLISHED-TTL:PT1H
BEGIN:VTIMEZONE
TZID:Europe/Athens
BEGIN:DAYLIGHT
TZOFFSETFROM:+0200
TZOFFSETTO:+0300
TZNAME:EEST
DTSTART:20200329T010000
END:DAYLIGHT
BEGIN:STANDARD
TZOFFSETFROM:+0300
TZOFFSETTO:+0200
TZNAME:EET
DTSTART:20201025T010000
END:STANDARD
END:VTIMEZONE
BEGIN:VEVENT
DTSTART;TZID=Europe/Athens:20200719T193000
DTEND;TZID=Europe/Athens:20200818T213000
DTSTAMP:20260425T065911
CREATED:20200716T103333Z
LAST-MODIFIED:20250912T121525Z
UID:5634-1595187000-1597786200@poulantzas.gr
SUMMARY:Δυο αιώνες πριν...
DESCRIPTION:Δελτίο Τύπου \nΔυο αιώνες πριν… \nΟ Πολιτιστικός και Μορφωτικός Σύλλογος «Το Αιτωλικό» και οι συνεταιριστικές εκδόσεις Soul Twinkles Κοιν.Σ.Επ. σάς προσκαλούν στις 19 Ιούλη του 2020 και ώρα 19:30 στο αίθριο του Κατράκειου Μουσείου στο Αιτωλικό για την παρουσίαση του δεύτερου ιστορικού μυθιστορήματος της σειράς «Λιμνοθάλασσα».\nΜε αφορμή την παρουσίαση του βιβλίου θα ακολουθήσει συζήτηση για τα διακόσια χρόνια από την Ελληνική Επανάσταση.\nΟμιλητές της εκδήλωσης θα είναι η Αναγνωστοπούλου Σία\, καθηγήτρια Ιστορίας στο Πάντειο Πανεπιστήμιο και Βουλεύτρια του Σύριζα\, ο Αξελός Ρήγας\, ηθοποιός και Δημοτικός Σύμβουλος στην «Ανοιχτή Πόλη»\, η Γκασούκα Μαρία\, ομότιμη καθηγήτρια Πανεπιστημίου Αιγαίου και ο συγγραφέας του βιβλίου “Λιμνοθάλασσα Διχόνοιας” Σαγώνας Φώτης. \nΤην εκδήλωση θα συντονίζει ο Κότσαρης Μιχάλης\, ζωγράφος-χαράκτης και πρόεδρος του συλλόγου “Το Αιτωλικό”.
URL:https://poulantzas.gr/event/dyo-eones-prin/
ATTACH;FMTTYPE=image/jpeg:https://poulantzas.gr/wp-content/uploads/2020/07/afisa-parousiasis-net.jpg
END:VEVENT
END:VCALENDAR