BEGIN:VCALENDAR
VERSION:2.0
PRODID:-//Ινστιτούτο Νίκος Πουλαντζάς - ECPv6.15.4//NONSGML v1.0//EN
CALSCALE:GREGORIAN
METHOD:PUBLISH
X-WR-CALNAME:Ινστιτούτο Νίκος Πουλαντζάς
X-ORIGINAL-URL:https://poulantzas.gr
X-WR-CALDESC:Events for Ινστιτούτο Νίκος Πουλαντζάς
REFRESH-INTERVAL;VALUE=DURATION:PT1H
X-Robots-Tag:noindex
X-PUBLISHED-TTL:PT1H
BEGIN:VTIMEZONE
TZID:Europe/Athens
BEGIN:DAYLIGHT
TZOFFSETFROM:+0200
TZOFFSETTO:+0300
TZNAME:EEST
DTSTART:20260329T010000
END:DAYLIGHT
BEGIN:STANDARD
TZOFFSETFROM:+0300
TZOFFSETTO:+0200
TZNAME:EET
DTSTART:20261025T010000
END:STANDARD
END:VTIMEZONE
BEGIN:VEVENT
DTSTART;TZID=Europe/Athens:20260227T180000
DTEND;TZID=Europe/Athens:20260227T210000
DTSTAMP:20260423T175014
CREATED:20260219T130423Z
LAST-MODIFIED:20260219T130423Z
UID:13317-1772215200-1772226000@poulantzas.gr
SUMMARY:«Νέοι και Νέες για την Ευρώπη και την Αριστερά – Αντιλήψεις και Προσδοκίες»
DESCRIPTION:«Νέοι και Νέες για την Ευρώπη και την Αριστερά – Αντιλήψεις και Προσδοκίες» \nΠαρασκευή\, 27 Φεβρουαρίου 2026 \nΠνευματικό Κέντρο του Δήμου Αθηναίων\, Ακαδημίας 50 \nΠαρουσίαση Έρευνας: Χαρτογραφώντας τη Νεολαία: Σχήματα\, αναπαραστάσεις και όρια της νεανικής κουλτούρας και πολιτικοποίησης \nΤο Ινστιτούτο Νίκος Πουλαντζάς και η Ομάδα της Αριστεράς στο Ευρωπαϊκό Κοινοβούλιο (The Left in the European Parliament) σάς προσκαλούν σε μια  συζήτηση για τους νέους και τις νέες στην ελληνική κοινωνία. Μια εκδήλωση που αποσκοπεί να φωτίσει τις αντιλήψεις\, τις προσδοκίες και τα αδιέξοδα μιας γενιάς που βιώνει μια πολυεπίπεδη κρίση. \nΘα μιλήσουν: \n\nΝίκος Τζήμας\, Senior Researcher στο Τμήμα Πολιτικής/Κοινωνικής Έρευνας της Prorata\nΚατερίνα Ηλιού\, Κοινωνική Ψυχολόγος και Κύρια Ερευνήτρια\, ΕΚΚΕ\nΠαναγιώτης Κουστένης\, Επίκουρος Καθηγητής\, Πανεπιστήμιο Κρήτης\nΚατερίνα Λαμπρινού\, Δρ. Πολιτικής Επιστήμης και Ιστορίας\, Πάντειο Πανεπιστήμιο\nΙλιρίντα Μουσαράι\, Υποψήφια Διδακτόρισσα στο Τμήμα Κοινωνιολογίας\, ΕΚΠΑ\nΧαράλαμπος Πουλόπουλος\, Καθηγητής Κοινωνικής Εργασίας στις Εξαρτήσεις\, Πανεπιστήμιο Δυτικής Αττικής\n\nΘα προλογίσει:\nη Μαρία Ρεπούση\, Διευθύντρια του Ινστιτούτου Νίκος Πουλαντζάς \nΘα συντονίσει:\nο Κώστας Αρβανίτης\, Αντιπρόεδρος της LEFT\, Επικεφαλής Αντιπροσωπείας ΣΥΡΙΖΑ \nΗ ΕΡΕΥΝΑ: ΜΙΑ ΓΕΝΙΑ ΣΕ ΚΡΙΣΗ \nΗ εκδήλωση θα επικεντρωθεί στα αποτελέσματα της ποιοτικής έρευνας που πραγματοποίησε η Prorata για λογαριασμό του Ινστιτούτου Νίκος Πουλαντζάς και της Ομάδας της Αριστεράς στο Ευρωπαϊκό Κοινοβούλιο (The Left in the European Parliament) το Νοέμβριο του 2025. Η έρευνα αποτυπώνει τις αντιλήψεις και τις προσδοκίες των νέων (17-35 ετών) για την Ευρώπη\, την Αριστερά και την πολιτική συμμετοχή. \nΗ “Μπλοκαρισμένη Ενηλικίωση“ \nΟι νέοι και οι νέες βιώνουν μια παρατεταμένη «νεότητα χωρίς οφέλη»\, όπου τα κατώφλια της ενηλικίωσης παραμένουν κλειδωμένα. Σύμφωνα με την έρευνα\, αντιμετωπίζουν καθημερινά πέντε κρίσιμα προβλήματα: \n\nΈντονη και διαρκώς επιδεινούμενη Ακρίβεια\nΕργασία που δεν αποδίδει επαρκές εισόδημα για μια αξιοπρεπή ζωή\nΣτεγαστική Κρίση\nΈλλειψη ποιοτικού Ελεύθερου Χρόνου\nΑυξανόμενη αίσθηση Απομόνωσης\n\nΟι Αριθμοί Αποκαλύπτουν:  \n\nτο 17% εργάζεται με προσωρινές συμβάσεις ή χωρίς σύμβαση\nτο 92% θεωρεί ότι οι μισθοί είναι χαμηλοί\nτο 65% δέχεται οικονομική βοήθεια από την οικογένεια\nτο 44% δηλώνει ότι είναι λίγο ή καθόλου ευχαριστημένο από τη ζωή\nτο 31% μόνο πιστεύει ότι το μέλλον θα είναι καλό\n\nΗ Παράδοξη Ωρίμανση \nΟι νέοι και οι νέες αναγκάζονται να ωριμάσουν και να γίνουν πιο κυνικοί/ες από ότι ήταν οι γονείς τους σε αντίστοιχη ηλικία\, αλλά ταυτόχρονα δεν μπορούν να ενηλικιωθούν—δεν έχουν δικό τους σπίτι\, δεν έχουν σταθερή δουλειά\, δεν πιστεύουν σε ένα καλύτερο μέλλον. \nΗ Απομυθοποίηση της Ευρώπης \nΠαρά την απαισιοδοξία των νέων για την Ελλάδα\, το 61% δηλώνει ότι προτιμάει να μείνει στη χώρα. Η άποψη τους για την Ευρώπη έχει μεταβληθεί δραματικά. Η Ευρώπη δεν είναι πια όνειρο\, αλλά έσχατο καταφύγιο. Εκφράζουν ανησυχία για: \n\nΡατσισμό και αντιμεταναστευτικές πολιτικές\nΑπειλή πολέμου\nΑποξένωση και απώλεια ταυτότητας\n\nΠολιτική Συνειδητοποίηση \nΓια τους νέους και τις νέες αριστερών πεποιθήσεων\, η πολιτική αφορά όλους τους τομείς της κοινωνίας και της καθημερινότητας\, ενώ για εκείνους που κλίνουν προς τα δεξιά\, η πολιτική σχετίζεται κυρίως με το κράτος\, τα κόμματα και τους θεσμούς. \nΓιατί είναι σημαντική αυτή η συζήτηση; \nΗ έρευνα απεικονίζει μια γενιά σε κρίση—όχι μόνο οικονομική\, αλλά ταυτοτική και κοινωνική. Οι νέοι και οι νέες δεν αισθάνονται «ούτε παιδιά\, ούτε ενήλικοι». Το παρόν τούς φαίνεται σκοτεινό\, το μέλλον τους αβέβαιο\, και τα όνειρά τους αναβάλλονται ή εγκαταλείπονται. \nΗ συζήτηση θα εστιάσει στις αναπαραστάσεις\, τα σχήματα και τα όρια της νεανικής κουλτούρας και πολιτικοποίησης\, αναλύοντας πώς διαμορφώνεται η πολιτική συνείδηση της νέας γενιάς σε συνθήκες συστημικής κρίσης και ανασφάλειας. \nΘΕΜΑΤΙΚΟΙ ΑΞΟΝΕΣ ΣΥΖΗΤΗΣΗΣ \nΗ εκδήλωση θα επικεντρωθεί σε πέντε κεντρικούς άξονες που αναδύθηκαν από την έρευνα: \n\nΔικαιώματα – Διεκδίκηση βασικών εργασιακών και κοινωνικών δικαιωμάτων\nΧρόνος – Έλλειψη προσωπικού χρόνου και αίσθηση «κλεμμένης ζωής»\nΕργασία – Επισφαλής απασχόληση\, χαμηλοί μισθοί\, έλλειψη προοπτικών\nΑκρίβεια – Διαρκής οικονομική αφαίμαξη και αδυναμία σχεδιασμού\nΣτέγαση – Το αδύνατο όνειρο της ανεξαρτησίας και της αυτονόμησης\n\nΣΥΝΔΙΟΡΓΑΝΩΣΗ \nΟμάδα της Αριστεράς στο Ευρωπαϊκό Κοινοβούλιο (The Left in the European Parliament) | Ινστιτούτο Νίκος Πουλαντζάς \nΠΛΗΡΟΦΟΡΙΕΣ – ΕΠΙΚΟΙΝΩΝΙΑ \nΓια περισσότερες πληροφορίες:\n📧 info@poulantzas.gr\nΤηλ.: 210 3217 745
URL:https://poulantzas.gr/event/%ce%bd%ce%ad%ce%bf%ce%b9-%ce%ba%ce%b1%ce%b9-%ce%bd%ce%ad%ce%b5%cf%82-%ce%b3%ce%b9%ce%b1-%cf%84%ce%b7%ce%bd-%ce%b5%cf%85%cf%81%cf%8e%cf%80%ce%b7-%ce%ba%ce%b1%ce%b9-%cf%84%ce%b7%ce%bd-%ce%b1%cf%81-2/
LOCATION:Πνευματικό Κέντρο Δήμου Αθηναίων\, Ακαδημίας 50\, Αθήνα\, 10679\, Greece
CATEGORIES:εκδήλωση
ATTACH;FMTTYPE=image/png:https://poulantzas.gr/wp-content/uploads/2026/02/COVER_27FEB-scaled.png
END:VEVENT
BEGIN:VEVENT
DTSTART;TZID=Europe/Athens:20260429T170000
DTEND;TZID=Europe/Athens:20260429T210000
DTSTAMP:20260423T175014
CREATED:20260423T120319Z
LAST-MODIFIED:20260423T120319Z
UID:13505-1777482000-1777496400@poulantzas.gr
SUMMARY:ΗΜΕΡΙΔΑ: «Ποια θα μπορούσε να είναι η ύλη ενός προοδευτικού Συντάγματος;»
DESCRIPTION:Τετάρτη 29 Απριλίου 2026 | 5:00 – 9:00 μ.μ. | Βιβλιοθήκη Δ.Ι. Πουρνάρας\, 2ος όροφος\, ΕΣΗΕΑ (Ακαδημίας 20)\n(Προσέλευση από τις 4:30 μ.μ.) \nΤο Ινστιτούτο Νίκος Πουλαντζάς και το Ινστιτούτο ΕΝΑ συνδιοργανώνουν ημερίδα με θέμα «Ποια θα μπορούσε να είναι η ύλη ενός προοδευτικού Συντάγματος;» — μια πρωτοβουλία που φέρνει στο επίκεντρο τον ευρύτερο δημόσιο διάλογο για την αναθεώρηση του Συντάγματος και τις προκλήσεις που αντιμετωπίζει η ελληνική δημοκρατία σήμερα. \nΗ εκδήλωση πραγματοποιείται σε μία συγκυρία κατά την οποία η γενικευμένη καταρράκωση θεσμών και κανόνων έχει ήδη αποκτήσει τον χαρακτήρα ισχυρής πολιτειακής δοκιμασίας. Η θεσμική ανασυγκρότηση της πολιτείας μας\, και με συνταγματική αναθεώρηση όπου αυτό απαιτείται\, αποδεικνύεται σημαντική πολιτική προτεραιότητα. Με τη συμμετοχή ακαδημαϊκών\, νομικών και ερευνητών\, η ημερίδα φιλοδοξεί να αναδείξει τα κρίσιμα ζητήματα που θα πρέπει να διέπουν ένα σύγχρονο προοδευτικό συνταγματικό\, και ευρύτερα θεσμικό πλαίσιο. \nΑναλυτικό Πρόγραμμα Εργασιών \n1ο Τραπέζι: Προστασία των Δημοσίων Αγαθών – Οικονομία των Κοινών– Ανισότητες \n5:00 – 6:15 μ.μ. \nΣυντονισμός: Νίκος Παπαδημητρίου\, Δημοσιογράφος\, «Εφημερίδα των Συντακτών» \nΤο πρώτο θεματικό τραπέζι εστιάζει σε ένα από τα πιο επίκαιρα ζητήματα: την απαξίωση των δημοσίων αγαθών — υγεία\, εκπαίδευση\, δημόσιος χώρος\, περιβάλλον\, στέγη\, πόσιμο νερό — και την προοδευτική μετατροπή τους σε αντικείμενα ιδιωτικής κερδοσκοπίας\, αυξάνοντας τις ανισότητες. Το κεντρικό ερώτημα που καλούνται να απαντήσουν οι συμμετέχοντες είναι: ποια θεσμικά\, νομοθετικά ή και συνταγματικά μέτρα θα μπορούσαν να ανακόψουν αυτή την τάση; \nΟμιλητές/τριες: \n\nΓεωργία Καπλάνογλου — Καθηγήτρια\, Τμήμα Οικονομικών Επιστημών ΕΚΠΑ\, Διευθύντρια MPhil Economics\nΔώρα Κοτσακά — Δρ. Πολιτικής Κοινωνιολογίας\, Ερευνήτρια-Συντονίστρια Παρατηρητηρίου των Κοινών ΕΝΑ\, Αναπληρώτρια Συντονίστρια του Ινστιτούτου Αλέξη Τσίπρα\nΑλέξανδρος Σαρηβαλάσης — Δικηγόρος\nΧριστόφορος Σκαμνάκης — Αναπληρωτής Καθηγητής\, Τμήμα Κοινωνικής Πολιτικής\, Πάντειο Πανεπιστήμιο\n\n2ο Τραπέζι: Κράτος Δικαίου\, Δημοκρατία και Δικαιώματα \n6:20 – 7:45 μ.μ. \nΣυντονισμός: Δώρα Αναγνωστοπούλου\, Δημοσιογράφος\, Mega TV \nΤο δεύτερο τραπέζι ανοίγει τη συζήτηση για τα κύρια ζητήματα προστασίας και ενίσχυσης της δημοκρατίας και του κράτους δικαίου. Στο επίκεντρο βρίσκεται το ερώτημα: ποια είναι εκείνα τα ζητήματα που απαιτούν ισχυρή θεσμική παρέμβαση\, είτε με ψήφιση νόμων είτε και με αναθεώρηση του Συντάγματος; \nΟμιλητές/τριες: \n\nΓιάννης Δρόσος — Ομότιμος Καθηγητής Συνταγματικού Δικαίου\, Νομική Σχολή Αθηνών\, μέλος του Επιστημονικού Συμβουλίου του ΙΝΠ και του Ινστιτούτου Αλέξη Τσίπρα\nΙφιγένεια Καμτσίδου — Ομότιμη Καθηγήτρια Συνταγματικού Δικαίου\, ΑΠΘ\nΧρήστος Ράμμος — Αντιπρόεδρος Συμβουλίου της Επικρατείας ε.τ.\, Πρώην Πρόεδρος της Αρχής Διασφάλισης του Απορρήτου των Επικοινωνιών\nΓιώργος Σωτηρέλης — Καθηγητής Συνταγματικού Δικαίου\, ΕΚΠΑ\n\n3ο Τραπέζι: Οι Προκλήσεις της Εποχής μας – Ψηφιακή Δημοκρατία και Κλιματική Δικαιοσύνη \n8:00 – 9:00 μ.μ. \nΣυντονισμός: Γιάννης Αλμπάνης\, Δημοσιογράφος\, Dnews.gr \nΤο τρίτο και τελευταίο τραπέζι στρέφεται στις προκλήσεις της εποχής: την ψηφιακή μετάβαση και την κλιματική αλλαγή. Το κεντρικό ερώτημα αφορά τις θεσμικές απαντήσεις που απαιτούνται απέναντι στις ανατροπές που φέρνει η ψηφιακότητα και η κλιματική κρίση\, ζητήματα που όλο και περισσότερο αναδεικνύονται σε κρίσιμο πεδίο συνταγματικής ρύθμισης. \nΟμιλητές/τριες: \n\nΝίκος Ερηνάκης — Επίκουρος Καθηγητής Πολιτικής & Κοινωνικής Φιλοσοφίας\, Πανεπιστήμιο Κρήτης\, Επιστημονικός Διευθυντής Ινστιτούτου ΕΝΑ\nΓιώργος Μπάλιας — Δρ. Νομικής\, Αναπληρωτής Καθηγητής\, Χαροκόπειο Πανεπιστήμιο\nΛίνα Παπαδοπούλου — Καθηγήτρια Συνταγματικού Δικαίου\, ΑΠΘ\nΒασιλική Χρήστου — Επίκουρη Καθηγήτρια Συνταγματικού Δικαίου\, ΕΚΠΑ\n\nΗ συνδιοργάνωση αυτής της ημερίδας αντικατοπτρίζει την κοινή δέσμευση και των δύο φορέων για εμβάθυνση της δημοκρατίας και ανάπτυξη ολοκληρωμένης προοδευτικής σκέψης στα συνταγματικά ζητήματα. \nΓια περισσότερες πληροφορίες και διαπίστευση δημοσιογράφων\, μπορείτε να επικοινωνήσετε με τα γραφεία του Ινστιτούτου Νίκος Πουλαντζάς: \nEmail: info@poulantzas.gr \nΤηλέφωνα επικοινωνίας: 2103217745 και 6945375326
URL:https://poulantzas.gr/event/%ce%b7%ce%bc%ce%b5%cf%81%ce%b9%ce%b4%ce%b1-%cf%80%ce%bf%ce%b9%ce%b1-%ce%b8%ce%b1-%ce%bc%cf%80%ce%bf%cf%81%ce%bf%cf%8d%cf%83%ce%b5-%ce%bd%ce%b1-%ce%b5%ce%af%ce%bd%ce%b1%ce%b9-%ce%b7-%cf%8d%ce%bb/
LOCATION:ΕΣΗΕΑ\, Ακαδημίας 20\, Αθήνα\, 10671\, Greece
CATEGORIES:εκδήλωση
ATTACH;FMTTYPE=image/png:https://poulantzas.gr/wp-content/uploads/2026/04/20-4-26_HORIZONTAL-PROGRAM.png
END:VEVENT
END:VCALENDAR