BEGIN:VCALENDAR
VERSION:2.0
PRODID:-//Ινστιτούτο Νίκος Πουλαντζάς - ECPv6.15.4//NONSGML v1.0//EN
CALSCALE:GREGORIAN
METHOD:PUBLISH
X-WR-CALNAME:Ινστιτούτο Νίκος Πουλαντζάς
X-ORIGINAL-URL:https://poulantzas.gr
X-WR-CALDESC:Events for Ινστιτούτο Νίκος Πουλαντζάς
REFRESH-INTERVAL;VALUE=DURATION:PT1H
X-Robots-Tag:noindex
X-PUBLISHED-TTL:PT1H
BEGIN:VTIMEZONE
TZID:Europe/Athens
BEGIN:DAYLIGHT
TZOFFSETFROM:+0200
TZOFFSETTO:+0300
TZNAME:EEST
DTSTART:19970330T010000
END:DAYLIGHT
BEGIN:STANDARD
TZOFFSETFROM:+0300
TZOFFSETTO:+0200
TZNAME:EET
DTSTART:19971026T010000
END:STANDARD
END:VTIMEZONE
BEGIN:VEVENT
DTSTART;TZID=Europe/Athens:19971211T141000
DTEND;TZID=Europe/Athens:19971213T151000
DTSTAMP:20260423T131026
CREATED:19971211T121316Z
LAST-MODIFIED:20250916T070231Z
UID:635-881849400-882025800@poulantzas.gr
SUMMARY:Προοπτικές του Κοινωνικού Κράτους στην Ευρώπη
DESCRIPTION:Συνέδριο με θέμα:”Προοπτικές του Κοινωνικού Κράτους στην Ευρώπη”\nΑθήνα\, 11-13 Δεκεμβρίου 1997
URL:https://poulantzas.gr/event/%cf%80%cf%81%ce%bf%ce%bf%cf%80%cf%84%ce%b9%ce%ba%ce%ad%cf%82-%cf%84%ce%bf%cf%85-%ce%ba%ce%bf%ce%b9%ce%bd%cf%89%ce%bd%ce%b9%ce%ba%ce%bf%cf%8d-%ce%ba%cf%81%ce%ac%cf%84%ce%bf%cf%85%cf%82-%cf%83%cf%84/
END:VEVENT
BEGIN:VEVENT
DTSTART;TZID=Europe/Athens:19971114T142100
DTEND;TZID=Europe/Athens:19971114T152100
DTSTAMP:20260423T131026
CREATED:20141105T122357Z
LAST-MODIFIED:20250916T070229Z
UID:657-879517260-879520860@poulantzas.gr
SUMMARY:Η μεταρρύθμιση του κοινωνικού κράτους και η πλήρης απασχόληση
DESCRIPTION:Η μεταρρύθμιση του κοινωνικού κράτους και η πλήρης απασχόληση \nΕισηγητής : Μπρούνο Τρεντίν\nΑθήνα\, 14 Νοεμβρίου 1997
URL:https://poulantzas.gr/event/%ce%b7-%ce%bc%ce%b5%cf%84%ce%b1%cf%81%cf%81%cf%8d%ce%b8%ce%bc%ce%b9%cf%83%ce%b7-%cf%84%ce%bf%cf%85-%ce%ba%ce%bf%ce%b9%ce%bd%cf%89%ce%bd%ce%b9%ce%ba%ce%bf%cf%8d-%ce%ba%cf%81%ce%ac%cf%84%ce%bf%cf%85/
END:VEVENT
BEGIN:VEVENT
DTSTART;TZID=Europe/Athens:19971002T142400
DTEND;TZID=Europe/Athens:19971004T152400
DTSTAMP:20260423T131026
CREATED:20141105T122544Z
LAST-MODIFIED:20141105T122544Z
UID:664-875802240-875978640@poulantzas.gr
SUMMARY:Ανθρώπινη αξιοπρέπεια και κοινωνικός αποκλεισμός. Εκπαιδευτική πολιτική στην Ευρώπη
DESCRIPTION:(σε συνεργασία με το Συμβούλιο της Ευρώπης)\n\nΕισηγητές: Σπύρος Ασδραχάς\, Ιρένα Ακμέτοβα\, Μέτο Γιοβανόβσκι\, Ρόμπιν Γκάθρι\, Χαβιέ Έλεν\, Γκίλμπερτ Κάφιν\, Νίκος Κωνσταντόπουλος\, Βάλντι Λίντε\, Έλμι Μάγκντι\, Αντρέα Μάρτο\, Γιώργος Μαυρογιώργος\, Φρανσίν Μέγιερ\, Ούβε Μπερντ\, Αντριάνα Μπουφάρντι\, Μουσταφά Μουσταφά\, Κάθριν Ντάφι\, Ντίτερ Ομπερντέρφερ\, Κάρμελο Ουρσίνο\, Χρον Πετουρσντότιρ\, Φρανκ-Όλαφ Ράντκε\, Γκάμπι Ράουμπερι\, Νίκη Ρουμπάνη\, Αντώνης Ρουπακιώτης\, Τζανκάρλο Σκίρου\, Ευαγγελία Τρέσσου\, Ελίζαμπεθ Σουάντενερ\, Γιώργος Τσιάκαλος\, Ρίτσαρντ Φίσερ\, Μιμόζα Χαφίζι\n\n\nΑθήνα\, 2-4 Οκτωβρίου 1997\n 
URL:https://poulantzas.gr/event/%ce%b1%ce%bd%ce%b8%cf%81%cf%8e%cf%80%ce%b9%ce%bd%ce%b7-%ce%b1%ce%be%ce%b9%ce%bf%cf%80%cf%81%ce%ad%cf%80%ce%b5%ce%b9%ce%b1-%ce%ba%ce%b1%ce%b9-%ce%ba%ce%bf%ce%b9%ce%bd%cf%89%ce%bd%ce%b9%ce%ba%cf%8c/
END:VEVENT
END:VCALENDAR