BEGIN:VCALENDAR
VERSION:2.0
PRODID:-//Ινστιτούτο Νίκος Πουλαντζάς - ECPv6.15.4//NONSGML v1.0//EN
CALSCALE:GREGORIAN
METHOD:PUBLISH
X-WR-CALNAME:Ινστιτούτο Νίκος Πουλαντζάς
X-ORIGINAL-URL:https://poulantzas.gr
X-WR-CALDESC:Events for Ινστιτούτο Νίκος Πουλαντζάς
REFRESH-INTERVAL;VALUE=DURATION:PT1H
X-Robots-Tag:noindex
X-PUBLISHED-TTL:PT1H
BEGIN:VTIMEZONE
TZID:Europe/Athens
BEGIN:DAYLIGHT
TZOFFSETFROM:+0200
TZOFFSETTO:+0300
TZNAME:EEST
DTSTART:20050327T010000
END:DAYLIGHT
BEGIN:STANDARD
TZOFFSETFROM:+0300
TZOFFSETTO:+0200
TZNAME:EET
DTSTART:20051030T010000
END:STANDARD
BEGIN:DAYLIGHT
TZOFFSETFROM:+0200
TZOFFSETTO:+0300
TZNAME:EEST
DTSTART:20060326T010000
END:DAYLIGHT
BEGIN:STANDARD
TZOFFSETFROM:+0300
TZOFFSETTO:+0200
TZNAME:EET
DTSTART:20061029T010000
END:STANDARD
END:VTIMEZONE
BEGIN:VEVENT
DTSTART;TZID=Europe/Athens:20061211T115800
DTEND;TZID=Europe/Athens:20061211T125800
DTSTAMP:20260424T021703
CREATED:20141107T095846Z
LAST-MODIFIED:20250915T135335Z
UID:939-1165838280-1165841880@poulantzas.gr
SUMMARY:Οικονομικές Αλλαγές και Κοινωνικές Αντιθέσεις στην Ελλάδα: Οι Προκλήσεις στις Αρχές του 21ου αιώνα
DESCRIPTION:Το Ινστιτούτο ΝΙΚΟΣ ΠΟΥΛΑΝΤΖΑΣ σας προσκαλεί στην παρουσίαση της έκδοσης \n“Οικονομικές Αλλαγές και Κοινωνικές Αντιθέσεις στην Ελλάδα: Οι Προκλήσεις στις Αρχές του 21ου αιώνα” \nτη Δευτέρα 11 Δεκεμβρίου 2006\, ώρα 18.30 \nαπό τους συντελεστές της: \nΓιώργο Αργείτη\, Κωνσταντίνο Αλεξίου\, Βασίλη Αράπογλου\, Χριστίνα Καρακιουλάφη\, Ανδρέα Μοσχονά\, Ευάγγελο Νικολαίδη\, Χρήστο Παπαθεοδώρου\, Μαρία Πετμεζίδου\, Γιώργο Στασινόπουλο\, Γιώργο Χάλαρη
URL:https://poulantzas.gr/event/%ce%bf%ce%b9%ce%ba%ce%bf%ce%bd%ce%bf%ce%bc%ce%b9%ce%ba%ce%ad%cf%82-%ce%b1%ce%bb%ce%bb%ce%b1%ce%b3%ce%ad%cf%82-%ce%ba%ce%b1%ce%b9-%ce%ba%ce%bf%ce%b9%ce%bd%cf%89%ce%bd%ce%b9%ce%ba%ce%ad%cf%82-%ce%b1/
END:VEVENT
BEGIN:VEVENT
DTSTART;TZID=Europe/Athens:20061201T200000
DTEND;TZID=Europe/Athens:20061201T220000
DTSTAMP:20260424T021703
CREATED:20150526T112727Z
LAST-MODIFIED:20250915T135307Z
UID:1574-1165003200-1165010400@poulantzas.gr
SUMMARY:Ο κυρίαρχος λόγος της οικολογίας
DESCRIPTION:Ομιλητές: Γιώργος Στάμου\, Αναστασία Στάμου\, Δημήτρης Σχίζας
URL:https://poulantzas.gr/event/%ce%bf-%ce%ba%cf%85%cf%81%ce%af%ce%b1%cf%81%cf%87%ce%bf%cf%82-%ce%bb%cf%8c%ce%b3%ce%bf%cf%82-%cf%84%ce%b7%cf%82-%ce%bf%ce%b9%ce%ba%ce%bf%ce%bb%ce%bf%ce%b3%ce%af%ce%b1%cf%82/
END:VEVENT
BEGIN:VEVENT
DTSTART;TZID=Europe/Athens:20061110T110300
DTEND;TZID=Europe/Athens:20061111T120300
DTSTAMP:20260424T021703
CREATED:20150526T110627Z
LAST-MODIFIED:20250915T135312Z
UID:1572-1163156580-1163246580@poulantzas.gr
SUMMARY:Η πόλη\, το πολιτικό\, ο πολιτισμός
DESCRIPTION:Εισηγητές: Σαντάλ Μούφ\, Ντορίν Μάσεϊ (κεντρικές ομιλήτριες)\, Τζίνα Πολίτη\, Κωστής Χατζημιχάλης\, Χάρης Γολέμης\, Βασίλης Βλασταράς\, Μαρία Θεοδώρου\, Ρωξάνη Καυτατζόγλου\, Πέτρος Μαρτινίδης\, Απόστολος Παπαδόπουλος\, Γρηγόρης Ανανιάδης\, Νικόλας Σεβαστάκης\, Γιάννης Σταυρακάκης\, Αμπέλ Άλμπετ ι Μας\, Παύλος Δελαδέτσιμας\, Νίκος Μπουμπάρης\, Χάρης Κωνσταντάτος\, Μαριάντζελα Καζαλούτσι\, Φραντσέσκο Ραπαρέλι\, Δήμητρα Σιατίτσα
URL:https://poulantzas.gr/event/%ce%b7-%cf%80%cf%8c%ce%bb%ce%b7-%cf%84%ce%bf-%cf%80%ce%bf%ce%bb%ce%b9%cf%84%ce%b9%ce%ba%cf%8c-%ce%bf-%cf%80%ce%bf%ce%bb%ce%b9%cf%84%ce%b9%cf%83%ce%bc%cf%8c%cf%82-2/
END:VEVENT
BEGIN:VEVENT
DTSTART;TZID=Europe/Athens:20061026T115500
DTEND;TZID=Europe/Athens:20061026T125500
DTSTAMP:20260424T021703
CREATED:20141107T095702Z
LAST-MODIFIED:20141107T095702Z
UID:935-1161863700-1161867300@poulantzas.gr
SUMMARY:Ψυχανάλυση και Αριστερά: ένας μοργανατικός γάμος
DESCRIPTION:Πέμπτη 26 Οκτωβρίου 2006\, ώρα 6.30 μ.μ. \n“Ψυχανάλυση και Αριστερά: ένας μοργανατικός γάμος”\nΕισηγητής: Θανάσης Τζαβάρας\, Ψυχίατρος – Ψυχαναλυτής \nΠέμπτη 2 Νοεμβρίου 2006\, ώρα 6.30 μ.μ. \n“Από τη φροϋδική στη λακανική Αριστερά”\nΕισηγητής: Γιάννης Σταυρακάκης\, Πολιτικός Επιστήμων ΑΠΘ \nΠέμπτη 9 Νοεμβρίου 2006\, ώρα 6.30 μ.μ. \nΨυχανάλυση και Αριστερά στην Ελλάδα: συγκλίσεις και αποκλίσεις” \nΕισηγητής: Δημήτρης Πλουμπίδης\, Ψυχίατρος\, Πανεπιστήμιο Αθηνών \n    Εισήγηση Θανάση Τζαβάρα \n    Εισήγηση Γιάννη Σταυρακάκη \n    Εισήγη Δημήτρη Ν. Πλουμπίδη
URL:https://poulantzas.gr/event/%cf%88%cf%85%cf%87%ce%b1%ce%bd%ce%ac%ce%bb%cf%85%cf%83%ce%b7-%ce%ba%ce%b1%ce%b9-%ce%b1%cf%81%ce%b9%cf%83%cf%84%ce%b5%cf%81%ce%ac-%ce%ad%ce%bd%ce%b1%cf%82-%ce%bc%ce%bf%cf%81%ce%b3%ce%b1%ce%bd%ce%b1/
END:VEVENT
BEGIN:VEVENT
DTSTART;TZID=Europe/Athens:20060921T115500
DTEND;TZID=Europe/Athens:20060921T125500
DTSTAMP:20260424T021703
CREATED:20141107T095543Z
LAST-MODIFIED:20141107T095543Z
UID:933-1158839700-1158843300@poulantzas.gr
SUMMARY:Τοπική αυτοδιοίκηση και άμεση δημοκρατία: Το πείραμα του Συμμετοχικού Προϋπολογισμού
DESCRIPTION:Ημερίδα σε συνεργασία με την Κίνηση Πολιτών “Κομοτηνή Νέα Εποχή” με θέμα: \n“Τοπική αυτοδιοίκηση και άμεση δημοκρατία: Το πείραμα του Συμμετοχικού Προϋπολογισμού” \nΚομοτηνή\, 21 Σεπτεμβρίου 2006 \nΟμιλητές: Λουτς Μπρανγκς\, Χάρης Γολέμης
URL:https://poulantzas.gr/event/%cf%84%ce%bf%cf%80%ce%b9%ce%ba%ce%ae-%ce%b1%cf%85%cf%84%ce%bf%ce%b4%ce%b9%ce%bf%ce%af%ce%ba%ce%b7%cf%83%ce%b7-%ce%ba%ce%b1%ce%b9-%ce%ac%ce%bc%ce%b5%cf%83%ce%b7-%ce%b4%ce%b7%ce%bc%ce%bf%ce%ba%cf%81-3/
END:VEVENT
BEGIN:VEVENT
DTSTART;TZID=Europe/Athens:20060920T115300
DTEND;TZID=Europe/Athens:20060920T125300
DTSTAMP:20260424T021703
CREATED:20141107T095446Z
LAST-MODIFIED:20141107T095446Z
UID:930-1158753180-1158756780@poulantzas.gr
SUMMARY:Συμμετοχικός Προϋπολογισμός: Ο λόγος στους πολίτες
DESCRIPTION:Ομιλητές: Λουτς Μπράνγκς\, Λευτέρης Μαγιάκης\, Παναγιώτης Πάντος \nΜαρούσι\, 20 Σεπτεμβρίου 2006
URL:https://poulantzas.gr/event/%cf%83%cf%85%ce%bc%ce%bc%ce%b5%cf%84%ce%bf%cf%87%ce%b9%ce%ba%cf%8c%cf%82-%cf%80%cf%81%ce%bf%cf%8b%cf%80%ce%bf%ce%bb%ce%bf%ce%b3%ce%b9%cf%83%ce%bc%cf%8c%cf%82-%ce%bf-%ce%bb%cf%8c%ce%b3%ce%bf%cf%82-2/
END:VEVENT
BEGIN:VEVENT
DTSTART;TZID=Europe/Athens:20060919T115100
DTEND;TZID=Europe/Athens:20060919T125100
DTSTAMP:20260424T021703
CREATED:20141107T095213Z
LAST-MODIFIED:20141107T095213Z
UID:924-1158666660-1158670260@poulantzas.gr
SUMMARY:Παρουσίαση των βιβλίων του Νίκου Πουλαντζά «Φασισμός και δικτατορία»\, «Η κρίση των δικτατοριών»
DESCRIPTION:Ομιλητές:\nΆγγελος Ελεφάντης\, Σταύρος Κωνσταντακόπουλος\, Γιώργος Μαργαρίτης\, Κωνσταντίνος Τσουκαλάς \nΑθήνα\, 19 Σεπτεμβρίου 2006
URL:https://poulantzas.gr/event/%cf%80%ce%b1%cf%81%ce%bf%cf%85%cf%83%ce%af%ce%b1%cf%83%ce%b7-%cf%84%cf%89%ce%bd-%ce%b2%ce%b9%ce%b2%ce%bb%ce%af%cf%89%ce%bd-%cf%84%ce%bf%cf%85-%ce%bd%ce%af%ce%ba%ce%bf%cf%85-%cf%80%ce%bf%cf%85%ce%bb/
END:VEVENT
BEGIN:VEVENT
DTSTART;TZID=Europe/Athens:20060918T115000
DTEND;TZID=Europe/Athens:20060918T125000
DTSTAMP:20260424T021703
CREATED:20141107T095119Z
LAST-MODIFIED:20141107T095119Z
UID:923-1158580200-1158583800@poulantzas.gr
SUMMARY:Οι εξελίξεις στο χρηματοπιστωτικό σύστημα: οικονομικές και κοινωνικές επιπτώσεις
DESCRIPTION:Ομιλητές: Τζων Γκράλ\, Λυντία Κρύγκερ\, Μαρίκα Φραγκάκη\, Γιώργος Ρωμανιάς \nΑθήνα\, 18 Σεπτεμβρίου 2006
URL:https://poulantzas.gr/event/%ce%bf%ce%b9-%ce%b5%ce%be%ce%b5%ce%bb%ce%af%ce%be%ce%b5%ce%b9%cf%82-%cf%83%cf%84%ce%bf-%cf%87%cf%81%ce%b7%ce%bc%ce%b1%cf%84%ce%bf%cf%80%ce%b9%cf%83%cf%84%cf%89%cf%84%ce%b9%ce%ba%cf%8c-%cf%83%cf%8d/
END:VEVENT
BEGIN:VEVENT
DTSTART;TZID=Europe/Athens:20060703T200000
DTEND;TZID=Europe/Athens:20060703T220000
DTSTAMP:20260424T021703
CREATED:20150526T111700Z
LAST-MODIFIED:20150526T111700Z
UID:1573-1151956800-1151964000@poulantzas.gr
SUMMARY:Τοπική αυτοδιοίκηση και άμεση δημοκρατία: το πείραμα του Συμμετοχικού Προϋπολογισμού
DESCRIPTION:(σε συνεργασία με την δημοτική κίνηση «Τα Χανιά των Πολιτών») \nΟμιλητές: Πάουλα Γκαρβίν\, Αντώνης Σχετάκης\, Χάρης Γολέμης
URL:https://poulantzas.gr/event/%cf%84%ce%bf%cf%80%ce%b9%ce%ba%ce%ae-%ce%b1%cf%85%cf%84%ce%bf%ce%b4%ce%b9%ce%bf%ce%af%ce%ba%ce%b7%cf%83%ce%b7-%ce%ba%ce%b1%ce%b9-%ce%ac%ce%bc%ce%b5%cf%83%ce%b7-%ce%b4%ce%b7%ce%bc%ce%bf%ce%ba%cf%81-4/
END:VEVENT
BEGIN:VEVENT
DTSTART;TZID=Europe/Athens:20060629T120900
DTEND;TZID=Europe/Athens:20060629T130900
DTSTAMP:20260424T021703
CREATED:20141107T100951Z
LAST-MODIFIED:20141107T100951Z
UID:961-1151582940-1151586540@poulantzas.gr
SUMMARY:Είναι ο σοσιαλισμός ιστορική αναγκαιότητα;
DESCRIPTION:Είναι ο σοσιαλισμός ιστορική αναγκαιότητα; \nΕισηγητές: \nΘανάσης Βακαλιός\, πανεπιστημιακός\, Δημοκρίτειο Πανεπιστήμιο Θράκης \nΣτέλιος Μπαμπάς\, μέλος Δ.Σ. του ΙΝΠ \n29 Ιουνίου 2006
URL:https://poulantzas.gr/event/%ce%b5%ce%af%ce%bd%ce%b1%ce%b9-%ce%bf-%cf%83%ce%bf%cf%83%ce%b9%ce%b1%ce%bb%ce%b9%cf%83%ce%bc%cf%8c%cf%82-%ce%b9%cf%83%cf%84%ce%bf%cf%81%ce%b9%ce%ba%ce%ae-%ce%b1%ce%bd%ce%b1%ce%b3%ce%ba%ce%b1%ce%b9/
END:VEVENT
BEGIN:VEVENT
DTSTART;TZID=Europe/Athens:20060621T120800
DTEND;TZID=Europe/Athens:20060621T130800
DTSTAMP:20260424T021703
CREATED:20141107T100906Z
LAST-MODIFIED:20141107T100906Z
UID:959-1150891680-1150895280@poulantzas.gr
SUMMARY:Η αργοπορημένη μεταπολίτευση της μειονοτικής πολιτικής
DESCRIPTION:Ομιλητές:\nΣαμί Καραμπουγιούκογλου\, Μουσταφά Μουσταφά\, Άλκης Ρήγος\, Σταμάτης Σακελίων\, Ντιλέκ Χαμπίπ  \nΞάνθη\, 21 Ιουνίου 2006)
URL:https://poulantzas.gr/event/%ce%b7-%ce%b1%cf%81%ce%b3%ce%bf%cf%80%ce%bf%cf%81%ce%b7%ce%bc%ce%ad%ce%bd%ce%b7-%ce%bc%ce%b5%cf%84%ce%b1%cf%80%ce%bf%ce%bb%ce%af%cf%84%ce%b5%cf%85%cf%83%ce%b7-%cf%84%ce%b7%cf%82-%ce%bc%ce%b5%ce%b9/
END:VEVENT
BEGIN:VEVENT
DTSTART;TZID=Europe/Athens:20060619T120600
DTEND;TZID=Europe/Athens:20060619T130600
DTSTAMP:20260424T021703
CREATED:20141107T100808Z
LAST-MODIFIED:20141107T100808Z
UID:957-1150718760-1150722360@poulantzas.gr
SUMMARY:Αναθεώρηση του άρθρου 16 του Συντάγματος: Το δημόσιο πανεπιστήμιο στο στόχαστρο της ιδιωτικής πρωτοβουλίας
DESCRIPTION:Ομιλητές: Ιφιγένεια Καμτσίδου\, Σταύρος Μουδόπουλος\, Γιώργος Σταθάκης \nΑθήνα\, 19 Ιουνίου 2006
URL:https://poulantzas.gr/event/%ce%b1%ce%bd%ce%b1%ce%b8%ce%b5%cf%8e%cf%81%ce%b7%cf%83%ce%b7-%cf%84%ce%bf%cf%85-%ce%ac%cf%81%ce%b8%cf%81%ce%bf%cf%85-16-%cf%84%ce%bf%cf%85-%cf%83%cf%85%ce%bd%cf%84%ce%ac%ce%b3%ce%bc%ce%b1%cf%84%ce%bf/
END:VEVENT
BEGIN:VEVENT
DTSTART;TZID=Europe/Athens:20060614T120500
DTEND;TZID=Europe/Athens:20060614T130500
DTSTAMP:20260424T021703
CREATED:20141107T100633Z
LAST-MODIFIED:20141107T100633Z
UID:954-1150286700-1150290300@poulantzas.gr
SUMMARY:Ο Ελληνικός Συνταγματισμός αντιμέτωπος με τον Συναινετικό Αναθεωρητισμό
DESCRIPTION:“Ο Ελληνικός Συνταγματισμός αντιμέτωπος με τον Συναινετικό Αναθεωρητισμό” \nΕισηγητής: Αντώνης Μανιτάκης \nΚαθηγητής Συνταγματικού Δικαίου\, Αριστοτέλειο Πανεπιστήμιο Θεσσαλονίκης \nΤετάρτη\, 14 Ιουνίου 2006 \nΠανεπιστήμιο Αθηνών \nΑίθουσα Προπυλαίων
URL:https://poulantzas.gr/event/%ce%bf-%ce%b5%ce%bb%ce%bb%ce%b7%ce%bd%ce%b9%ce%ba%cf%8c%cf%82-%cf%83%cf%85%ce%bd%cf%84%ce%b1%ce%b3%ce%bc%ce%b1%cf%84%ce%b9%cf%83%ce%bc%cf%8c%cf%82-%ce%b1%ce%bd%cf%84%ce%b9%ce%bc%ce%ad%cf%84%cf%89-2/
END:VEVENT
BEGIN:VEVENT
DTSTART;TZID=Europe/Athens:20060611T115700
DTEND;TZID=Europe/Athens:20060611T125700
DTSTAMP:20260424T021703
CREATED:20141107T095757Z
LAST-MODIFIED:20141107T095757Z
UID:937-1150027020-1150030620@poulantzas.gr
SUMMARY:Η πόλη\, το πολιτικό\, ο πολιτισμός
DESCRIPTION:Εισηγητές:\nΣαντάλ Μούφ\, Ντορίν Μάσεϊ (κεντρικές ομιλήτριες)\, Τζίνα Πολίτη\, Κωστής Χατζημιχάλης\, Χάρης Γολέμης\, Βασίλης Βλασταράς\, Μαρία Θεοδώρου\, Ρωξάνη Καυτατζόγλου\, Πέτρος Μαρτινίδης\, Απόστολος Παπαδόπουλος\, Γρηγόρης Ανανιάδης\, Νικόλας Σεβαστάκης\, Γιάννης Σταυρακάκης\, Αμπέλ Άλμπετ ι Μας\, Παύλος Δελαδέτσιμας\, Νίκος Μπουμπάρης\, Χάρης Κωνσταντάτος\, Μαριάντζελα Καζαλούτσι\, Φραντσέσκο Ραπαρέλι\, Δήμητρα Σιατίτσα \nΑθήνα\, 10 και 11 Νοεμβρίου 2006
URL:https://poulantzas.gr/event/%ce%b7-%cf%80%cf%8c%ce%bb%ce%b7-%cf%84%ce%bf-%cf%80%ce%bf%ce%bb%ce%b9%cf%84%ce%b9%ce%ba%cf%8c-%ce%bf-%cf%80%ce%bf%ce%bb%ce%b9%cf%84%ce%b9%cf%83%ce%bc%cf%8c%cf%82/
END:VEVENT
BEGIN:VEVENT
DTSTART;TZID=Europe/Athens:20060512T120400
DTEND;TZID=Europe/Athens:20060512T130400
DTSTAMP:20260424T021703
CREATED:20141107T100455Z
LAST-MODIFIED:20141107T100455Z
UID:951-1147435440-1147439040@poulantzas.gr
SUMMARY:Σύγχρονες τάσεις αναθεώρησης της ιστορίας: η επιχειρούμενη αποκατάσταση του δοσιλογισμού και των Ταγμάτων Ασφαλείας
DESCRIPTION:Ομιλητές: Άγγελος Ελεφάντης\, Τάσος Κωστόπουλος\, Παναγιώτης Νούτσος\, Χαράλαμπος Νούτσος\, Νίκος Πετραλιάς \nΓιάννενα\, 12 Μαϊου 2006
URL:https://poulantzas.gr/event/%cf%83%cf%8d%ce%b3%cf%87%cf%81%ce%bf%ce%bd%ce%b5%cf%82-%cf%84%ce%ac%cf%83%ce%b5%ce%b9%cf%82-%ce%b1%ce%bd%ce%b1%ce%b8%ce%b5%cf%8e%cf%81%ce%b7%cf%83%ce%b7%cf%82-%cf%84%ce%b7%cf%82-%ce%b9%cf%83%cf%84/
END:VEVENT
BEGIN:VEVENT
DTSTART;TZID=Europe/Athens:20060506T120300
DTEND;TZID=Europe/Athens:20060506T130300
DTSTAMP:20260424T021703
CREATED:20141107T100356Z
LAST-MODIFIED:20141107T100356Z
UID:949-1146916980-1146920580@poulantzas.gr
SUMMARY:Η τέχνη ως δημιουργός πολιτικής συνείδησης και πολιτιστικού ακτιβισμού. Προς μια δημιουργική επανάσταση
DESCRIPTION:(σε συνεργασία με Dus Atelyesi-Τουρκία\, ΠΑΔΟΠ\, Drita-Αλβανία\, European For(est) Action-Γερμανία\, Ομάδα 1848\, Όραμα\, Art Attack\, Wings and Rots) \nΟμιλητές:\nΤζίνα Πολίτη\, Γιώργος Τσιάκαλος\, Ντουγκ Χόλτον\, Π.  Μποσνάκης\, Δ. Κιζλίδης\, Τζένικα Σατμάρε\, Ελένη Καρασσαβίδου\, Ντεμόλι Σκεντέρ\, Λένκα Κουκούροβοβα\, Ανίτια Ο Φλύν \nΑθήνα\, 6 Μαΐου 2006
URL:https://poulantzas.gr/event/%ce%b7-%cf%84%ce%ad%cf%87%ce%bd%ce%b7-%cf%89%cf%82-%ce%b4%ce%b7%ce%bc%ce%b9%ce%bf%cf%85%cf%81%ce%b3%cf%8c%cf%82-%cf%80%ce%bf%ce%bb%ce%b9%cf%84%ce%b9%ce%ba%ce%ae%cf%82-%cf%83%cf%85%ce%bd%ce%b5%ce%af/
END:VEVENT
BEGIN:VEVENT
DTSTART;TZID=Europe/Athens:20060505T200000
DTEND;TZID=Europe/Athens:20060505T220000
DTSTAMP:20260424T021703
CREATED:20150526T110256Z
LAST-MODIFIED:20150526T110256Z
UID:1571-1146859200-1146866400@poulantzas.gr
SUMMARY:Από τον Μαρξ στη Ρόζα Λούξεμπουργκ και τον Νίκο Πουλαντζά
DESCRIPTION:(σε συνεργασία με το Ίδρυμα Ρόζα Λούξεμπουργκ) \nΟμιλητές: Γιώργος Δαρεμάς\, Άγγελος Ελεφάντης\, Μίκαελ Μπρι \n(εργαστήριο στο 4ο Ευρωπαϊκό Κοινωνικό Φόρουμ)
URL:https://poulantzas.gr/event/%ce%b1%cf%80%cf%8c-%cf%84%ce%bf%ce%bd-%ce%bc%ce%b1%cf%81%ce%be-%cf%83%cf%84%ce%b7-%cf%81%cf%8c%ce%b6%ce%b1-%ce%bb%ce%bf%cf%8d%ce%be%ce%b5%ce%bc%cf%80%ce%bf%cf%85%cf%81%ce%b3%ce%ba-%ce%ba%ce%b1%ce%b9/
END:VEVENT
BEGIN:VEVENT
DTSTART;TZID=Europe/Athens:20060505T200000
DTEND;TZID=Europe/Athens:20060505T220000
DTSTAMP:20260424T021703
CREATED:20150526T110053Z
LAST-MODIFIED:20150526T110053Z
UID:1570-1146859200-1146866400@poulantzas.gr
SUMMARY:Συμμετοχικός Προϋπολογισμός: τι ρόλο μπορεί να διαδραματίσει;
DESCRIPTION:(σε συνεργασία με δημοτική παράταξη «Ανοιχτή Πόλη»\, Ίδρυμα Ρόζα Λούξεμπουργκ\, Ίδρυμα Μαρξιστικών Ερευνών Ισπανίας) \nΟμιλητές:  Λουτς Μπράνγκς\, Πάουλα Γκαρβίν \n(εργαστήριο στο 4ο Ευρωπαϊκό Κοινωνικό Φόρουμ)
URL:https://poulantzas.gr/event/%cf%83%cf%85%ce%bc%ce%bc%ce%b5%cf%84%ce%bf%cf%87%ce%b9%ce%ba%cf%8c%cf%82-%cf%80%cf%81%ce%bf%cf%8b%cf%80%ce%bf%ce%bb%ce%bf%ce%b3%ce%b9%cf%83%ce%bc%cf%8c%cf%82-%cf%84%ce%b9-%cf%81%cf%8c%ce%bb%ce%bf/
END:VEVENT
BEGIN:VEVENT
DTSTART;TZID=Europe/Athens:20060505T200000
DTEND;TZID=Europe/Athens:20060505T220000
DTSTAMP:20260424T021703
CREATED:20150526T105812Z
LAST-MODIFIED:20150526T105812Z
UID:1569-1146859200-1146866400@poulantzas.gr
SUMMARY:Τουρκία και Ευρώπη: η άποψη της Αριστεράς
DESCRIPTION:(σε συνεργασία με το Transform Europe) \nΟμιλητές: Χάϊρι Κοζάνογλου\, Νίκος Κωνσταντόπουλος\, Σία Αναγνωστοπούλου\, Μίκαελ Μπρι\, Λουτσιάνα Καστελίνα \n(Σεμινάριο στο 4ο Ευρωπαϊκό Κοινωνικό Φόρουμ)
URL:https://poulantzas.gr/event/%cf%84%ce%bf%cf%85%cf%81%ce%ba%ce%af%ce%b1-%ce%ba%ce%b1%ce%b9-%ce%b5%cf%85%cf%81%cf%8e%cf%80%ce%b7-%ce%b7-%ce%ac%cf%80%ce%bf%cf%88%ce%b7-%cf%84%ce%b7%cf%82-%ce%b1%cf%81%ce%b9%cf%83%cf%84%ce%b5%cf%81/
END:VEVENT
BEGIN:VEVENT
DTSTART;TZID=Europe/Athens:20060505T200000
DTEND;TZID=Europe/Athens:20060505T220000
DTSTAMP:20260424T021703
CREATED:20150526T105623Z
LAST-MODIFIED:20150526T105623Z
UID:1568-1146859200-1146866400@poulantzas.gr
SUMMARY:Οικονομική δημοκρατία: δημοκρατία στις επιχειρήσεις
DESCRIPTION:(σε συνεργασία με: Ευρωπαϊκό Δίκτυο Transform\, Χάρτα των Κοινών μας Αρχών για μια Άλλη Ευρώπη\, Ίδρυμα Ρόζα Λούξεμπουργκ\, Espaces Marx Γαλλίας\, SCOP Γαλλίας) \nΟμιλητές: Μπόρις Κραρτσένκο\, Μάϊκλ Κρέτκε\, Ντανιέλ Λακάλ\, Ζεράλ Ράϊζερ\, Στέφαν Χιουρμπάϊ\, Γεωργία Πετράκη (συντονίστρια) \n(Σεμινάριο στο 4ο Ευρωπαϊκό Κοινωνικό Φόρουμ)
URL:https://poulantzas.gr/event/%ce%bf%ce%b9%ce%ba%ce%bf%ce%bd%ce%bf%ce%bc%ce%b9%ce%ba%ce%ae-%ce%b4%ce%b7%ce%bc%ce%bf%ce%ba%cf%81%ce%b1%cf%84%ce%af%ce%b1-%ce%b4%ce%b7%ce%bc%ce%bf%ce%ba%cf%81%ce%b1%cf%84%ce%af%ce%b1-%cf%83%cf%84/
END:VEVENT
BEGIN:VEVENT
DTSTART;TZID=Europe/Athens:20060505T115900
DTEND;TZID=Europe/Athens:20060505T125900
DTSTAMP:20260424T021703
CREATED:20141107T100233Z
LAST-MODIFIED:20141107T100233Z
UID:943-1146830340-1146833940@poulantzas.gr
SUMMARY:Ας ξανασκεφτούμε την Ευρώπη: Τι είδους δημοκρατική επανίδρυση της Ευρώπης;
DESCRIPTION:(σε συνεργασία με: Ευρωπαϊκό Δίκτυο Transform\, Ευρωπαϊκό Δίκτυο Αριστερών Νεολαιών ENDYL\, ATTAC Γαλλίας\, Ίδρυμα Ρόζα Λούξεμπουργκ\, Projet K\, Κοινωνικό Φόρουμ Ουγγαρίας)  \nΕισηγητές:\nΑλέκος Αλαβάνος\, Πάοο Μπένι\, Μάρτον Γκολντ\, Μπερνάρ Κασέν\, Φρανσουάζ Καστέξ\, Ελιζαμπέτ Γκωτιέ\, Ζαν Λυκ Μελανσόν\, Μαρκ Μπέκερ\, Ντανιέλ Μπενσαϊντ\, Χόρστ Σμίτενερ\, Γιώργος Καρατσιουμπάνης (συντονιστής)\, Έρχαρντ Κρόμε (συντονιστής) κ.α. \nΑθήνα\, 5 Μαϊου 2006
URL:https://poulantzas.gr/event/%ce%b1%cf%82-%ce%be%ce%b1%ce%bd%ce%b1%cf%83%ce%ba%ce%b5%cf%86%cf%84%ce%bf%cf%8d%ce%bc%ce%b5-%cf%84%ce%b7%ce%bd-%ce%b5%cf%85%cf%81%cf%8e%cf%80%ce%b7-%cf%84%ce%b9-%ce%b5%ce%af%ce%b4%ce%bf%cf%85%cf%82/
END:VEVENT
BEGIN:VEVENT
DTSTART;TZID=Europe/Athens:20060504T200000
DTEND;TZID=Europe/Athens:20060504T220000
DTSTAMP:20260424T021703
CREATED:20150526T104952Z
LAST-MODIFIED:20150526T104952Z
UID:1566-1146772800-1146780000@poulantzas.gr
SUMMARY:Αποδόμηση των  στερεοτύπων: η μάχη κατά του εθνικισμού στα Βαλκάνια
DESCRIPTION:(σε συνεργασία με: Κοινωνικό Εργαστήρι Θεσσαλονίκης\, Αντιρατσιστική \nΠρωτοβουλία Θεσσαλονίκης\, Πολιτιστικό Κέντρο Black Cat Τουρκίας) \nΕισηγητές: Ριντβάν Ακάρ\, Σία Αναγνωστοπούλου\, Μαρίνα Βήχου\, Γιάννης Γκλαρνέτατζης\, Ερκάν Κaρα\, Ειρήνη Λαγάνη\, Χριστίνα Κουλούρη\, Ειρήνη Λαγάνη\, Σλόμπονταν Ουνκόφσκι\, Αλεξάντερ Ζόγκραφ
URL:https://poulantzas.gr/event/%ce%b1%cf%80%ce%bf%ce%b4%cf%8c%ce%bc%ce%b7%cf%83%ce%b7-%cf%84%cf%89%ce%bd-%cf%83%cf%84%ce%b5%cf%81%ce%b5%ce%bf%cf%84%cf%8d%cf%80%cf%89%ce%bd-%ce%b7-%ce%bc%ce%ac%cf%87%ce%b7-%ce%ba%ce%b1%cf%84%ce%ac/
END:VEVENT
BEGIN:VEVENT
DTSTART;TZID=Europe/Athens:20060330T200000
DTEND;TZID=Europe/Athens:20060330T220000
DTSTAMP:20260424T021703
CREATED:20150526T104031Z
LAST-MODIFIED:20150526T104031Z
UID:1561-1143748800-1143756000@poulantzas.gr
SUMMARY:Ο Μαρξ σήμερα
DESCRIPTION:Ομιλητής: Βόλφγκανγκ Χάουγκ 
URL:https://poulantzas.gr/event/%ce%bf-%ce%bc%ce%b1%cf%81%ce%be-%cf%83%ce%ae%ce%bc%ce%b5%cf%81%ce%b1/
END:VEVENT
BEGIN:VEVENT
DTSTART;TZID=Europe/Athens:20060317T200000
DTEND;TZID=Europe/Athens:20060317T220000
DTSTAMP:20260424T021703
CREATED:20150526T104303Z
LAST-MODIFIED:20250915T135613Z
UID:1562-1142625600-1142632800@poulantzas.gr
SUMMARY:Αντίο στην μεσαία τάξη
DESCRIPTION:Ομιλητής: Ζαν Λοζκίν
URL:https://poulantzas.gr/event/%ce%b1%ce%bd%cf%84%ce%af%ce%bf-%cf%83%cf%84%ce%b7%ce%bd-%ce%bc%ce%b5%cf%83%ce%b1%ce%af%ce%b1-%cf%84%ce%ac%ce%be%ce%b7/
END:VEVENT
BEGIN:VEVENT
DTSTART;TZID=Europe/Athens:20060316T200000
DTEND;TZID=Europe/Athens:20060316T220000
DTSTAMP:20260424T021703
CREATED:20150526T104522Z
LAST-MODIFIED:20250915T135616Z
UID:1564-1142539200-1142546400@poulantzas.gr
SUMMARY:•	Τοπική αυτοδιοίκηση και συμμετοχή των πολιτών. Ριζοσπαστικές προσεγγίσεις
DESCRIPTION:(σε συνεργασία με την Πολιτική Κίνηση Πετρούπολης του Συνασπισμού) \nΟμιλητές: Στέφανος-Γαβριήλ Βλάχος\, Χάρης Γολέμης\, Ευκλείδης Τσακαλώτος
URL:https://poulantzas.gr/event/%cf%84%ce%bf%cf%80%ce%b9%ce%ba%ce%ae-%ce%b1%cf%85%cf%84%ce%bf%ce%b4%ce%b9%ce%bf%ce%af%ce%ba%ce%b7%cf%83%ce%b7-%ce%ba%ce%b1%ce%b9-%cf%83%cf%85%ce%bc%ce%bc%ce%b5%cf%84%ce%bf%cf%87%ce%ae-%cf%84/
END:VEVENT
BEGIN:VEVENT
DTSTART;TZID=Europe/Athens:20060309T200000
DTEND;TZID=Europe/Athens:20060309T220000
DTSTAMP:20260424T021703
CREATED:20150526T104733Z
LAST-MODIFIED:20250915T135619Z
UID:1565-1141934400-1141941600@poulantzas.gr
SUMMARY:Μετά την απόφαση του Παγκόσμιου Οργανισμού Εμπορίου για τα Μεταλλαγμένα. Επιπτώσεις\, αντιστάσεις\, προοπτικές
DESCRIPTION:Ομιλητές: Αντώνης Μπρεδήμας\, Μιχάλης Παπαγιαννάκης\, Μυρτώ Πισπίνη\, Γιώργος Στάμου\, Γιάννης Τόλιος
URL:https://poulantzas.gr/event/%ce%bc%ce%b5%cf%84%ce%ac-%cf%84%ce%b7%ce%bd-%ce%b1%cf%80%cf%8c%cf%86%ce%b1%cf%83%ce%b7-%cf%84%ce%bf%cf%85-%cf%80%ce%b1%ce%b3%ce%ba%cf%8c%cf%83%ce%bc%ce%b9%ce%bf%cf%85-%ce%bf%cf%81%ce%b3%ce%b1%ce%bd/
END:VEVENT
BEGIN:VEVENT
DTSTART;TZID=Europe/Athens:20060217T200000
DTEND;TZID=Europe/Athens:20060217T220000
DTSTAMP:20260424T021703
CREATED:20150526T103124Z
LAST-MODIFIED:20250915T135626Z
UID:1559-1140206400-1140213600@poulantzas.gr
SUMMARY:Η αργοπορημένη μεταπολίτευση της μειονοτικής πολιτικής
DESCRIPTION:(σε συνεργασία με τις «Αναγνώσεις» της Κυριακάτικης Αυγής») \nΟμιλητές: Μουσταφά Μουσταφά\, Ιμπράμ Ονσούνογλου\, Σταμάτης Σακελίων\, Δημήτρης Χριστόπουλος
URL:https://poulantzas.gr/event/%ce%b7-%ce%b1%cf%81%ce%b3%ce%bf%cf%80%ce%bf%cf%81%ce%b7%ce%bc%ce%ad%ce%bd%ce%b7-%ce%bc%ce%b5%cf%84%ce%b1%cf%80%ce%bf%ce%bb%ce%af%cf%84%ce%b5%cf%85%cf%83%ce%b7-%cf%84%ce%b7%cf%82-%ce%bc%ce%b5%ce%b9-2/
END:VEVENT
BEGIN:VEVENT
DTSTART;TZID=Europe/Athens:20060201T200000
DTEND;TZID=Europe/Athens:20060201T220000
DTSTAMP:20260424T021703
CREATED:20150526T103656Z
LAST-MODIFIED:20250915T135628Z
UID:1560-1138824000-1138831200@poulantzas.gr
SUMMARY:•	Πληροφορική και κοινωνία στον 21ο αιώνα
DESCRIPTION:Ομιλητές: Γιάννης Βενέρης\, Αγγελική Δημητρακοπούλου\, Γιάννης Μαϊστρος\, Στέλιος Μπαμπάς
URL:https://poulantzas.gr/event/%cf%80%ce%bb%ce%b7%cf%81%ce%bf%cf%86%ce%bf%cf%81%ce%b9%ce%ba%ce%ae-%ce%ba%ce%b1%ce%b9-%ce%ba%ce%bf%ce%b9%ce%bd%cf%89%ce%bd%ce%af%ce%b1-%cf%83%cf%84%ce%bf%ce%bd-21%ce%bf-%ce%b1%ce%b9%cf%8e/
END:VEVENT
BEGIN:VEVENT
DTSTART;TZID=Europe/Athens:20051121T145200
DTEND;TZID=Europe/Athens:20051121T155200
DTSTAMP:20260424T021703
CREATED:20051121T125250Z
LAST-MODIFIED:20250915T135635Z
UID:865-1132584720-1132588320@poulantzas.gr
SUMMARY:Συμμετοχικός Προϋπολογισμός. Ο Λόγος στους Πολίτες
DESCRIPTION:Εκδήλωση με θέμα: “Συμμετοχικός Προϋπολογισμός. Ο Λόγος στους Πολίτες”\nΟμιλητές:\n Πάουλα Γκαρβίν\, Αντιδήμαρχος Σεβίλλης\, Υπεύθυνης για θέματα Συμμετοχικού Προϋπολογισμού\n Γιάννης Δραγασάκης\, Οικονομολόγος\, βουλευτής ΣΥ.ΡΙΖ.Α.\, πρ. Νομαρχιακός Σύμβουλος Αθήνας\n Κώστας Κονδύλης\, Δημοτικός Σύμβουλος\, Επικεφαλής Δημοτικής Κίνησης “Ηλίου-Πόλις Ανθρώπινη Πόλη”\nΣυντονιστές:\n Χαράλαμπος Γολέμης\, Διευθυντής Ινστιτούτου ΝΙΚΟΣ ΠΟΥΛΑΝΤΖΑΣ\n Μπάμπης Μεδούρης\, Μέλος της Γραμματείας της Δημοτικής Κίνησης “Ηλίου-Πολις Ανθρώπινη Πόλη”\nΗλιούπολη\, 21 Νοεμβρίου 2005
URL:https://poulantzas.gr/event/%cf%83%cf%85%ce%bc%ce%bc%ce%b5%cf%84%ce%bf%cf%87%ce%b9%ce%ba%cf%8c%cf%82-%cf%80%cf%81%ce%bf%cf%8b%cf%80%ce%bf%ce%bb%ce%bf%ce%b3%ce%b9%cf%83%ce%bc%cf%8c%cf%82-%ce%bf-%ce%bb%cf%8c%ce%b3%ce%bf%cf%82/
END:VEVENT
BEGIN:VEVENT
DTSTART;TZID=Europe/Athens:20051120T145400
DTEND;TZID=Europe/Athens:20051120T155400
DTSTAMP:20260424T021703
CREATED:20051120T125410Z
LAST-MODIFIED:20250915T135639Z
UID:866-1132498440-1132502040@poulantzas.gr
SUMMARY:Τοπική αυτοδιοίκηση και άμεση δημοκρατία. Το πείραμα του Συμμετοχικού Προϋπολογισμού
DESCRIPTION:Ομιλητές: Πάουλα Γκαρβίν\, Τάσος Κουράκης\, Χάρης Γολέμης\n \nΘεσσαλονίκη\, 20 Νοεμβρίου 2005
URL:https://poulantzas.gr/event/%cf%84%ce%bf%cf%80%ce%b9%ce%ba%ce%ae-%ce%b1%cf%85%cf%84%ce%bf%ce%b4%ce%b9%ce%bf%ce%af%ce%ba%ce%b7%cf%83%ce%b7-%ce%ba%ce%b1%ce%b9-%ce%ac%ce%bc%ce%b5%cf%83%ce%b7-%ce%b4%ce%b7%ce%bc%ce%bf%ce%ba%cf%81/
END:VEVENT
END:VCALENDAR