BEGIN:VCALENDAR
VERSION:2.0
PRODID:-//Ινστιτούτο Νίκος Πουλαντζάς - ECPv6.15.4//NONSGML v1.0//EN
CALSCALE:GREGORIAN
METHOD:PUBLISH
X-ORIGINAL-URL:https://poulantzas.gr
X-WR-CALDESC:Events for Ινστιτούτο Νίκος Πουλαντζάς
REFRESH-INTERVAL;VALUE=DURATION:PT1H
X-Robots-Tag:noindex
X-PUBLISHED-TTL:PT1H
BEGIN:VTIMEZONE
TZID:Europe/Athens
BEGIN:DAYLIGHT
TZOFFSETFROM:+0200
TZOFFSETTO:+0300
TZNAME:EEST
DTSTART:20220327T010000
END:DAYLIGHT
BEGIN:STANDARD
TZOFFSETFROM:+0300
TZOFFSETTO:+0200
TZNAME:EET
DTSTART:20221030T010000
END:STANDARD
END:VTIMEZONE
BEGIN:VEVENT
DTSTART;TZID=Europe/Athens:20221019T180000
DTEND;TZID=Europe/Athens:20221019T210000
DTSTAMP:20260423T205029
CREATED:20221010T105127Z
LAST-MODIFIED:20250908T121450Z
UID:7550-1666202400-1666213200@poulantzas.gr
SUMMARY:100 χρόνια από το 1922 - 2η εκδήλωση
DESCRIPTION:Το Ινστιτούτο Νίκος Πουλαντζάς και ο Όμιλος Φίλων Θεσσαλονίκης του ΙΝΠ διοργανώνουν τη 2η επετειακή εκδήλωση μνήμης για τα 100 χρόνια από το 1922 στο πλαίσιο ενός προγράμματος με θέμα «Εκατό χρόνια από το 1922: Ταυτότητες\, δομές\, πολιτική στην Ελλάδα του Μεσοπολέμου και ειδικά στις Νέες Χώρες». \nΤο 1922 θεωρείται τομή για τον ελληνικό κοινωνικό σχηματισμό καθόσον σημαίνει την αναδίπλωση της παροικιακής αστικής τάξης και των προσφύγων στα τελικά όρια του ελληνικού κράτους-έθνους. \nΛαμβάνοντας υπόψη τις μέχρι σήμερα μελέτες\, το ενδιαφέρον μας επικεντρώνεται όχι μόνο στην εκστρατεία αυτήν καθ’ εαυτήν και στην εγκατάσταση των προσφύγων στην Ελλάδα αλλά στο Μεσοπόλεμο ευρύτερα\, κυρίως στην περιοχή των λεγομένων Νέων Χωρών. \nΟ «σύντομος» ελληνικός Μεσοπόλεμος (1922-1940) χαρακτηρίστηκε από την προσπάθεια ομογενοποίησης ενός ετερόκλητου εθνοτικά και πολιτισμικά πληθυσμού. Την ίδια περίπου εποχή τα κράτη που προέκυψαν από τη διάλυση των τριών αυτοκρατοριών\, της Αυστροουγγρικής\, της Ρωσικής και της Οθωμανικής\, βρέθηκαν στην ανάγκη να ενσωματώσουν και να ομογενοποιήσουν τους πληθυσμούς τους και να επουλώσουν τα τραύματα του πολέμου. Υπάρχουν εμφανείς αναλογίες με φαινόμενα που καταγράφηκαν την ίδια εποχή σε άλλες βαλκανικές ή ευρωπαϊκές χώρες και γίνεται προσπάθεια να εντοπιστούν και να μελετηθούν οι ιδιαιτερότητες\, οι συγκλίσεις και οι αποκλίσεις της ελληνικής περίπτωσης σε σχέση με το ευρύτερο και το περιφερειακό της πλαίσιο. Η διεπιστημονική και συγκριτική προσέγγιση αναμένεται να ξεδιπλώσει διάφορες κοινωνικές\, πολιτικές και οικονομικές πλευρές του Μεσοπολέμου. \nΣυγκεκριμένα στόχος της 2ης εκδήλωσης είναι να αναδειχθεί η ιστορικότητα των διαδοχικών ανασυγκροτήσεων του έθνους-κράτους κατά την επέκτασή του\, καθώς και να ανιχνευθούν οι «πολλές Ελλάδες» που συναντήθηκαν εντός των ορίων της νέας εθνικής επικράτειας. \n  \nΑναλυτικά το πρόγραμμα: \nΚύκλος “Εκατό χρόνια από το 1922: Ταυτότητες\, δομές\, πολιτική στην Ελλάδα του Μεσοπολέμου και ειδικά στις Νέες Χώρες” \n2η εκδήλωση \nΔημαρχείο Θεσσαλονίκης \nΤετάρτη 19 Οκτωβρίου 2022\, 6.00 μμ \nΠΡΟΓΡΑΜΜΑ \n  \nΠΡΩΤΟ ΜΕΡΟΣ \nΕπερωτώντας τη γραμμική πορεία από τις αυτοκρατορίες στα έθνη-κράτη \n  \n18:00 18:15 Έναρξη- Χαιρετισμοί –ΙΝΠ \n18:15 -18:30 Κωνσταντίνος Τσιτσελίκης\, καθηγητής\, Πανεπιστήμιο Μακεδονίας\, Εθνοποίηση του εδάφους και εδαφοποίηση του έθνους. Πριν και μετά την Ανταλλαγή. \n18:30 -18:45 Μανώλης Μαραγκούλης\, δρ. Νεοελληνικής Φιλολογίας Πανεπιστημίου Κύπρου\, Ο Αιγυπτιώτης “μικρός λευκός” με το βλέμμα στη ” Χίντερλαντ”( ενδοχώρα) της Μικρασίας \n18:45 -19:00 Άκης Γαβριηλίδης\, μεταφραστής- συγγραφέας\, 1922: Το έθνος κράτος πηγή δυστυχίας; \n19:00 -19:15 Ερωτήσεις – Συζήτηση \nΣυντονίστρια: Μαρία Μποντίλα\, ιστορικός \n  \n19:15 -19:30 Διάλειμμα \n  \nΔΕΥΤΕΡΟ ΜΕΡΟΣ \nΓηγενείς και πρόσφυγες: μια προβληματική συμβίωση; \n  \n19:30 – 19:45 Μαρίκα Ρόμπου-Λεβίδη\, ανθρωπολόγος\, μεταδιδακτορική ερευνήτρια\, Πανεπιστήμιο Αιγαίου\, Βιώνοντας το σύνορο στον βορειοελλαδικό χώρο: λόγοι και σιωπές γυναικών \n19:45 – 20:00 Ραϋμόνδος Αλβανός\, ΣΕΠ στο ΜΠΣ Δημόσιας Ιστορίας του ΕΑΠ\, Η σημασία της άφιξης και εγκατάστασης των προσφύγων για τις (ανα)κατασκευές κοινωνικών και πολιτικών ταυτοτήτων στη μεσοπολεμική Μακεδονία \n20:00 – 20:15 Φωτεινή Τσιμπιρίδου\, καθηγήτρια\, Πανεπιστήμιο Μακεδονίας\, Αποικιακές τεχνολογίες εθνοπατριαρχικής ευταξίας στον βορειοελλαδικό χώρο: Προσφυγιά\, πένθος\, σύνορα\, μειονοτική συνθήκη και φολκλορισμός \n20:15-20:30 Ερωτήσεις – Συζήτηση \nΣυντονισμός: Παύλος Νεράντζης\, δημοσιογράφος\, ντοκιμαντερίστας\, δρ Tμήματος Δημοσιογραφίας και ΜΜΕ\, ΑΠΘ \n  \n20:30 -21:00 Σχολιασμός- Συμπεράσματα \nΓιώργος Αγγελόπουλος\, αν. καθηγητής ΑΠΘ
URL:https://poulantzas.gr/event/100-chronia-apo-to-1922-2i-ekdilosi/
ATTACH;FMTTYPE=image/jpeg:https://poulantzas.gr/wp-content/uploads/2022/10/Αφίσα-εκδήλωσης_19_10_2022.jpg
END:VEVENT
END:VCALENDAR