BEGIN:VCALENDAR
VERSION:2.0
PRODID:-//Ινστιτούτο Νίκος Πουλαντζάς - ECPv6.15.4//NONSGML v1.0//EN
CALSCALE:GREGORIAN
METHOD:PUBLISH
X-WR-CALNAME:Ινστιτούτο Νίκος Πουλαντζάς
X-ORIGINAL-URL:https://poulantzas.gr
X-WR-CALDESC:Events for Ινστιτούτο Νίκος Πουλαντζάς
REFRESH-INTERVAL;VALUE=DURATION:PT1H
X-Robots-Tag:noindex
X-PUBLISHED-TTL:PT1H
BEGIN:VTIMEZONE
TZID:Europe/Athens
BEGIN:DAYLIGHT
TZOFFSETFROM:+0200
TZOFFSETTO:+0300
TZNAME:EEST
DTSTART:20200329T010000
END:DAYLIGHT
BEGIN:STANDARD
TZOFFSETFROM:+0300
TZOFFSETTO:+0200
TZNAME:EET
DTSTART:20201025T010000
END:STANDARD
END:VTIMEZONE
BEGIN:VEVENT
DTSTART;TZID=Europe/Athens:20200708T190000
DTEND;TZID=Europe/Athens:20200708T203000
DTSTAMP:20260422T191243
CREATED:20200701T135259Z
LAST-MODIFIED:20250912T121705Z
UID:5589-1594234800-1594240200@poulantzas.gr
SUMMARY:Κοινή γνώμη & πολιτικά κόμματα : Πού βρισκόμαστε μετά την πανδημία;
DESCRIPTION:Κύκλος εκδηλώσεων \nΚοινωνία\, οικονομία & πολιτική στη μετα-covid19 εποχή \n10η διαδικτυακή εκδήλωση \nΚοινή γνώμη & πολιτικά κόμματα: \nΠού βρισκόμαστε μετά την πανδημία; \nΤετάρτη 8 Ιουλίου 2020 I Ώρα 7 μ.μ \nΗ πανδημία αποτέλεσε ένα από πολλές απόψεις πολιτικό γεγονός. Αυτή καθεαυτή η υγειονομική κρίση και το γενικευμένο αίσθημα κινδύνου\, και μάλιστα σε παγκόσμιο επίπεδο\, αλλά και η διαχείριση της κρίσης αυτής\, το lockdown και οι επιπτώσεις του δεν θα μπορούσαν να αφήσουν ανεπηρέαστη την πολιτική άποψη και συμπεριφορά των ανθρώπων και\, κατ’ επέκταση\, τον κομματικό ανταγωνισμό. Πλήθος αναλύσεων έχει ήδη γραφτεί για να εξηγήσει τη – σχεδόν οριζόντια – συσπείρωση των πολιτών σε όλες τις χώρες γύρω από τις πολιτικές τους ηγεσίες\, ενώ δεν είναι λίγοι εκείνοι που εκτιμούν ότι τα νέα δεδομένα που θέτει στη δημόσια συζήτηση ο covid19 θα επηρεάσουν και τις πολιτικές προτεραιότητες και\, επομένως\, τα πεδία της πολιτικής αντιπαράθεσης σε κάθε χώρα. \nΗ Ελλάδα\, ως γνωστόν\, διαχειρίστηκε με επιτυχία το πρώτο κύμα της πανδημίας\, βρίσκεται ωστόσο αυτή τη στιγμή αντιμέτωπη με τον κίνδυνο μιας νέας και βαθιάς οικονομικής και κοινωνικής κρίσης\, με ό\,τι αυτό συνεπάγεται. Πώς τοποθετείται σήμερα – τη στιγμή που η χώρα επιστρέφει\, υποτίθεται\, σε μια δύσκολη “κανονικότητα” και ενώ συμπληρώνεται ένας χρόνος από τις εθνικές εκλογές του 2019 και την ανάληψη της διακυβέρνησης από τη Νέα Δημοκρατία και τον Κ. Μητσοτάκη – η κοινή γνώμη; Ποια θέματα βρίσκονται στο επίκεντρο της δημόσιας συζήτησης και πώς επηρεάζουν τον κομματικό ανταγωνισμό; Πώς διαμορφώνεται το κομματικό τοπίο σήμερα και τι προβλέπεται για την “επόμενη μέρα” και σε αυτό το επίπεδο; \n—————- \nΤα ζητήματα αυτά θα απασχολήσουν τη 10η κατά σειρά διαδικτυακή εκδήλωση του κύκλου “Κοινωνία\, οικονομία & πολιτική στη μετα-covid19 εποχή” του Ινστιτούτου Νίκος Πουλαντζάς\, με τίτλο “Κοινή γνώμη & πολιτικά κόμματα : Πού βρισκόμαστε μετά την πανδημία;“\, αξιοποιώντας και τα στοιχεία της περιοδικής έκδοσης του Ινστιτούτου Εκλογικές Τάσεις. \nΟμιλητές/-τριες : \n\nΦανή Κουντούρη\, επίκουρη καθηγήτρια πολιτικής επιστήμης & επικοινωνίας\, Πάντειο Πανεπιστήμιο\nΗλίας Νικολακόπουλος\, ομότιμος καθηγητής εκλογικής κοινωνιολογίας\, Πανεπιστήμιο Αθηνών\nΚώστας Πουλάκης\, μαθηματικός\, πρώην γενικός γραμματέας Υπουργείου Εσωτερικών\nΜιχάλης Σπουρδαλάκης\, καθηγητής πολιτικής κοινωνιολογίας\, Πανεπιστήμιο Αθηνών\n\nΣυντονίζει η Βούλα Κεχαγιά\, δημοσιογράφος\, εφημερίδα “Έθνος”. \nΗ εκδήλωση θα πραγματοποιηθεί μέσω της διαδικτυακής πλατφόρμας του Ινστιτούτου. Για να την παρακολουθήσετε\, αρκεί την ημέρα και ώρα της εκδήλωσης να ανοίξετε τον ακόλουθο σύνδεσμο: https://meet.poulantzas.gr/b/nic-3wh-2qc  \nΕναλλακτικά\, η εκδήλωση θα μεταδίδεται μέσω live streaming και από τη σελίδα του Ινστιτούτου στο Facebook.
URL:https://poulantzas.gr/event/kini-gnomi/
ATTACH;FMTTYPE=image/png:https://poulantzas.gr/wp-content/uploads/2020/07/poylantzas-covid10_2-scaled.png
END:VEVENT
END:VCALENDAR