BEGIN:VCALENDAR
VERSION:2.0
PRODID:-//Ινστιτούτο Νίκος Πουλαντζάς - ECPv6.15.4//NONSGML v1.0//EN
CALSCALE:GREGORIAN
METHOD:PUBLISH
X-ORIGINAL-URL:https://poulantzas.gr
X-WR-CALDESC:Events for Ινστιτούτο Νίκος Πουλαντζάς
REFRESH-INTERVAL;VALUE=DURATION:PT1H
X-Robots-Tag:noindex
X-PUBLISHED-TTL:PT1H
BEGIN:VTIMEZONE
TZID:Europe/Athens
BEGIN:DAYLIGHT
TZOFFSETFROM:+0200
TZOFFSETTO:+0300
TZNAME:EEST
DTSTART:20210328T010000
END:DAYLIGHT
BEGIN:STANDARD
TZOFFSETFROM:+0300
TZOFFSETTO:+0200
TZNAME:EET
DTSTART:20211031T010000
END:STANDARD
BEGIN:DAYLIGHT
TZOFFSETFROM:+0200
TZOFFSETTO:+0300
TZNAME:EEST
DTSTART:20220327T010000
END:DAYLIGHT
BEGIN:STANDARD
TZOFFSETFROM:+0300
TZOFFSETTO:+0200
TZNAME:EET
DTSTART:20221030T010000
END:STANDARD
END:VTIMEZONE
BEGIN:VEVENT
DTSTART;TZID=Europe/Athens:20221129T183000
DTEND;TZID=Europe/Athens:20221129T210000
DTSTAMP:20260422T192659
CREATED:20221123T115122Z
LAST-MODIFIED:20250908T121402Z
UID:7637-1669746600-1669755600@poulantzas.gr
SUMMARY:Από τους φτωχούς εργαζόμενους στους ψηφιακούς νομάδες: Εμπειρίες εργασίας στην Ελλάδα του σήμερα
DESCRIPTION:  \nΤο Ινστιτούτο Νίκος Πουλαντζάς πραγματοποιεί εκδήλωση-συζήτηση με θέμα “Από τους φτωχούς εργαζόμενους στους ψηφιακούς νομάδες: Εμπειρίες εργασίας στην Ελλάδα του σήμερα” την Τρίτη 29 Νοεμβρίου 2022\, στις 6.30 μ.μ. στον Πολυχώρο Σπούτνικ (Κεραμεικού 46 & Μυλλέρου\, Μεταξουργείο). \nΣτην εκδήλωση θα παρουσιαστεί και θα σχολιαστεί τόσο το 3ο κύμα της ποσοτικής πανελλαδικής έρευνας για τις συνθήκες εργασίας στην Ελλάδα που πραγματοποιήθηκε σε συνεργασία με την εταιρία Prorata  όσο και η ποιοτική σε βάθος έρευνα σε εργαζόμενους/-ες που αμείβονται με τον κατώτατο μισθό\, που εκπόνησε για λογαριασμό του ΙΝΠ ο Δρ. Κωνσταντίνος Θεοδωρίδης . \n  \nΘα μιλήσουν οι: \n\nΕλένη Γκρίνγουδ\, ερευνήτρια ΙΝΠ\, συντονίστρια της θεματικής Οικονομία\, Παραγωγή\, Βιώσιμη Ανάπτυξη\n\nΔιονύσιος Γράβαρης\, καθηγητής Θεωρίας Κράτους και Κοινωνικής Πολιτικής\, Τμήμα Κοινωνικής Πολιτικής\n\nΚωνσταντίνος Θεοδωρίδης\, Διδάσκων και Μεταδιδακτορικός Ερευνητής\, Τμήμα Επικοινωνίας\, Μέσων και Πολιτισμού\n\nΓεωργία Πετράκη\, Κοινωνιολόγος της Εργασίας\, πρώην διευθύντρια του Εργαστηρίου Σπουδών Φύλου Παντείου Πανεπιστημίου\n\n  \nΤην εκδήλωση θα συντονίσει η Χριστίνα Κοψίνη\, δημοσιογράφος\, Εφ.Συν.
URL:https://poulantzas.gr/event/apo-tous-ftochous-ergazomenous-stous-psifiakous-nomades-ebeiries-ergasias-stin-ellada-tou-simera/
ATTACH;FMTTYPE=image/png:https://poulantzas.gr/wp-content/uploads/2022/11/story-8-1.png
END:VEVENT
BEGIN:VEVENT
DTSTART;TZID=Europe/Athens:20211201T200000
DTEND;TZID=Europe/Athens:20211201T220000
DTSTAMP:20260422T192659
CREATED:20211123T113618Z
LAST-MODIFIED:20211123T113618Z
UID:6609-1638388800-1638396000@poulantzas.gr
SUMMARY:Συνθήκες εργασίας στην Ελλάδα. Εμπειρίες και στάσεις γύρω από την αγορά εργασίας - Διαδικτυακή συζήτηση με αφορμή την έρευνα του ΙΝΠ και της Prorata
DESCRIPTION:Διαδικτυακή εκδήλωση για την παρουσίαση της έρευνας Συνθήκες εργασίας στην Ελλάδα. Εμπειρίες και στάσεις γύρω από την αγορά εργασίας\, που πραγματοποίησε σε συνεργασία με την εταιρία Prorata S.A.\, διοργανώνει την Τετάρτη 1/12/2021 και ώρα 8.00 μ.μ.\, το Ινστιτούτο Νίκος Πουλαντζάς. \nΟμιλητές/Ομιλήτριες: \n\nΓενιδούνιας Κώστας\, πρόεδρος Πανελλήνιας Ένωσης Προσωπικού Έλξης (Μηχανοδηγοί)\nΓούλας Χρήστος\, διευθυντής του Ινστιτούτου Εργασίας (ΙΝΕ) και του Κέντρου Ανάπτυξης Εκπαιδευτικής Πολιτικής (ΚΑΝΕΠ) της ΓΣΕΕ.\nΚαζάκος  Αριστείδης\, ομότιμος καθηγητής Εργατικού Δικαίου\, Αριστοτέλειο Πανεπιστήμιο Θεσσαλονίκης\nΚακουλίδου Θεανώ\, οικονομολόγος\, μεταδιδακτορική ερευνήτρια\nΤσατσαρώνη Κατερίνα\, οικονομολόγος\, ερευνήτρια ΙΝΠ\n\nΣυντονίζει ο Γιώργος Τραπεζιώτης\, δημοσιογράφος\, Στο Κόκκινο 105\,5 \n \n  \nΗ εκδήλωση θα μεταδοθεί ζωντανά μέσω του site του ΙΝΠ και μέσω της σελίδας του ΙΝΠ στο Facebook και του καναλιού του ΙΝΠ στο YouTube \n  \nΠερισσότερα για την έρευνα: \nΗ έρευνα Συνθήκες εργασίας στην Ελλάδα. Εμπειρίες και στάσεις γύρω από την αγορά εργασίας πραγματοποιείται σε ετήσια βάση από το Ινστιτούτο Νίκος Πουλαντζάς στο πλαίσιο της θεματικής Εργασία-Κοινωνικό κράτος-Αλληλεγγύη και έχει ως στόχο την καταγραφή των εμπειριών\, αλλά και των απόψεων των εργαζομένων πάνω σε επιμέρους πλευρές της αγοράς εργασίας στην Ελλάδα. \nΤο φετινό δεύτερο ετήσιο “κύμα” της έρευνας (για το 2021) καταγράφει ενδιαφέροντα ευρήματα σε μια σειρά επίκαιρα θέματα: \n\nΕργασιακή κατάσταση και ενδείξεις επισφάλειας\nΤηλεργασία\nΕργάσιμος χρόνος\nΜισθοί\nΠροστασία εργασιακών δικαιωμάτων\, συνδικαλισμός και νέες μορφές διεκδίκησης\n\n  \nΔιαβάστε ολόκληρη την έρευνα εδώ: https://poulantzas.gr/yliko/erevna-synthikes-ergasias-stin-ellada-ebeiries-kai-staseis-gyro-apo-tin-agora-ergasias-2o-kyma-2021/
URL:https://poulantzas.gr/event/synthikes-ergasias-stin-ellada-ebeiries-kai-staseis-gyro-apo-tin-agora-ergasias-diadiktyaki-syzitisi-me-aformi-tin-erevna-tou-inp-kai-tis-prorata/
ATTACH;FMTTYPE=:
END:VEVENT
BEGIN:VEVENT
DTSTART;TZID=Europe/Athens:20210930T190000
DTEND;TZID=Europe/Athens:20210930T210000
DTSTAMP:20260422T192659
CREATED:20210924T090739Z
LAST-MODIFIED:20210924T090739Z
UID:6471-1633028400-1633035600@poulantzas.gr
SUMMARY:Η ζώνη της επισφάλειας στην Ελλάδα. Εμπειρία και προτάσεις πολιτικής
DESCRIPTION:Πέμπτη 30/9\, 7.00 μ.μ \nΔιαδικτυακή εκδήλωση \nΗ ζώνη της επισφάλειας στην Ελλάδα.  Εμπειρία και προτάσεις πολιτικής \n \nΠΑΡΑΚΟΛΟΥΘΕΙΣΤΕ ΖΩΝΤΑΝΑ\n  \n  \nΤο Ινστιτούτο Νίκος Πουλαντζάς με αφορμή την έκδοση της μελέτης  Η ζώνη της επισφάλειας στην Ελλάδα. Εμπειρίες και προτάσεις πολιτικής\, διοργανώνει διαδικτυακή εκδήλωση την Πέμπτη 30 Σεπτεμβρίου 2021\, στις 7.00 το απόγευμα\, με θέμα: “Η ζώνη της επισφάλειας στην Ελλάδα. Εμπειρία και προτάσεις πολιτικής”. \nΣτην εκδήλωση θα μιλήσουν οι: \n\nΈφη Αχτσιόγλου\, βουλευτής Επικρατείας και τομεάρχης Οικονομικών ΣΥΡΙΖΑ-ΠΣ\, πρώην υπουργός Εργασίας\, Κοινωνικής Ασφάλισης και Κοινωνικής Αλληλεγγύης\nΑθηνά Βαλαμβού\, επιθεωρήτρια ΣΕΠΕ\nΜαρία Καραμεσίνη\, καθηγήτρια Οικονομικών της Εργασίας και της Κοινωνικής Πολιτικής\, πρ. πρόεδρος και διοικήτρια του ΟΑΕΔ\, μέλος Δ.Σ. ΙΝΠ\nΠαναγιώτης Κορφιάτης\, αναλυτής επιχειρησιακών δεδομένων και πρώην Ειδικός Γραμματέας ΣΕΠΕ\n\nΤη συζήτηση θα συντονίσει ο δημοσιογράφος Φοίβος Κλαυδιανός\,  Realnews/Kontra Channel \n  \nΗ εκδήλωση θα μεταδοθεί ζωντανά στην ιστοσελίδα του Ινστιτούτου\, στο κανάλι του Ινστιτούτου στο Youtube και στη σελίδα του Ινστιτούτου στο Facebook.
URL:https://poulantzas.gr/event/i-zoni-tis-episfaleias-stin-ellada-ebeiria-kai-protaseis-politikis/
ATTACH;FMTTYPE=:
END:VEVENT
BEGIN:VEVENT
DTSTART;TZID=Europe/Athens:20210609T190000
DTEND;TZID=Europe/Athens:20210609T220000
DTSTAMP:20260422T192659
CREATED:20210605T072808Z
LAST-MODIFIED:20210605T072808Z
UID:6258-1623265200-1623276000@poulantzas.gr
SUMMARY:Εμβόλια\, ανισότητες\, πατέντες: Η ανάγκη μιας παγκόσμιας και δίκαιης ρύθμισης
DESCRIPTION:Διαδικτυακή εκδήλωση \nΕμβόλια\, ανισότητες\, πατέντες: Η ανάγκη μιας παγκόσμιας και δίκαιης ρύθμισης \nΤετάρτη 9 Ιουνίου | 7.00 μ.μ. \n  \nΤο Δίκτυο για την καθολική κάλυψη υγείας και την υπεράσπιση της δημόσιας περίθαλψης και το Ινστιτούτο Νίκος Πουλαντζάς συνδιοργανώνουν την Τετάρτη 9 Ιουνίου στις 7.00 μ.μ. διαδικτυακή εκδήλωση με θέμα «Εμβόλια\, ανισότητες\, πατέντες: Η ανάγκη μιας παγκόσμιας και δίκαιης ρύθμισης». \n  \nΗ πανδημία του κορονοϊού ανέδειξε μεταξύ άλλων τη βαθιά διασύνδεση και αλληλεξάρτηση των επιμέρους περιοχών του πλανήτη στον σύγχρονο κόσμο και\, ταυτόχρονα\, τις τεράστιες ανισότητες που χωρίζουν τον παγκόσμιο Βορρά από τον παγκόσμιο Νότο\, καθώς και έναν νέο τύπο «υγειονομικού εθνικισμού»\, που οδηγούν σε αποκλεισμούς από την περίθαλψη και την πρόληψη έναντι της covid19. \nΤην ίδια στιγμή που η ανθρωπότητα\, χάρη στην αλματώδη επιστημονική πρόοδο\, κατάφερε να βρει μέσα σε ελάχιστους μήνες τα εμβόλια που χρειάζονται για να χτιστεί τείχος ανοσίας έναντι της παγκόσμιας απειλής που αποδείχτηκε ότι αποτελούσε ο νέος κορονοϊός\, ο μηχανισμός των πατεντών και η προτεραιότητα στην ιδιωτική εταιρική ιδιοκτησία έναντι των κοινωνικών αναγκών διεθνώς\, οδήγησε όχι μόνο σε καθυστερήσεις και δυσλειτουργίες στην παραγωγή και διάθεση των εμβολίων\, αλλά κυρίως σε αποκλεισμό μεγάλων τμημάτων του παγκόσμιου πληθυσμού από αυτά. \nΤίθεται έτσι εύλογα το ερώτημα της ιδιοκτησίας της επιστημονικής γνώσης και των πορισμάτων της\, της έρευνας ως κοινού αγαθού\, της παγκόσμιας δικαιοσύνης\, αλλά και της υγείας ως καθολικού δικαιώματος\, όχι μόνο ως θεμελιωδών αξιακών επιλογών\, αλλά και υπό το πρίσμα της αποτελεσματικότητας. \nΔιεθνείς οργανισμοί\, μεταξύ των οποίων ο Παγκόσμιος Οργανισμός Υγείας και το Ευρωπαϊκό Κοινοβούλιο\, σημαντικοί πολιτικοί ηγέτες\, περιλαμβανομένου του προέδρου των ΗΠΑ\, προοδευτικές πολιτικές δυνάμεις\, αλλά και ένα μεγάλο τμήμα της επιστημονικής κοινότητας\, καθώς και ένα ευρύ παγκόσμιο κίνημα της κοινωνίας των πολιτών\, τάσσονται υπέρ της άρσης των πατεντών\, επισημαίνοντας ότι κανείς δεν μπορεί να είναι ασφαλής μέχρι όλοι να είναι ασφαλείς έναντι της covid19. \n  \nΣτο πλαίσιο αυτό\, το Δίκτυο για την καθολική κάλυψη υγείας και την υπεράσπιση της δημόσιας περίθαλψης και το Ινστιτούτο Νίκος Πουλαντζάς συζητούν για την ανάγκη μιας παγκόσμιας και δίκαιης ρύθμισης γύρω από τα εμβόλια και της πατέντες\, με ανθρώπους από το χώρο της πολιτικής\, της επιστήμης και της κοινωνίας των πολιτών. \n  \nΜιλούν: \n– Μαριανέλλα Κλώκα\, υπεύθυνη διεκδίκησης δικαιωμάτων\, ΜΚΟ Praksis\, \n– Γιάννης Νάτσης\, υπεύθυνος πολιτικής για την πρόσβαση στο φάρμακο\, European Public Health Alliance (EPHA)\, μέλος ΔΣ Ευρωπαϊκού Οργανισμού Φαρμάκων (EMA) \n– Ανδρέας Ξανθός\, τομεάρχης Υγείας ΚΟ ΣΥΡΙΖΑ-ΠΣ\, πρ. υπουργός Υγείας \n– Δημήτρης Παπαδημούλης\, ευρωβουλευτής ΣΥΡΙΖΑ-ΠΣ (The Left)\, αντιπρόεδρος Ευρωπαϊκού Κοινοβουλίου \n– James Love\, Διευθυντής ΜΚΟ Knowledge Ecology International\, σύμβουλος διεθνών οργανισμών σε θέματα πνευματικής ιδιοκτησίας \n  \nΣυντονίζει η διευθύντρια του Ινστιτούτου Νίκος Πουλαντζάς\, Δανάη Κολτσίδα. \n  \nΗ εκδήλωση θα μεταδοθεί διαδικτυακά μέσω του καναλιού του ΙΝΠ στο YouTube (https://www.youtube.com/channel/UClqH6weu-kTaINRJ8SB6ygg). \n  \nΠερισσότερα για τους ομιλητές/τριες: \nΗ Μαριανέλλα Κλώκα είναι επικεφαλής Διεκδίκησης Δικαιωμάτων\, ΜΚΟ Praksis. Είναι επίσης συνδιευθύντρια του Διεθνούς Πρακτορείου Ειδήσεων PRESSENZA και συνδημιουργός της μη κερδοσκοπικής ομάδας contentativa\, με στόχο την ενδυνάμωση οργανώσεων και συλλογικοτήτων. Είναι επί πολλά χρόνια ενεργή στο ανθρωπιστικό κίνημα στην Ελλάδα και στο εξωτερικό\, καθώς και στο ΛΟΑΤΚΙ κίνημα. Συμμετείχε στην αρχική ομάδα εκδοτών του περιοδικού Antivirus και δημιούργησε την ΛΟΑΤΚΙ εφημερίδα City Uncovered. Διετέλεσε διευθύντρια του Συλλόγου Οροθετικών «Θετική Φωνή»\, ενώ υποστήριξε τα πρώτα βήματα του Συλλόγου Ασθενών Ήπατος\, «Προμηθέας». Έχει παραδώσει διδακτικές ενότητες για συνηγορία στο μεταπτυχιακό πρόγραμμα ειδίκευσης «Εξαρτήσεις-Εθισμοί» του Εθνικού Καποδιστριακού Πανεπιστημίου Αθηνών\, και στην πρωτοβουλία ενδυνάμωσης οργανώσεων της κοινωνίας των πολιτών Social Dynamo. Από τον Ιανουάριο 2020 είναι μέλος της συμβουλευτικής ομάδας του Εθνικού Συντονιστή για την Αντιμετώπιση των Ναρκωτικών. \nΟ Γιάννης Νάτσης είναι επικεφαλής πολιτικής για την πρόσβαση στο φάρμακο στη διεθνή μη κερδοσκοπική οργάνωση European Public Health Alliance (EPHA) και μέλος του Διοικητικού Συμβουλίου του Ευρωπαϊκού Οργανισμού Φαρμάκων (EMA)\, ως εκπρόσωπος των οργανώσεων ασθενών. Έχει εργαστεί στο Ευρωπαϊκό Κοινοβούλιο\, στο Υπουργείο Εξωτερικών\, στον ΟΗΕ και στον ιδιωτικό τομέα σε Βρυξέλλες και Αθήνα. Έχει διατελέσει σύμβουλος του TransAtlantic Consumer Dialogue (TACD)\, με αντικείμενο την πρόσβαση στα φάρμακα. Έχει διατελέσει μέλος του Διοικητικού Συμβουλίου του European Health Forum Gastein (EHFG)\, ενώ είναι ιδρυτικό μέλος της European Alliance for Responsible R&D and Affordable Medicines και εκπροσωπεί την οπτική της δημόσιας υγείας στο High Level Group (HLG) των συναντήσεων Στρογγυλής Τράπεζας των Ευρωπαίων Υπουργών Υγείας και των επικεφαλής των φαρμακευτικών εταιριών\, στο Health Technology Assessment (HTA) Network Stakeholder Pool της Ευρωπαϊκής Επιτροπής. \nΟ Ανδρέας Ξανθός είναι Τομεάρχης Υγείας της Κ.Ο. του ΣΥΡΙΖΑ-Προοδευτική Συμμαχία και βουλευτής Ρεθύμνου από το 2012 μέχρι σήμερα. Διετέλεσε αναπληρωτής (Ιανουάριος-Αύγουστος 2015) και στη συνέχεια υπουργός Υγείας (Σεπτέμβριος 2015-Ιούλιος 2019). Είναι γιατρός μικροβιολόγος\, εργαζόμενος στο δημόσιο σύστημα υγείας (Κ.Υ. Περάματος και στη συνέχεια Νοσοκομείο Ρεθύμνου). Υπήρξε για πολλά χρόνια Πρόεδρος της Ένωσης Γιατρών ΕΣΥ Νομού Ρεθύμνου\, μέλος του Γενικού Συμβουλίου της Ομοσπονδίας Νοσοκομειακών Γιατρών (ΟΕΝΓΕ) και της Γενικής Συνέλευσης του Πανελλήνιου Ιατρικού Συλλόγου (ΠΙΣ). Συμμετείχε ενεργά στην ίδρυση του Εθελοντικού Ιατρείου Κοινωνικής Αλληλεγγύης που λειτουργεί στο Ρέθυμνο από το 2008. \nΟ Δημήτρης Παπαδημούλης είναι Αντιπρόεδρος του Ευρωκοινοβουλίου\, Επικεφαλής της Ευρωομάδας του ΣΥΡΙΖΑ-ΠΣ (The Left) και μέλος της Εκτελεστικής Επιτροπής της «Προοδευτικής Συμμαχίας» (Progressive Caucus) του Ευρωκοινοβουλίου. Από το 2014 έως σήμερα\, είναι ο μόνος Έλληνας κι ο μόνος από την Ευρωομάδα της Αριστεράς στο Προεδρείο του Ευρωκοινοβουλίου\, και σύμφωνα με το VoteWatch.EU ο Έλληνας Ευρωβουλευτής με τη μεγαλύτερη επιρροή στους Ευρωπαϊκούς Θεσμούς. Εργάστηκε ως μηχανικός και διευθυντικό στέλεχος επιχειρήσεων επί 25ετία\, ενώ εκλέγεται συνεχώς στο Ευρωπαϊκό και στο Ελληνικό Κοινοβούλιο από το 2004. Στο Ευρωκοινοβούλιο (μεταξύ των άλλων αρμοδιοτήτων του) μετέχει σε δυο επιτροπές: Ως τακτικό μέλος σην ECON (Επιτροπή Οικονομικής και Νομισματικής Πολιτικής) και ως αναπληρωματικό μέλος στην REGI (Επιτροπή Περιφερειακής Ανάπτυξης). \nΟ James Love είναι διευθυντής της διεθνούς ΜΚΟ Knowledge Ecology International. Η δουλειά του επικεντρώνεται στην παραγωγή\, διαχείριση και πρόσβαση σε γνωσιακούς πόρους\, καθώς και σε πλευρές της πολιτικής ανταγωνισμού. Είναι ιδιαίτερα γνωστός για τις προσπάθειές του για τη μείωση του κόστους των αντιρετροϊκών φαρμάκων (HIV/AIDS). Η τρέχουσα ενασχόλησή του επικεντρώνεται στη χρηματοδότηση της έρευνας και ανάπτυξης\, στα δικαιώματα πνευματικής ιδιοκτησίας\, στο κόστος και την πρόσβαση σε νέα φάρμακα\, εμβόλια και άλλα προϊόντα ιατρικής τεχνολογίας\, καθώς και σε σχετικά θέματα άλλων αγαθών γνώσης\, περιλαμβανομένων των δεδομένων\, του software\, άλλων πληροφοριών που προστατεύονται από copyright ή συναφή δικαιώματα και σε προτάσεις για την αντιμετώπιση της παραγωγής γνώσης ως δημόσιου αγαθού. Κατέχει master στη Δημόσια Διοίκηση από το Kennedy School of Government του Πανεπιστημίου του Harvard και master στις Δημόσιες Υποθέσεις από το Woodrow Wilson School of Public and International Affairs του Πανεπιστημίου του Princeton. \nΕίναι σύμβουλος του ΟΗΕ\, εθνικών κυβερνήσεων\, διεθνών και περιφερειακών οργανισμών και ΜΚΟ στο χώρο της δημόσιας υγείας\, ενώ έχει συγγράψει σειρά άρθρων και μονογραφιών σχετικά με την καινοτομία και τα δικαιώματα πνευματικής ιδιοκτησίας. Το 2006 ίδρυσε το Knowledge Ecology International\, συνεχίζοντας μέσω αυτού τη δουλειά που έκανε μέσω του Center for Study of Responsive Law and Essential Information\, όπου εργαζόταν από το 1990-2006\, ενώ έχει επίσης διατελέσει Senior Economist στην Frank Russell Company\, λέκτορας στο Πανεπιστήμιο Rutgers και ερευνητής στα διεθνή οικονομικά στο Πανεπιστήμιο Princeton. Βραβεία: MacArthur Award for Creative and Effective Institutions (2006)\, Public Knowledge IP3 award (2007)\, EFF Pioneer Award (2013)\, Joe A. Callaway Award for Civic Courage (2015).
URL:https://poulantzas.gr/event/emvolia-anisotites-patentes-i-anagki-mias-pagkosmias-kai-dikaiis-rythmisis/
ATTACH;FMTTYPE=:
END:VEVENT
END:VCALENDAR