BEGIN:VCALENDAR
VERSION:2.0
PRODID:-//Ινστιτούτο Νίκος Πουλαντζάς - ECPv6.15.4//NONSGML v1.0//EN
CALSCALE:GREGORIAN
METHOD:PUBLISH
X-WR-CALNAME:Ινστιτούτο Νίκος Πουλαντζάς
X-ORIGINAL-URL:https://poulantzas.gr
X-WR-CALDESC:Events for Ινστιτούτο Νίκος Πουλαντζάς
REFRESH-INTERVAL;VALUE=DURATION:PT1H
X-Robots-Tag:noindex
X-PUBLISHED-TTL:PT1H
BEGIN:VTIMEZONE
TZID:Europe/Athens
BEGIN:DAYLIGHT
TZOFFSETFROM:+0200
TZOFFSETTO:+0300
TZNAME:EEST
DTSTART:20230326T010000
END:DAYLIGHT
BEGIN:STANDARD
TZOFFSETFROM:+0300
TZOFFSETTO:+0200
TZNAME:EET
DTSTART:20231029T010000
END:STANDARD
END:VTIMEZONE
BEGIN:VEVENT
DTSTART;TZID=Europe/Athens:20230210T180000
DTEND;TZID=Europe/Athens:20230210T200000
DTSTAMP:20260422T131105
CREATED:20230201T135119Z
LAST-MODIFIED:20250908T120903Z
UID:7749-1676052000-1676059200@poulantzas.gr
SUMMARY:Η πολιτική ως φιλοσοφία. Η συνάντηση αριστερής σκέψης και πρακτικής μέσα από το έργο του Αριστείδη Μπαλτά.
DESCRIPTION:Το New York University σε συνεργασία με το Ινστιτούτο Νίκος Πουλαντζάς διοργανώνουν εκδήλωση με θέμα Η πολιτική ως φιλοσοφία. Η συνάντηση αριστερής σκέψης και πρακτικής μέσα από το έργο του Αριστείδη Μπαλτά\, αφιερωμένη στα 80 χρόνια από τη γέννησή του\, την Παρασκευή 10 Φεβρουαρίου 2023\, στις 6.00 μ.μ. στο Αμφιθέατρο “Άλκης Αργυριάδης” στα Προπύλαια του Πανεπιστημίου Αθηνών (Πανεπιστημίου 30). \nΓια τον Αριστείδη Μπαλτά και το έργο του θα μιλήσουν οι Tommaso Fattori\, συνήγορος των Κοινών\, Ιταλία\, Harris Gruman\, συνδικαλιστής\, ΗΠΑ και Lidia Santarelli\, ιστορικός\, ΗΠΑ\, ενώ παρέμβαση θα πραγματοποιήσει και ο ίδιος. Εκ μέρους του Ινστιτούτου Νίκος Πουλαντζάς\, του οποίου ο Αριστείδης Μπαλτάς διετέλεσε πρόεδρος και παραμένει μέλος του Διοικητικού Συμβουλίου\, θα προλογίσει ο Γεράσιμος Κουζέλης\, ομότιμος καθηγητής του ΕΚΠΑ και μέλος του ΔΣ του ΙΝΠ.
URL:https://poulantzas.gr/event/i-politiki-os-filosofia-i-synantisi-aristeris-skepsis-kai-praktikis-mesa-apo-to-ergo-tou-aristeidi-balta/
ATTACH;FMTTYPE=image/jpeg:https://poulantzas.gr/wp-content/uploads/2023/02/NYU-Posters-1.jpg
END:VEVENT
END:VCALENDAR